
BEGIN:VCALENDAR
VERSION:2.0
PRODID:-//TreeRush Adventures - ECPv6.6.0.1//NONSGML v1.0//EN
CALSCALE:GREGORIAN
METHOD:PUBLISH
X-WR-CALNAME:TreeRush Adventures
X-ORIGINAL-URL:https://treerush.com
X-WR-CALDESC:Events for TreeRush Adventures
REFRESH-INTERVAL;VALUE=DURATION:PT1H
X-Robots-Tag:noindex
X-PUBLISHED-TTL:PT1H
BEGIN:VTIMEZONE
TZID:America/Los_Angeles
BEGIN:DAYLIGHT
TZOFFSETFROM:-0800
TZOFFSETTO:-0700
TZNAME:PDT
DTSTART:20230312T100000
END:DAYLIGHT
BEGIN:STANDARD
TZOFFSETFROM:-0700
TZOFFSETTO:-0800
TZNAME:PST
DTSTART:20231105T090000
END:STANDARD
END:VTIMEZONE
BEGIN:VEVENT
DTSTART;TZID=America/Los_Angeles:20230325T100000
DTEND;TZID=America/Los_Angeles:20230326T180000
DTSTAMP:20260425T193016
CREATED:20220526T112535Z
LAST-MODIFIED:20230323T070111Z
UID:5139-1679738400-1679853600@treerush.com
SUMMARY:OPEN 10am-6pm
DESCRIPTION:The Park is open from 10 AM – 6 PM! \nLast Ticket Sold at 3pm \nClick HERE to see pricing\, details\, and availability!
URL:https://treerush.com/calendar/hours-of-operation-102/
CATEGORIES:OPEN HOURS
END:VEVENT
BEGIN:VEVENT
DTSTART;TZID=America/Los_Angeles:20230401T100000
DTEND;TZID=America/Los_Angeles:20230401T180000
DTSTAMP:20260425T193016
CREATED:20230320T172135Z
LAST-MODIFIED:20230402T220320Z
UID:5150-1680343200-1680372000@treerush.com
SUMMARY:OPEN 10am-6pm
DESCRIPTION:The Park is open from 10 AM – 6 PM! \nLast Ticket Sold at 3pm \nClick HERE to see pricing\, details\, and availability!
URL:https://treerush.com/calendar/open-copy/
CATEGORIES:OPEN HOURS
ATTACH;FMTTYPE=image/jpeg:https://treerush.com/wp-content/uploads/2023/03/Drone-Image-scaled.jpg
END:VEVENT
BEGIN:VEVENT
DTSTART;TZID=America/Los_Angeles:20230402T100000
DTEND;TZID=America/Los_Angeles:20230402T180000
DTSTAMP:20260425T193016
CREATED:20230320T172135Z
LAST-MODIFIED:20230402T220430Z
UID:5390-1680429600-1680458400@treerush.com
SUMMARY:OPEN 10am-6pm
DESCRIPTION:The Park is open from 10 AM – 6 PM! \nLast Ticket Sold at 3pm \nClick HERE to see pricing\, details\, and availability!
URL:https://treerush.com/calendar/open-10am-6pm/
CATEGORIES:OPEN HOURS
ATTACH;FMTTYPE=image/jpeg:https://treerush.com/wp-content/uploads/2023/03/Drone-Image-scaled.jpg
END:VEVENT
BEGIN:VEVENT
DTSTART;TZID=America/Los_Angeles:20230407T100000
DTEND;TZID=America/Los_Angeles:20230407T180000
DTSTAMP:20260425T193017
CREATED:20230320T172135Z
LAST-MODIFIED:20230402T220455Z
UID:5392-1680861600-1680890400@treerush.com
SUMMARY:OPEN 10am-6pm
DESCRIPTION:The Park is open from 10 AM – 6 PM! \nLast Ticket Sold at 3pm \nClick HERE to see pricing\, details\, and availability!
URL:https://treerush.com/calendar/open-10am-6pm-2/
CATEGORIES:OPEN HOURS
ATTACH;FMTTYPE=image/jpeg:https://treerush.com/wp-content/uploads/2023/03/Drone-Image-scaled.jpg
END:VEVENT
BEGIN:VEVENT
DTSTART;TZID=America/Los_Angeles:20230408T100000
DTEND;TZID=America/Los_Angeles:20230408T180000
DTSTAMP:20260425T193017
CREATED:20230320T172135Z
LAST-MODIFIED:20230402T220511Z
UID:5394-1680948000-1680976800@treerush.com
SUMMARY:OPEN 10am-6pm
DESCRIPTION:The Park is open from 10 AM – 6 PM! \nLast Ticket Sold at 3pm \nClick HERE to see pricing\, details\, and availability!
URL:https://treerush.com/calendar/open-10am-6pm-3/
CATEGORIES:OPEN HOURS
ATTACH;FMTTYPE=image/jpeg:https://treerush.com/wp-content/uploads/2023/03/Drone-Image-scaled.jpg
END:VEVENT
BEGIN:VEVENT
DTSTART;TZID=America/Los_Angeles:20230409T100000
DTEND;TZID=America/Los_Angeles:20230409T180000
DTSTAMP:20260425T193017
CREATED:20230320T172135Z
LAST-MODIFIED:20230402T220527Z
UID:5396-1681034400-1681063200@treerush.com
SUMMARY:OPEN 10am-6pm
DESCRIPTION:The Park is open from 10 AM – 6 PM! \nLast Ticket Sold at 3pm \nClick HERE to see pricing\, details\, and availability!
URL:https://treerush.com/calendar/open-10am-6pm-4/
CATEGORIES:OPEN HOURS
ATTACH;FMTTYPE=image/jpeg:https://treerush.com/wp-content/uploads/2023/03/Drone-Image-scaled.jpg
END:VEVENT
BEGIN:VEVENT
DTSTART;TZID=America/Los_Angeles:20230409T100000
DTEND;TZID=America/Los_Angeles:20230409T180000
DTSTAMP:20260425T193017
CREATED:20230402T224512Z
LAST-MODIFIED:20230402T225547Z
UID:5478-1681034400-1681063200@treerush.com
SUMMARY:OPEN EASTER
DESCRIPTION:We are OPEN on Easter! \n10am-6pm  (Last Ticket Sold 3:00pm) \nClimb\, Zip\, & Hop Up in the TREES
URL:https://treerush.com/calendar/open-easter/
CATEGORIES:Special Event
ATTACH;FMTTYPE=image/jpeg:https://treerush.com/wp-content/uploads/2023/04/treerush7738-scaled.jpg
END:VEVENT
BEGIN:VEVENT
DTSTART;TZID=America/Los_Angeles:20230414T100000
DTEND;TZID=America/Los_Angeles:20230414T180000
DTSTAMP:20260425T193017
CREATED:20230320T172135Z
LAST-MODIFIED:20230402T220611Z
UID:5398-1681466400-1681495200@treerush.com
SUMMARY:OPEN 10am-6pm
DESCRIPTION:The Park is open from 10 AM – 6 PM! \nLast Ticket Sold at 3pm \nClick HERE to see pricing\, details\, and availability!
URL:https://treerush.com/calendar/open-10am-6pm-5/
CATEGORIES:OPEN HOURS
ATTACH;FMTTYPE=image/jpeg:https://treerush.com/wp-content/uploads/2023/03/Drone-Image-scaled.jpg
END:VEVENT
BEGIN:VEVENT
DTSTART;TZID=America/Los_Angeles:20230415T100000
DTEND;TZID=America/Los_Angeles:20230415T180000
DTSTAMP:20260425T193017
CREATED:20230320T172135Z
LAST-MODIFIED:20230402T220623Z
UID:5400-1681552800-1681581600@treerush.com
SUMMARY:OPEN 10am-6pm
DESCRIPTION:The Park is open from 10 AM – 6 PM! \nLast Ticket Sold at 3pm \nClick HERE to see pricing\, details\, and availability!
URL:https://treerush.com/calendar/open-10am-6pm-6/
CATEGORIES:OPEN HOURS
ATTACH;FMTTYPE=image/jpeg:https://treerush.com/wp-content/uploads/2023/03/Drone-Image-scaled.jpg
END:VEVENT
BEGIN:VEVENT
DTSTART;TZID=America/Los_Angeles:20230416T100000
DTEND;TZID=America/Los_Angeles:20230416T180000
DTSTAMP:20260425T193017
CREATED:20230320T172135Z
LAST-MODIFIED:20230402T220636Z
UID:5402-1681639200-1681668000@treerush.com
SUMMARY:OPEN 10am-6pm
DESCRIPTION:The Park is open from 10 AM – 6 PM! \nLast Ticket Sold at 3pm \nClick HERE to see pricing\, details\, and availability!
URL:https://treerush.com/calendar/open-10am-6pm-7/
CATEGORIES:OPEN HOURS
ATTACH;FMTTYPE=image/jpeg:https://treerush.com/wp-content/uploads/2023/03/Drone-Image-scaled.jpg
END:VEVENT
BEGIN:VEVENT
DTSTART;TZID=America/Los_Angeles:20230421T100000
DTEND;TZID=America/Los_Angeles:20230421T180000
DTSTAMP:20260425T193017
CREATED:20230320T172135Z
LAST-MODIFIED:20230402T220649Z
UID:5404-1682071200-1682100000@treerush.com
SUMMARY:OPEN 10am-6pm
DESCRIPTION:The Park is open from 10 AM – 6 PM! \nLast Ticket Sold at 3pm \nClick HERE to see pricing\, details\, and availability!
URL:https://treerush.com/calendar/open-10am-6pm-8/
CATEGORIES:OPEN HOURS
ATTACH;FMTTYPE=image/jpeg:https://treerush.com/wp-content/uploads/2023/03/Drone-Image-scaled.jpg
END:VEVENT
BEGIN:VEVENT
DTSTART;TZID=America/Los_Angeles:20230422T100000
DTEND;TZID=America/Los_Angeles:20230422T180000
DTSTAMP:20260425T193017
CREATED:20230320T172135Z
LAST-MODIFIED:20230402T220701Z
UID:5406-1682157600-1682186400@treerush.com
SUMMARY:OPEN 10am-6pm
DESCRIPTION:The Park is open from 10 AM – 6 PM! \nLast Ticket Sold at 3pm \nClick HERE to see pricing\, details\, and availability!
URL:https://treerush.com/calendar/open-10am-6pm-9/
CATEGORIES:OPEN HOURS
ATTACH;FMTTYPE=image/jpeg:https://treerush.com/wp-content/uploads/2023/03/Drone-Image-scaled.jpg
END:VEVENT
BEGIN:VEVENT
DTSTART;TZID=America/Los_Angeles:20230423T100000
DTEND;TZID=America/Los_Angeles:20230423T180000
DTSTAMP:20260425T193017
CREATED:20230320T172135Z
LAST-MODIFIED:20230402T220713Z
UID:5408-1682244000-1682272800@treerush.com
SUMMARY:OPEN 10am-6pm
DESCRIPTION:The Park is open from 10 AM – 6 PM! \nLast Ticket Sold at 3pm \nClick HERE to see pricing\, details\, and availability!
URL:https://treerush.com/calendar/open-10am-6pm-10/
CATEGORIES:OPEN HOURS
ATTACH;FMTTYPE=image/jpeg:https://treerush.com/wp-content/uploads/2023/03/Drone-Image-scaled.jpg
END:VEVENT
BEGIN:VEVENT
DTSTART;TZID=America/Los_Angeles:20230428T100000
DTEND;TZID=America/Los_Angeles:20230428T180000
DTSTAMP:20260425T193017
CREATED:20230320T172135Z
LAST-MODIFIED:20230402T220726Z
UID:5410-1682676000-1682704800@treerush.com
SUMMARY:OPEN 10am-6pm
DESCRIPTION:The Park is open from 10 AM – 6 PM! \nLast Ticket Sold at 3pm \nClick HERE to see pricing\, details\, and availability!
URL:https://treerush.com/calendar/open-10am-6pm-11/
CATEGORIES:OPEN HOURS
ATTACH;FMTTYPE=image/jpeg:https://treerush.com/wp-content/uploads/2023/03/Drone-Image-scaled.jpg
END:VEVENT
BEGIN:VEVENT
DTSTART;TZID=America/Los_Angeles:20230429T100000
DTEND;TZID=America/Los_Angeles:20230429T180000
DTSTAMP:20260425T193017
CREATED:20230320T172135Z
LAST-MODIFIED:20230402T220737Z
UID:5412-1682762400-1682791200@treerush.com
SUMMARY:OPEN 10am-6pm
DESCRIPTION:The Park is open from 10 AM – 6 PM! \nLast Ticket Sold at 3pm \nClick HERE to see pricing\, details\, and availability!
URL:https://treerush.com/calendar/open-10am-6pm-12/
CATEGORIES:OPEN HOURS
ATTACH;FMTTYPE=image/jpeg:https://treerush.com/wp-content/uploads/2023/03/Drone-Image-scaled.jpg
END:VEVENT
BEGIN:VEVENT
DTSTART;TZID=America/Los_Angeles:20230430T100000
DTEND;TZID=America/Los_Angeles:20230430T180000
DTSTAMP:20260425T193017
CREATED:20230320T172135Z
LAST-MODIFIED:20230402T220749Z
UID:5414-1682848800-1682877600@treerush.com
SUMMARY:OPEN 10am-6pm
DESCRIPTION:The Park is open from 10 AM – 6 PM! \nLast Ticket Sold at 3pm \nClick HERE to see pricing\, details\, and availability!
URL:https://treerush.com/calendar/open-10am-6pm-13/
CATEGORIES:OPEN HOURS
ATTACH;FMTTYPE=image/jpeg:https://treerush.com/wp-content/uploads/2023/03/Drone-Image-scaled.jpg
END:VEVENT
BEGIN:VEVENT
DTSTART;TZID=America/Los_Angeles:20230504T100000
DTEND;TZID=America/Los_Angeles:20230504T180000
DTSTAMP:20260425T193017
CREATED:20230320T172135Z
LAST-MODIFIED:20230402T220832Z
UID:5416-1683194400-1683223200@treerush.com
SUMMARY:OPEN 10am-6pm
DESCRIPTION:The Park is open from 10 AM – 6 PM! \nLast Ticket Sold at 3pm \nClick HERE to see pricing\, details\, and availability!
URL:https://treerush.com/calendar/open-10am-6pm-14/
CATEGORIES:OPEN HOURS
ATTACH;FMTTYPE=image/jpeg:https://treerush.com/wp-content/uploads/2023/03/Drone-Image-scaled.jpg
END:VEVENT
BEGIN:VEVENT
DTSTART;TZID=America/Los_Angeles:20230505T100000
DTEND;TZID=America/Los_Angeles:20230505T180000
DTSTAMP:20260425T193017
CREATED:20230320T172135Z
LAST-MODIFIED:20230402T220847Z
UID:5418-1683280800-1683309600@treerush.com
SUMMARY:OPEN 10am-6pm
DESCRIPTION:The Park is open from 10 AM – 6 PM! \nLast Ticket Sold at 3pm \nClick HERE to see pricing\, details\, and availability!
URL:https://treerush.com/calendar/open-10am-6pm-15/
CATEGORIES:OPEN HOURS
ATTACH;FMTTYPE=image/jpeg:https://treerush.com/wp-content/uploads/2023/03/Drone-Image-scaled.jpg
END:VEVENT
BEGIN:VEVENT
DTSTART;TZID=America/Los_Angeles:20230506T100000
DTEND;TZID=America/Los_Angeles:20230506T180000
DTSTAMP:20260425T193017
CREATED:20230320T172135Z
LAST-MODIFIED:20230402T220859Z
UID:5420-1683367200-1683396000@treerush.com
SUMMARY:OPEN 10am-6pm
DESCRIPTION:The Park is open from 10 AM – 6 PM! \nLast Ticket Sold at 3pm \nClick HERE to see pricing\, details\, and availability!
URL:https://treerush.com/calendar/open-10am-6pm-16/
CATEGORIES:OPEN HOURS
ATTACH;FMTTYPE=image/jpeg:https://treerush.com/wp-content/uploads/2023/03/Drone-Image-scaled.jpg
END:VEVENT
BEGIN:VEVENT
DTSTART;TZID=America/Los_Angeles:20230507T100000
DTEND;TZID=America/Los_Angeles:20230507T180000
DTSTAMP:20260425T193017
CREATED:20230320T172135Z
LAST-MODIFIED:20230402T220910Z
UID:5422-1683453600-1683482400@treerush.com
SUMMARY:OPEN 10am-6pm
DESCRIPTION:The Park is open from 10 AM – 6 PM! \nLast Ticket Sold at 3pm \nClick HERE to see pricing\, details\, and availability!
URL:https://treerush.com/calendar/open-10am-6pm-17/
CATEGORIES:OPEN HOURS
ATTACH;FMTTYPE=image/jpeg:https://treerush.com/wp-content/uploads/2023/03/Drone-Image-scaled.jpg
END:VEVENT
BEGIN:VEVENT
DTSTART;TZID=America/Los_Angeles:20230511T100000
DTEND;TZID=America/Los_Angeles:20230511T180000
DTSTAMP:20260425T193017
CREATED:20230320T172135Z
LAST-MODIFIED:20230402T220922Z
UID:5424-1683799200-1683828000@treerush.com
SUMMARY:OPEN 10am-6pm
DESCRIPTION:The Park is open from 10 AM – 6 PM! \nLast Ticket Sold at 3pm \nClick HERE to see pricing\, details\, and availability!
URL:https://treerush.com/calendar/open-10am-6pm-18/
CATEGORIES:OPEN HOURS
ATTACH;FMTTYPE=image/jpeg:https://treerush.com/wp-content/uploads/2023/03/Drone-Image-scaled.jpg
END:VEVENT
BEGIN:VEVENT
DTSTART;TZID=America/Los_Angeles:20230512T100000
DTEND;TZID=America/Los_Angeles:20230512T180000
DTSTAMP:20260425T193017
CREATED:20230320T172135Z
LAST-MODIFIED:20230402T220934Z
UID:5426-1683885600-1683914400@treerush.com
SUMMARY:OPEN 10am-6pm
DESCRIPTION:The Park is open from 10 AM – 6 PM! \nLast Ticket Sold at 3pm \nClick HERE to see pricing\, details\, and availability!
URL:https://treerush.com/calendar/open-10am-6pm-19/
CATEGORIES:OPEN HOURS
ATTACH;FMTTYPE=image/jpeg:https://treerush.com/wp-content/uploads/2023/03/Drone-Image-scaled.jpg
END:VEVENT
BEGIN:VEVENT
DTSTART;TZID=America/Los_Angeles:20230513T100000
DTEND;TZID=America/Los_Angeles:20230513T180000
DTSTAMP:20260425T193017
CREATED:20230320T172135Z
LAST-MODIFIED:20230402T220945Z
UID:5428-1683972000-1684000800@treerush.com
SUMMARY:OPEN 10am-6pm
DESCRIPTION:The Park is open from 10 AM – 6 PM! \nLast Ticket Sold at 3pm \nClick HERE to see pricing\, details\, and availability!
URL:https://treerush.com/calendar/open-10am-6pm-20/
CATEGORIES:OPEN HOURS
ATTACH;FMTTYPE=image/jpeg:https://treerush.com/wp-content/uploads/2023/03/Drone-Image-scaled.jpg
END:VEVENT
BEGIN:VEVENT
DTSTART;TZID=America/Los_Angeles:20230514T100000
DTEND;TZID=America/Los_Angeles:20230514T180000
DTSTAMP:20260425T193017
CREATED:20230320T172135Z
LAST-MODIFIED:20230402T220957Z
UID:5430-1684058400-1684087200@treerush.com
SUMMARY:OPEN 10am-6pm
DESCRIPTION:The Park is open from 10 AM – 6 PM! \nLast Ticket Sold at 3pm \nClick HERE to see pricing\, details\, and availability!
URL:https://treerush.com/calendar/open-10am-6pm-21/
CATEGORIES:OPEN HOURS
ATTACH;FMTTYPE=image/jpeg:https://treerush.com/wp-content/uploads/2023/03/Drone-Image-scaled.jpg
END:VEVENT
BEGIN:VEVENT
DTSTART;TZID=America/Los_Angeles:20230518T100000
DTEND;TZID=America/Los_Angeles:20230518T180000
DTSTAMP:20260425T193017
CREATED:20230320T172135Z
LAST-MODIFIED:20230402T221021Z
UID:5432-1684404000-1684432800@treerush.com
SUMMARY:OPEN 10am-6pm
DESCRIPTION:The Park is open from 10 AM – 6 PM! \nLast Ticket Sold at 3pm \nClick HERE to see pricing\, details\, and availability!
URL:https://treerush.com/calendar/open-10am-6pm-22/
CATEGORIES:OPEN HOURS
ATTACH;FMTTYPE=image/jpeg:https://treerush.com/wp-content/uploads/2023/03/Drone-Image-scaled.jpg
END:VEVENT
BEGIN:VEVENT
DTSTART;TZID=America/Los_Angeles:20230519T100000
DTEND;TZID=America/Los_Angeles:20230519T180000
DTSTAMP:20260425T193017
CREATED:20230320T172135Z
LAST-MODIFIED:20230402T221032Z
UID:5434-1684490400-1684519200@treerush.com
SUMMARY:OPEN 10am-6pm
DESCRIPTION:The Park is open from 10 AM – 6 PM! \nLast Ticket Sold at 3pm \nClick HERE to see pricing\, details\, and availability!
URL:https://treerush.com/calendar/open-10am-6pm-23/
CATEGORIES:OPEN HOURS
ATTACH;FMTTYPE=image/jpeg:https://treerush.com/wp-content/uploads/2023/03/Drone-Image-scaled.jpg
END:VEVENT
BEGIN:VEVENT
DTSTART;TZID=America/Los_Angeles:20230520T100000
DTEND;TZID=America/Los_Angeles:20230520T180000
DTSTAMP:20260425T193017
CREATED:20230320T172135Z
LAST-MODIFIED:20230402T221044Z
UID:5436-1684576800-1684605600@treerush.com
SUMMARY:OPEN 10am-6pm
DESCRIPTION:The Park is open from 10 AM – 6 PM! \nLast Ticket Sold at 3pm \nClick HERE to see pricing\, details\, and availability!
URL:https://treerush.com/calendar/open-10am-6pm-24/
CATEGORIES:OPEN HOURS
ATTACH;FMTTYPE=image/jpeg:https://treerush.com/wp-content/uploads/2023/03/Drone-Image-scaled.jpg
END:VEVENT
BEGIN:VEVENT
DTSTART;TZID=America/Los_Angeles:20230521T100000
DTEND;TZID=America/Los_Angeles:20230521T180000
DTSTAMP:20260425T193017
CREATED:20230320T172135Z
LAST-MODIFIED:20230526T182902Z
UID:5792-1684663200-1684692000@treerush.com
SUMMARY:OPEN 10am-6pm
DESCRIPTION:The Park is open from 10 AM – 6 PM! \nLast Ticket Sold at 3pm \nClick HERE to see pricing\, details\, and availability!
URL:https://treerush.com/calendar/open-10am-6pm-33/
CATEGORIES:OPEN HOURS
ATTACH;FMTTYPE=image/jpeg:https://treerush.com/wp-content/uploads/2023/03/Drone-Image-scaled.jpg
END:VEVENT
BEGIN:VEVENT
DTSTART;TZID=America/Los_Angeles:20230525T100000
DTEND;TZID=America/Los_Angeles:20230525T180000
DTSTAMP:20260425T193017
CREATED:20230320T172135Z
LAST-MODIFIED:20230402T221115Z
UID:5438-1685008800-1685037600@treerush.com
SUMMARY:OPEN 10am-6pm
DESCRIPTION:The Park is open from 10 AM – 6 PM! \nLast Ticket Sold at 3pm \nClick HERE to see pricing\, details\, and availability!
URL:https://treerush.com/calendar/open-10am-6pm-25/
CATEGORIES:OPEN HOURS
ATTACH;FMTTYPE=image/jpeg:https://treerush.com/wp-content/uploads/2023/03/Drone-Image-scaled.jpg
END:VEVENT
BEGIN:VEVENT
DTSTART;TZID=America/Los_Angeles:20230526T090000
DTEND;TZID=America/Los_Angeles:20230526T220000
DTSTAMP:20260425T193017
CREATED:20230320T172135Z
LAST-MODIFIED:20230402T222617Z
UID:5440-1685091600-1685138400@treerush.com
SUMMARY:OPEN 9am-10pm
DESCRIPTION:The Park is open from 9 AM – 10 PM! \nLast Ticket Sold at 7 PM \nClick HERE to see pricing\, details\, and availability!
URL:https://treerush.com/calendar/open-10am-6pm-26/
CATEGORIES:OPEN HOURS
ATTACH;FMTTYPE=image/jpeg:https://treerush.com/wp-content/uploads/2023/03/Drone-Image-scaled.jpg
END:VEVENT
END:VCALENDAR