
BEGIN:VCALENDAR
VERSION:2.0
PRODID:-//TreeRush Adventures - ECPv6.6.0.1//NONSGML v1.0//EN
CALSCALE:GREGORIAN
METHOD:PUBLISH
X-WR-CALNAME:TreeRush Adventures
X-ORIGINAL-URL:https://treerush.com
X-WR-CALDESC:Events for TreeRush Adventures
REFRESH-INTERVAL;VALUE=DURATION:PT1H
X-Robots-Tag:noindex
X-PUBLISHED-TTL:PT1H
BEGIN:VTIMEZONE
TZID:America/Los_Angeles
BEGIN:DAYLIGHT
TZOFFSETFROM:-0800
TZOFFSETTO:-0700
TZNAME:PDT
DTSTART:20230312T100000
END:DAYLIGHT
BEGIN:STANDARD
TZOFFSETFROM:-0700
TZOFFSETTO:-0800
TZNAME:PST
DTSTART:20231105T090000
END:STANDARD
END:VTIMEZONE
BEGIN:VEVENT
DTSTART;TZID=America/Los_Angeles:20230713T193000
DTEND;TZID=America/Los_Angeles:20230713T220000
DTSTAMP:20260421T171548
CREATED:20230704T191719Z
LAST-MODIFIED:20230704T192058Z
UID:5832-1689276600-1689285600@treerush.com
SUMMARY:Try-It Tickets
DESCRIPTION:Try-It Tickets (Save Big $$$$) \nLast Climb Times of Select Weekdays / 2 Hour Climb Time / Lights turn ON At Dusk Each Night / Some High Courses Close prior to Our Posted Closing Time \nGreat Date Night! \nTry-It Tickets Sold 7:30pm-8:00pm \nClick HERE to see pricing\, details\, and availability!
URL:https://treerush.com/calendar/try-it-tickets-25/
CATEGORIES:Try-It Tickets
ATTACH;FMTTYPE=image/jpeg:https://treerush.com/wp-content/uploads/2023/04/treerush7738-scaled.jpg
END:VEVENT
BEGIN:VEVENT
DTSTART;TZID=America/Los_Angeles:20230714T090000
DTEND;TZID=America/Los_Angeles:20230714T220000
DTSTAMP:20260421T171548
CREATED:20230320T172135Z
LAST-MODIFIED:20230704T192958Z
UID:5886-1689325200-1689372000@treerush.com
SUMMARY:OPEN 9am-10pm
DESCRIPTION:The Park is open from 9 AM – 10 PM! \nClick HERE to see pricing\, details\, and availability!
URL:https://treerush.com/calendar/open-9am-10pm-43/
CATEGORIES:OPEN HOURS
ATTACH;FMTTYPE=image/jpeg:https://treerush.com/wp-content/uploads/2023/03/Drone-Image-scaled.jpg
END:VEVENT
BEGIN:VEVENT
DTSTART;TZID=America/Los_Angeles:20230714T180000
DTEND;TZID=America/Los_Angeles:20230714T220000
DTSTAMP:20260421T171548
CREATED:20230402T222531Z
LAST-MODIFIED:20230704T194123Z
UID:5946-1689357600-1689372000@treerush.com
SUMMARY:GLOW NIGHT
DESCRIPTION:Zip & Climb Party in the Trees\nTickets Sold 6:00pm – 7:15pm \nDJ / FREE Glow Souvenirs / 2 to 3 Hour Experience / Ages 7 & UP \nClick HERE for pricing\, details\, & Availability!
URL:https://treerush.com/calendar/glow-night-14/
CATEGORIES:GLOW
ATTACH;FMTTYPE=image/jpeg:https://treerush.com/wp-content/uploads/2023/04/Copy-of-treerush7856-scaled.jpg
END:VEVENT
BEGIN:VEVENT
DTSTART;TZID=America/Los_Angeles:20230715T090000
DTEND;TZID=America/Los_Angeles:20230715T220000
DTSTAMP:20260421T171548
CREATED:20230320T172135Z
LAST-MODIFIED:20230704T193011Z
UID:5888-1689411600-1689458400@treerush.com
SUMMARY:OPEN 9am-10pm
DESCRIPTION:The Park is open from 9 AM – 10 PM! \nClick HERE to see pricing\, details\, and availability!
URL:https://treerush.com/calendar/open-9am-10pm-44/
CATEGORIES:OPEN HOURS
ATTACH;FMTTYPE=image/jpeg:https://treerush.com/wp-content/uploads/2023/03/Drone-Image-scaled.jpg
END:VEVENT
BEGIN:VEVENT
DTSTART;TZID=America/Los_Angeles:20230715T180000
DTEND;TZID=America/Los_Angeles:20230715T220000
DTSTAMP:20260421T171548
CREATED:20230402T222531Z
LAST-MODIFIED:20230704T194137Z
UID:5948-1689444000-1689458400@treerush.com
SUMMARY:GLOW NIGHT
DESCRIPTION:Zip & Climb Party in the Trees\nTickets Sold 6:00pm – 7:15pm \nDJ / FREE Glow Souvenirs / 2 to 3 Hour Experience / Ages 7 & UP \nClick HERE for pricing\, details\, & Availability!
URL:https://treerush.com/calendar/glow-night-15/
CATEGORIES:GLOW
ATTACH;FMTTYPE=image/jpeg:https://treerush.com/wp-content/uploads/2023/04/Copy-of-treerush7856-scaled.jpg
END:VEVENT
BEGIN:VEVENT
DTSTART;TZID=America/Los_Angeles:20230716T090000
DTEND;TZID=America/Los_Angeles:20230716T220000
DTSTAMP:20260421T171548
CREATED:20230320T172135Z
LAST-MODIFIED:20230704T193026Z
UID:5890-1689498000-1689544800@treerush.com
SUMMARY:OPEN 9am-10pm
DESCRIPTION:The Park is open from 9 AM – 10 PM! \nClick HERE to see pricing\, details\, and availability!
URL:https://treerush.com/calendar/open-9am-10pm-45/
CATEGORIES:OPEN HOURS
ATTACH;FMTTYPE=image/jpeg:https://treerush.com/wp-content/uploads/2023/03/Drone-Image-scaled.jpg
END:VEVENT
BEGIN:VEVENT
DTSTART;TZID=America/Los_Angeles:20230717T090000
DTEND;TZID=America/Los_Angeles:20230717T220000
DTSTAMP:20260421T171548
CREATED:20230320T172135Z
LAST-MODIFIED:20230704T193039Z
UID:5892-1689584400-1689631200@treerush.com
SUMMARY:OPEN 9am-10pm
DESCRIPTION:The Park is open from 9 AM – 10 PM! \nClick HERE to see pricing\, details\, and availability!
URL:https://treerush.com/calendar/open-9am-10pm-46/
CATEGORIES:OPEN HOURS
ATTACH;FMTTYPE=image/jpeg:https://treerush.com/wp-content/uploads/2023/03/Drone-Image-scaled.jpg
END:VEVENT
BEGIN:VEVENT
DTSTART;TZID=America/Los_Angeles:20230717T193000
DTEND;TZID=America/Los_Angeles:20230717T220000
DTSTAMP:20260421T171548
CREATED:20230704T191719Z
LAST-MODIFIED:20230704T192114Z
UID:5834-1689622200-1689631200@treerush.com
SUMMARY:Try-It Tickets
DESCRIPTION:Try-It Tickets (Save Big $$$$) \nLast Climb Times of Select Weekdays / 2 Hour Climb Time / Lights turn ON At Dusk Each Night / Some High Courses Close prior to Our Posted Closing Time \nGreat Date Night! \nTry-It Tickets Sold 7:30pm-8:00pm \nClick HERE to see pricing\, details\, and availability!
URL:https://treerush.com/calendar/try-it-tickets-26/
CATEGORIES:Try-It Tickets
ATTACH;FMTTYPE=image/jpeg:https://treerush.com/wp-content/uploads/2023/04/treerush7738-scaled.jpg
END:VEVENT
BEGIN:VEVENT
DTSTART;TZID=America/Los_Angeles:20230718T090000
DTEND;TZID=America/Los_Angeles:20230718T220000
DTSTAMP:20260421T171548
CREATED:20230320T172135Z
LAST-MODIFIED:20230704T193052Z
UID:5894-1689670800-1689717600@treerush.com
SUMMARY:OPEN 9am-10pm
DESCRIPTION:The Park is open from 9 AM – 10 PM! \nClick HERE to see pricing\, details\, and availability!
URL:https://treerush.com/calendar/open-9am-10pm-47/
CATEGORIES:OPEN HOURS
ATTACH;FMTTYPE=image/jpeg:https://treerush.com/wp-content/uploads/2023/03/Drone-Image-scaled.jpg
END:VEVENT
BEGIN:VEVENT
DTSTART;TZID=America/Los_Angeles:20230718T193000
DTEND;TZID=America/Los_Angeles:20230718T220000
DTSTAMP:20260421T171548
CREATED:20230704T191719Z
LAST-MODIFIED:20230704T192128Z
UID:5836-1689708600-1689717600@treerush.com
SUMMARY:Try-It Tickets
DESCRIPTION:Try-It Tickets (Save Big $$$$) \nLast Climb Times of Select Weekdays / 2 Hour Climb Time / Lights turn ON At Dusk Each Night / Some High Courses Close prior to Our Posted Closing Time \nGreat Date Night! \nTry-It Tickets Sold 7:30pm-8:00pm \nClick HERE to see pricing\, details\, and availability!
URL:https://treerush.com/calendar/try-it-tickets-27/
CATEGORIES:Try-It Tickets
ATTACH;FMTTYPE=image/jpeg:https://treerush.com/wp-content/uploads/2023/04/treerush7738-scaled.jpg
END:VEVENT
BEGIN:VEVENT
DTSTART;TZID=America/Los_Angeles:20230719T090000
DTEND;TZID=America/Los_Angeles:20230719T220000
DTSTAMP:20260421T171548
CREATED:20230320T172135Z
LAST-MODIFIED:20230704T193106Z
UID:5896-1689757200-1689804000@treerush.com
SUMMARY:OPEN 9am-10pm
DESCRIPTION:The Park is open from 9 AM – 10 PM! \nClick HERE to see pricing\, details\, and availability!
URL:https://treerush.com/calendar/open-9am-10pm-48/
CATEGORIES:OPEN HOURS
ATTACH;FMTTYPE=image/jpeg:https://treerush.com/wp-content/uploads/2023/03/Drone-Image-scaled.jpg
END:VEVENT
BEGIN:VEVENT
DTSTART;TZID=America/Los_Angeles:20230719T193000
DTEND;TZID=America/Los_Angeles:20230719T220000
DTSTAMP:20260421T171548
CREATED:20230704T191719Z
LAST-MODIFIED:20230704T192142Z
UID:5838-1689795000-1689804000@treerush.com
SUMMARY:Try-It Tickets
DESCRIPTION:Try-It Tickets (Save Big $$$$) \nLast Climb Times of Select Weekdays / 2 Hour Climb Time / Lights turn ON At Dusk Each Night / Some High Courses Close prior to Our Posted Closing Time \nGreat Date Night! \nTry-It Tickets Sold 7:30pm-8:00pm \nClick HERE to see pricing\, details\, and availability!
URL:https://treerush.com/calendar/try-it-tickets-28/
CATEGORIES:Try-It Tickets
ATTACH;FMTTYPE=image/jpeg:https://treerush.com/wp-content/uploads/2023/04/treerush7738-scaled.jpg
END:VEVENT
BEGIN:VEVENT
DTSTART;TZID=America/Los_Angeles:20230720T090000
DTEND;TZID=America/Los_Angeles:20230720T220000
DTSTAMP:20260421T171548
CREATED:20230320T172135Z
LAST-MODIFIED:20230704T193122Z
UID:5898-1689843600-1689890400@treerush.com
SUMMARY:OPEN 9am-10pm
DESCRIPTION:The Park is open from 9 AM – 10 PM! \nClick HERE to see pricing\, details\, and availability!
URL:https://treerush.com/calendar/open-9am-10pm-49/
CATEGORIES:OPEN HOURS
ATTACH;FMTTYPE=image/jpeg:https://treerush.com/wp-content/uploads/2023/03/Drone-Image-scaled.jpg
END:VEVENT
BEGIN:VEVENT
DTSTART;TZID=America/Los_Angeles:20230720T193000
DTEND;TZID=America/Los_Angeles:20230720T220000
DTSTAMP:20260421T171548
CREATED:20230704T191719Z
LAST-MODIFIED:20230704T192158Z
UID:5840-1689881400-1689890400@treerush.com
SUMMARY:Try-It Tickets
DESCRIPTION:Try-It Tickets (Save Big $$$$) \nLast Climb Times of Select Weekdays / 2 Hour Climb Time / Lights turn ON At Dusk Each Night / Some High Courses Close prior to Our Posted Closing Time \nGreat Date Night! \nTry-It Tickets Sold 7:30pm-8:00pm \nClick HERE to see pricing\, details\, and availability!
URL:https://treerush.com/calendar/try-it-tickets-29/
CATEGORIES:Try-It Tickets
ATTACH;FMTTYPE=image/jpeg:https://treerush.com/wp-content/uploads/2023/04/treerush7738-scaled.jpg
END:VEVENT
BEGIN:VEVENT
DTSTART;TZID=America/Los_Angeles:20230721T090000
DTEND;TZID=America/Los_Angeles:20230721T220000
DTSTAMP:20260421T171548
CREATED:20230320T172135Z
LAST-MODIFIED:20230704T193140Z
UID:5900-1689930000-1689976800@treerush.com
SUMMARY:OPEN 9am-10pm
DESCRIPTION:The Park is open from 9 AM – 10 PM! \nClick HERE to see pricing\, details\, and availability!
URL:https://treerush.com/calendar/open-9am-10pm-50/
CATEGORIES:OPEN HOURS
ATTACH;FMTTYPE=image/jpeg:https://treerush.com/wp-content/uploads/2023/03/Drone-Image-scaled.jpg
END:VEVENT
BEGIN:VEVENT
DTSTART;TZID=America/Los_Angeles:20230721T180000
DTEND;TZID=America/Los_Angeles:20230721T220000
DTSTAMP:20260421T171548
CREATED:20230402T222531Z
LAST-MODIFIED:20230704T194154Z
UID:5950-1689962400-1689976800@treerush.com
SUMMARY:GLOW NIGHT
DESCRIPTION:Zip & Climb Party in the Trees\nTickets Sold 6:00pm – 7:15pm \nDJ / FREE Glow Souvenirs / 2 to 3 Hour Experience / Ages 7 & UP \nClick HERE for pricing\, details\, & Availability!
URL:https://treerush.com/calendar/glow-night-16/
CATEGORIES:GLOW
ATTACH;FMTTYPE=image/jpeg:https://treerush.com/wp-content/uploads/2023/04/Copy-of-treerush7856-scaled.jpg
END:VEVENT
BEGIN:VEVENT
DTSTART;TZID=America/Los_Angeles:20230722T090000
DTEND;TZID=America/Los_Angeles:20230722T220000
DTSTAMP:20260421T171548
CREATED:20230320T172135Z
LAST-MODIFIED:20230704T193155Z
UID:5902-1690016400-1690063200@treerush.com
SUMMARY:OPEN 9am-10pm
DESCRIPTION:The Park is open from 9 AM – 10 PM! \nClick HERE to see pricing\, details\, and availability!
URL:https://treerush.com/calendar/open-9am-10pm-51/
CATEGORIES:OPEN HOURS
ATTACH;FMTTYPE=image/jpeg:https://treerush.com/wp-content/uploads/2023/03/Drone-Image-scaled.jpg
END:VEVENT
BEGIN:VEVENT
DTSTART;TZID=America/Los_Angeles:20230722T180000
DTEND;TZID=America/Los_Angeles:20230722T220000
DTSTAMP:20260421T171548
CREATED:20230402T222531Z
LAST-MODIFIED:20230704T194209Z
UID:5952-1690048800-1690063200@treerush.com
SUMMARY:GLOW NIGHT
DESCRIPTION:Zip & Climb Party in the Trees\nTickets Sold 6:00pm – 7:15pm \nDJ / FREE Glow Souvenirs / 2 to 3 Hour Experience / Ages 7 & UP \nClick HERE for pricing\, details\, & Availability!
URL:https://treerush.com/calendar/glow-night-17/
CATEGORIES:GLOW
ATTACH;FMTTYPE=image/jpeg:https://treerush.com/wp-content/uploads/2023/04/Copy-of-treerush7856-scaled.jpg
END:VEVENT
BEGIN:VEVENT
DTSTART;TZID=America/Los_Angeles:20230723T090000
DTEND;TZID=America/Los_Angeles:20230723T220000
DTSTAMP:20260421T171548
CREATED:20230320T172135Z
LAST-MODIFIED:20230704T193208Z
UID:5904-1690102800-1690149600@treerush.com
SUMMARY:OPEN 9am-10pm
DESCRIPTION:The Park is open from 9 AM – 10 PM! \nClick HERE to see pricing\, details\, and availability!
URL:https://treerush.com/calendar/open-9am-10pm-52/
CATEGORIES:OPEN HOURS
ATTACH;FMTTYPE=image/jpeg:https://treerush.com/wp-content/uploads/2023/03/Drone-Image-scaled.jpg
END:VEVENT
BEGIN:VEVENT
DTSTART;TZID=America/Los_Angeles:20230724T090000
DTEND;TZID=America/Los_Angeles:20230724T220000
DTSTAMP:20260421T171548
CREATED:20230320T172135Z
LAST-MODIFIED:20230704T193223Z
UID:5906-1690189200-1690236000@treerush.com
SUMMARY:OPEN 9am-10pm
DESCRIPTION:The Park is open from 9 AM – 10 PM! \nClick HERE to see pricing\, details\, and availability!
URL:https://treerush.com/calendar/open-9am-10pm-53/
CATEGORIES:OPEN HOURS
ATTACH;FMTTYPE=image/jpeg:https://treerush.com/wp-content/uploads/2023/03/Drone-Image-scaled.jpg
END:VEVENT
BEGIN:VEVENT
DTSTART;TZID=America/Los_Angeles:20230724T193000
DTEND;TZID=America/Los_Angeles:20230724T220000
DTSTAMP:20260421T171548
CREATED:20230704T191719Z
LAST-MODIFIED:20230704T192226Z
UID:5842-1690227000-1690236000@treerush.com
SUMMARY:Try-It Tickets
DESCRIPTION:Try-It Tickets (Save Big $$$$) \nLast Climb Times of Select Weekdays / 2 Hour Climb Time / Lights turn ON At Dusk Each Night / Some High Courses Close prior to Our Posted Closing Time \nGreat Date Night! \nTry-It Tickets Sold 7:30pm-8:00pm \nClick HERE to see pricing\, details\, and availability!
URL:https://treerush.com/calendar/try-it-tickets-30/
CATEGORIES:Try-It Tickets
ATTACH;FMTTYPE=image/jpeg:https://treerush.com/wp-content/uploads/2023/04/treerush7738-scaled.jpg
END:VEVENT
BEGIN:VEVENT
DTSTART;TZID=America/Los_Angeles:20230725T090000
DTEND;TZID=America/Los_Angeles:20230725T220000
DTSTAMP:20260421T171548
CREATED:20230320T172135Z
LAST-MODIFIED:20230704T193237Z
UID:5908-1690275600-1690322400@treerush.com
SUMMARY:OPEN 9am-10pm
DESCRIPTION:The Park is open from 9 AM – 10 PM! \nClick HERE to see pricing\, details\, and availability!
URL:https://treerush.com/calendar/open-9am-10pm-54/
CATEGORIES:OPEN HOURS
ATTACH;FMTTYPE=image/jpeg:https://treerush.com/wp-content/uploads/2023/03/Drone-Image-scaled.jpg
END:VEVENT
BEGIN:VEVENT
DTSTART;TZID=America/Los_Angeles:20230725T193000
DTEND;TZID=America/Los_Angeles:20230725T220000
DTSTAMP:20260421T171548
CREATED:20230704T191719Z
LAST-MODIFIED:20230704T192241Z
UID:5844-1690313400-1690322400@treerush.com
SUMMARY:Try-It Tickets
DESCRIPTION:Try-It Tickets (Save Big $$$$) \nLast Climb Times of Select Weekdays / 2 Hour Climb Time / Lights turn ON At Dusk Each Night / Some High Courses Close prior to Our Posted Closing Time \nGreat Date Night! \nTry-It Tickets Sold 7:30pm-8:00pm \nClick HERE to see pricing\, details\, and availability!
URL:https://treerush.com/calendar/try-it-tickets-31/
CATEGORIES:Try-It Tickets
ATTACH;FMTTYPE=image/jpeg:https://treerush.com/wp-content/uploads/2023/04/treerush7738-scaled.jpg
END:VEVENT
BEGIN:VEVENT
DTSTART;TZID=America/Los_Angeles:20230726T090000
DTEND;TZID=America/Los_Angeles:20230726T220000
DTSTAMP:20260421T171548
CREATED:20230320T172135Z
LAST-MODIFIED:20230704T193250Z
UID:5910-1690362000-1690408800@treerush.com
SUMMARY:OPEN 9am-10pm
DESCRIPTION:The Park is open from 9 AM – 10 PM! \nClick HERE to see pricing\, details\, and availability!
URL:https://treerush.com/calendar/open-9am-10pm-55/
CATEGORIES:OPEN HOURS
ATTACH;FMTTYPE=image/jpeg:https://treerush.com/wp-content/uploads/2023/03/Drone-Image-scaled.jpg
END:VEVENT
BEGIN:VEVENT
DTSTART;TZID=America/Los_Angeles:20230726T193000
DTEND;TZID=America/Los_Angeles:20230726T220000
DTSTAMP:20260421T171548
CREATED:20230704T191719Z
LAST-MODIFIED:20230704T192256Z
UID:5846-1690399800-1690408800@treerush.com
SUMMARY:Try-It Tickets
DESCRIPTION:Try-It Tickets (Save Big $$$$) \nLast Climb Times of Select Weekdays / 2 Hour Climb Time / Lights turn ON At Dusk Each Night / Some High Courses Close prior to Our Posted Closing Time \nGreat Date Night! \nTry-It Tickets Sold 7:30pm-8:00pm \nClick HERE to see pricing\, details\, and availability!
URL:https://treerush.com/calendar/try-it-tickets-32/
CATEGORIES:Try-It Tickets
ATTACH;FMTTYPE=image/jpeg:https://treerush.com/wp-content/uploads/2023/04/treerush7738-scaled.jpg
END:VEVENT
BEGIN:VEVENT
DTSTART;TZID=America/Los_Angeles:20230727T090000
DTEND;TZID=America/Los_Angeles:20230727T220000
DTSTAMP:20260421T171548
CREATED:20230320T172135Z
LAST-MODIFIED:20230704T193305Z
UID:5912-1690448400-1690495200@treerush.com
SUMMARY:OPEN 9am-10pm
DESCRIPTION:The Park is open from 9 AM – 10 PM! \nClick HERE to see pricing\, details\, and availability!
URL:https://treerush.com/calendar/open-9am-10pm-56/
CATEGORIES:OPEN HOURS
ATTACH;FMTTYPE=image/jpeg:https://treerush.com/wp-content/uploads/2023/03/Drone-Image-scaled.jpg
END:VEVENT
BEGIN:VEVENT
DTSTART;TZID=America/Los_Angeles:20230727T193000
DTEND;TZID=America/Los_Angeles:20230727T220000
DTSTAMP:20260421T171548
CREATED:20230704T191719Z
LAST-MODIFIED:20230704T192315Z
UID:5848-1690486200-1690495200@treerush.com
SUMMARY:Try-It Tickets
DESCRIPTION:Try-It Tickets (Save Big $$$$) \nLast Climb Times of Select Weekdays / 2 Hour Climb Time / Lights turn ON At Dusk Each Night / Some High Courses Close prior to Our Posted Closing Time \nGreat Date Night! \nTry-It Tickets Sold 7:30pm-8:00pm \nClick HERE to see pricing\, details\, and availability!
URL:https://treerush.com/calendar/try-it-tickets-33/
CATEGORIES:Try-It Tickets
ATTACH;FMTTYPE=image/jpeg:https://treerush.com/wp-content/uploads/2023/04/treerush7738-scaled.jpg
END:VEVENT
BEGIN:VEVENT
DTSTART;TZID=America/Los_Angeles:20230728T090000
DTEND;TZID=America/Los_Angeles:20230728T220000
DTSTAMP:20260421T171548
CREATED:20230320T172135Z
LAST-MODIFIED:20230704T193320Z
UID:5914-1690534800-1690581600@treerush.com
SUMMARY:OPEN 9am-10pm
DESCRIPTION:The Park is open from 9 AM – 10 PM! \nClick HERE to see pricing\, details\, and availability!
URL:https://treerush.com/calendar/open-9am-10pm-57/
CATEGORIES:OPEN HOURS
ATTACH;FMTTYPE=image/jpeg:https://treerush.com/wp-content/uploads/2023/03/Drone-Image-scaled.jpg
END:VEVENT
BEGIN:VEVENT
DTSTART;TZID=America/Los_Angeles:20230728T180000
DTEND;TZID=America/Los_Angeles:20230728T220000
DTSTAMP:20260421T171548
CREATED:20230402T222531Z
LAST-MODIFIED:20230704T194224Z
UID:5954-1690567200-1690581600@treerush.com
SUMMARY:GLOW NIGHT
DESCRIPTION:Zip & Climb Party in the Trees\nTickets Sold 6:00pm – 7:15pm \nDJ / FREE Glow Souvenirs / 2 to 3 Hour Experience / Ages 7 & UP \nClick HERE for pricing\, details\, & Availability!
URL:https://treerush.com/calendar/glow-night-18/
CATEGORIES:GLOW
ATTACH;FMTTYPE=image/jpeg:https://treerush.com/wp-content/uploads/2023/04/Copy-of-treerush7856-scaled.jpg
END:VEVENT
BEGIN:VEVENT
DTSTART;TZID=America/Los_Angeles:20230729T090000
DTEND;TZID=America/Los_Angeles:20230729T150000
DTSTAMP:20260421T171548
CREATED:20230320T172135Z
LAST-MODIFIED:20230704T194508Z
UID:5940-1690621200-1690642800@treerush.com
SUMMARY:OPEN 9am-3pm
DESCRIPTION:The Park is open from 9 AM – 3 PM! \nFontenelle Forest has a special event today.  Last Start Ticket Time is 12 NOON. \nClick HERE to see pricing\, details\, and availability!
URL:https://treerush.com/calendar/open-9am-10pm-70/
CATEGORIES:OPEN HOURS
ATTACH;FMTTYPE=image/jpeg:https://treerush.com/wp-content/uploads/2023/03/Drone-Image-scaled.jpg
END:VEVENT
END:VCALENDAR