
BEGIN:VCALENDAR
VERSION:2.0
PRODID:-//TreeRush Adventures - ECPv6.6.0.1//NONSGML v1.0//EN
CALSCALE:GREGORIAN
METHOD:PUBLISH
X-ORIGINAL-URL:https://treerush.com
X-WR-CALDESC:Events for TreeRush Adventures
REFRESH-INTERVAL;VALUE=DURATION:PT1H
X-Robots-Tag:noindex
X-PUBLISHED-TTL:PT1H
BEGIN:VTIMEZONE
TZID:America/Los_Angeles
BEGIN:DAYLIGHT
TZOFFSETFROM:-0800
TZOFFSETTO:-0700
TZNAME:PDT
DTSTART:20230312T100000
END:DAYLIGHT
BEGIN:STANDARD
TZOFFSETFROM:-0700
TZOFFSETTO:-0800
TZNAME:PST
DTSTART:20231105T090000
END:STANDARD
END:VTIMEZONE
BEGIN:VEVENT
DTSTART;TZID=America/Los_Angeles:20230809T090000
DTEND;TZID=America/Los_Angeles:20230809T220000
DTSTAMP:20260422T002753
CREATED:20230320T172135Z
LAST-MODIFIED:20230704T193630Z
UID:5936-1691571600-1691618400@treerush.com
SUMMARY:OPEN 9am-10pm
DESCRIPTION:The Park is open from 9 AM – 10 PM! \nClick HERE to see pricing\, details\, and availability!
URL:https://treerush.com/calendar/open-9am-10pm-68/
CATEGORIES:OPEN HOURS
ATTACH;FMTTYPE=image/jpeg:https://treerush.com/wp-content/uploads/2023/03/Drone-Image-scaled.jpg
END:VEVENT
BEGIN:VEVENT
DTSTART;TZID=America/Los_Angeles:20230809T193000
DTEND;TZID=America/Los_Angeles:20230809T220000
DTSTAMP:20260422T002753
CREATED:20230704T191719Z
LAST-MODIFIED:20230704T192522Z
UID:5860-1691609400-1691618400@treerush.com
SUMMARY:Try-It Tickets
DESCRIPTION:Try-It Tickets (Save Big $$$$) \nLast Climb Times of Select Weekdays / 2 Hour Climb Time / Lights turn ON At Dusk Each Night / Some High Courses Close prior to Our Posted Closing Time \nGreat Date Night! \nTry-It Tickets Sold 7:30pm-8:00pm \nClick HERE to see pricing\, details\, and availability!
URL:https://treerush.com/calendar/try-it-tickets-39/
CATEGORIES:Try-It Tickets
ATTACH;FMTTYPE=image/jpeg:https://treerush.com/wp-content/uploads/2023/04/treerush7738-scaled.jpg
END:VEVENT
BEGIN:VEVENT
DTSTART;TZID=America/Los_Angeles:20230810T090000
DTEND;TZID=America/Los_Angeles:20230810T220000
DTSTAMP:20260422T002753
CREATED:20230320T172135Z
LAST-MODIFIED:20230704T193656Z
UID:5938-1691658000-1691704800@treerush.com
SUMMARY:OPEN 9am-10pm
DESCRIPTION:The Park is open from 9 AM – 10 PM! \nClick HERE to see pricing\, details\, and availability!
URL:https://treerush.com/calendar/open-9am-10pm-69/
CATEGORIES:OPEN HOURS
ATTACH;FMTTYPE=image/jpeg:https://treerush.com/wp-content/uploads/2023/03/Drone-Image-scaled.jpg
END:VEVENT
BEGIN:VEVENT
DTSTART;TZID=America/Los_Angeles:20230810T193000
DTEND;TZID=America/Los_Angeles:20230810T220000
DTSTAMP:20260422T002753
CREATED:20230704T191719Z
LAST-MODIFIED:20230704T192535Z
UID:5862-1691695800-1691704800@treerush.com
SUMMARY:Try-It Tickets
DESCRIPTION:Try-It Tickets (Save Big $$$$) \nLast Climb Times of Select Weekdays / 2 Hour Climb Time / Lights turn ON At Dusk Each Night / Some High Courses Close prior to Our Posted Closing Time \nGreat Date Night! \nTry-It Tickets Sold 7:30pm-8:00pm \nClick HERE to see pricing\, details\, and availability!
URL:https://treerush.com/calendar/try-it-tickets-40/
CATEGORIES:Try-It Tickets
ATTACH;FMTTYPE=image/jpeg:https://treerush.com/wp-content/uploads/2023/04/treerush7738-scaled.jpg
END:VEVENT
BEGIN:VEVENT
DTSTART;TZID=America/Los_Angeles:20230811T090000
DTEND;TZID=America/Los_Angeles:20230811T180000
DTSTAMP:20260422T002753
CREATED:20230320T172135Z
LAST-MODIFIED:20230704T194745Z
UID:5967-1691744400-1691776800@treerush.com
SUMMARY:OPEN 10am-6pm
DESCRIPTION:The Park is open from 9 AM – 6 PM! \nLast Ticket Start Time 3 PM \nClick HERE to see pricing\, details\, and availability!
URL:https://treerush.com/calendar/open-10am-6pm-34/
CATEGORIES:OPEN HOURS
ATTACH;FMTTYPE=image/jpeg:https://treerush.com/wp-content/uploads/2023/03/Drone-Image-scaled.jpg
END:VEVENT
BEGIN:VEVENT
DTSTART;TZID=America/Los_Angeles:20230812T090000
DTEND;TZID=America/Los_Angeles:20230812T220000
DTSTAMP:20260422T002753
CREATED:20230320T172135Z
LAST-MODIFIED:20230704T194940Z
UID:5973-1691830800-1691877600@treerush.com
SUMMARY:OPEN 9am-10pm
DESCRIPTION:The Park is open from 9 AM – 10 PM! \nClick HERE to see pricing\, details\, and availability!
URL:https://treerush.com/calendar/open-9am-10pm-71/
CATEGORIES:OPEN HOURS
ATTACH;FMTTYPE=image/jpeg:https://treerush.com/wp-content/uploads/2023/03/Drone-Image-scaled.jpg
END:VEVENT
BEGIN:VEVENT
DTSTART;TZID=America/Los_Angeles:20230812T180000
DTEND;TZID=America/Los_Angeles:20230812T220000
DTSTAMP:20260422T002753
CREATED:20230402T222531Z
LAST-MODIFIED:20230704T194333Z
UID:5959-1691863200-1691877600@treerush.com
SUMMARY:GLOW NIGHT
DESCRIPTION:Zip & Climb Party in the Trees\nTickets Sold 6:00pm – 7:15pm \nDJ / FREE Glow Souvenirs / 2 to 3 Hour Experience / Ages 7 & UP \nClick HERE for pricing\, details\, & Availability!
URL:https://treerush.com/calendar/glow-night-20/
CATEGORIES:GLOW
ATTACH;FMTTYPE=image/jpeg:https://treerush.com/wp-content/uploads/2023/04/Copy-of-treerush7856-scaled.jpg
END:VEVENT
BEGIN:VEVENT
DTSTART;TZID=America/Los_Angeles:20230813T090000
DTEND;TZID=America/Los_Angeles:20230813T180000
DTSTAMP:20260422T002753
CREATED:20230320T172135Z
LAST-MODIFIED:20230704T194823Z
UID:5969-1691917200-1691949600@treerush.com
SUMMARY:OPEN 10am-6pm
DESCRIPTION:The Park is open from 9 AM – 6 PM! \nLast Ticket Start Time 3 PM \nClick HERE to see pricing\, details\, and availability!
URL:https://treerush.com/calendar/open-10am-6pm-35/
CATEGORIES:OPEN HOURS
ATTACH;FMTTYPE=image/jpeg:https://treerush.com/wp-content/uploads/2023/03/Drone-Image-scaled.jpg
END:VEVENT
BEGIN:VEVENT
DTSTART;TZID=America/Los_Angeles:20230814T090000
DTEND;TZID=America/Los_Angeles:20230814T180000
DTSTAMP:20260422T002753
CREATED:20230320T172135Z
LAST-MODIFIED:20230704T194838Z
UID:5971-1692003600-1692036000@treerush.com
SUMMARY:OPEN 10am-6pm
DESCRIPTION:The Park is open from 9 AM – 6 PM! \nLast Ticket Start Time 3 PM \nClick HERE to see pricing\, details\, and availability!
URL:https://treerush.com/calendar/open-10am-6pm-36/
CATEGORIES:OPEN HOURS
ATTACH;FMTTYPE=image/jpeg:https://treerush.com/wp-content/uploads/2023/03/Drone-Image-scaled.jpg
END:VEVENT
BEGIN:VEVENT
DTSTART;TZID=America/Los_Angeles:20230815T090000
DTEND;TZID=America/Los_Angeles:20230815T180000
DTSTAMP:20260422T002753
CREATED:20230320T172135Z
LAST-MODIFIED:20230811T185641Z
UID:6016-1692090000-1692122400@treerush.com
SUMMARY:OPEN 10am-6pm
DESCRIPTION:The Park is open from 9 AM – 6 PM! \nLast Ticket Start Time 3 PM \nClick HERE to see pricing\, details\, and availability!
URL:https://treerush.com/calendar/open-10am-6pm-37/
CATEGORIES:OPEN HOURS
ATTACH;FMTTYPE=image/jpeg:https://treerush.com/wp-content/uploads/2023/03/Drone-Image-scaled.jpg
END:VEVENT
BEGIN:VEVENT
DTSTART;TZID=America/Los_Angeles:20230817T080000
DTEND;TZID=America/Los_Angeles:20230817T170000
DTSTAMP:20260422T002753
CREATED:20230811T184630Z
LAST-MODIFIED:20230811T184825Z
UID:5989-1692259200-1692291600@treerush.com
SUMMARY:Try-It Tickets
DESCRIPTION:Try-It Tickets (Save Big $$$$) \nLast Climb Times on Thursdays / 2 Hour Climb Time / Lights turn ON At Dusk Each Night / Some High Courses Close prior to Our Posted Closing Time \nGreat Date Night! \nTry-It Tickets Sold 3:30pm-4:00pm \nClick HERE to see pricing\, details\, and availability!
URL:https://treerush.com/calendar/try-it-tickets-copy-3/
CATEGORIES:Try-It Tickets
ATTACH;FMTTYPE=image/jpeg:https://treerush.com/wp-content/uploads/2023/04/treerush7738-scaled.jpg
END:VEVENT
BEGIN:VEVENT
DTSTART;TZID=America/Los_Angeles:20230817T090000
DTEND;TZID=America/Los_Angeles:20230817T180000
DTSTAMP:20260422T002753
CREATED:20230320T172135Z
LAST-MODIFIED:20230811T190812Z
UID:6055-1692262800-1692295200@treerush.com
SUMMARY:OPEN 10am-6pm
DESCRIPTION:The Park is open from 9 AM – 6 PM! \nLast Ticket Start Time 3 PM \nClick HERE to see pricing\, details\, and availability!
URL:https://treerush.com/calendar/open-10am-6pm-56/
CATEGORIES:OPEN HOURS
ATTACH;FMTTYPE=image/jpeg:https://treerush.com/wp-content/uploads/2023/03/Drone-Image-scaled.jpg
END:VEVENT
BEGIN:VEVENT
DTSTART;TZID=America/Los_Angeles:20230818T090000
DTEND;TZID=America/Los_Angeles:20230818T180000
DTSTAMP:20260422T002753
CREATED:20230320T172135Z
LAST-MODIFIED:20230811T185735Z
UID:6018-1692349200-1692381600@treerush.com
SUMMARY:OPEN 10am-6pm
DESCRIPTION:The Park is open from 9 AM – 6 PM! \nLast Ticket Start Time 3 PM \nClick HERE to see pricing\, details\, and availability!
URL:https://treerush.com/calendar/open-10am-6pm-38/
CATEGORIES:OPEN HOURS
ATTACH;FMTTYPE=image/jpeg:https://treerush.com/wp-content/uploads/2023/03/Drone-Image-scaled.jpg
END:VEVENT
BEGIN:VEVENT
DTSTART;TZID=America/Los_Angeles:20230819T090000
DTEND;TZID=America/Los_Angeles:20230819T220000
DTSTAMP:20260422T002753
CREATED:20230320T172135Z
LAST-MODIFIED:20230811T191051Z
UID:6061-1692435600-1692482400@treerush.com
SUMMARY:OPEN 9am-10pm
DESCRIPTION:The Park is open from 9 AM – 10 PM! \nClick HERE to see pricing\, details\, and availability!
URL:https://treerush.com/calendar/open-9am-10pm-72/
CATEGORIES:OPEN HOURS
ATTACH;FMTTYPE=image/jpeg:https://treerush.com/wp-content/uploads/2023/03/Drone-Image-scaled.jpg
END:VEVENT
BEGIN:VEVENT
DTSTART;TZID=America/Los_Angeles:20230819T180000
DTEND;TZID=America/Los_Angeles:20230819T220000
DTSTAMP:20260422T002753
CREATED:20230402T222531Z
LAST-MODIFIED:20230704T194347Z
UID:5961-1692468000-1692482400@treerush.com
SUMMARY:GLOW NIGHT
DESCRIPTION:Zip & Climb Party in the Trees\nTickets Sold 6:00pm – 7:15pm \nDJ / FREE Glow Souvenirs / 2 to 3 Hour Experience / Ages 7 & UP \nClick HERE for pricing\, details\, & Availability!
URL:https://treerush.com/calendar/glow-night-21/
CATEGORIES:GLOW
ATTACH;FMTTYPE=image/jpeg:https://treerush.com/wp-content/uploads/2023/04/Copy-of-treerush7856-scaled.jpg
END:VEVENT
BEGIN:VEVENT
DTSTART;TZID=America/Los_Angeles:20230820T090000
DTEND;TZID=America/Los_Angeles:20230820T180000
DTSTAMP:20260422T002753
CREATED:20230320T172135Z
LAST-MODIFIED:20230811T185755Z
UID:6020-1692522000-1692554400@treerush.com
SUMMARY:OPEN 10am-6pm
DESCRIPTION:The Park is open from 9 AM – 6 PM! \nLast Ticket Start Time 3 PM \nClick HERE to see pricing\, details\, and availability!
URL:https://treerush.com/calendar/open-10am-6pm-39/
CATEGORIES:OPEN HOURS
ATTACH;FMTTYPE=image/jpeg:https://treerush.com/wp-content/uploads/2023/03/Drone-Image-scaled.jpg
END:VEVENT
BEGIN:VEVENT
DTSTART;TZID=America/Los_Angeles:20230824T080000
DTEND;TZID=America/Los_Angeles:20230824T170000
DTSTAMP:20260422T002753
CREATED:20230811T184630Z
LAST-MODIFIED:20230811T184852Z
UID:5993-1692864000-1692896400@treerush.com
SUMMARY:Try-It Tickets
DESCRIPTION:Try-It Tickets (Save Big $$$$) \nLast Climb Times on Thursdays / 2 Hour Climb Time / Lights turn ON At Dusk Each Night / Some High Courses Close prior to Our Posted Closing Time \nGreat Date Night! \nTry-It Tickets Sold 3:30pm-4:00pm \nClick HERE to see pricing\, details\, and availability!
URL:https://treerush.com/calendar/try-it-tickets-42/
CATEGORIES:Try-It Tickets
ATTACH;FMTTYPE=image/jpeg:https://treerush.com/wp-content/uploads/2023/04/treerush7738-scaled.jpg
END:VEVENT
BEGIN:VEVENT
DTSTART;TZID=America/Los_Angeles:20230824T090000
DTEND;TZID=America/Los_Angeles:20230824T180000
DTSTAMP:20260422T002753
CREATED:20230320T172135Z
LAST-MODIFIED:20230811T185822Z
UID:6022-1692867600-1692900000@treerush.com
SUMMARY:OPEN 10am-6pm
DESCRIPTION:The Park is open from 9 AM – 6 PM! \nLast Ticket Start Time 3 PM \nClick HERE to see pricing\, details\, and availability!
URL:https://treerush.com/calendar/open-10am-6pm-40/
CATEGORIES:OPEN HOURS
ATTACH;FMTTYPE=image/jpeg:https://treerush.com/wp-content/uploads/2023/03/Drone-Image-scaled.jpg
END:VEVENT
BEGIN:VEVENT
DTSTART;TZID=America/Los_Angeles:20230825T090000
DTEND;TZID=America/Los_Angeles:20230825T180000
DTSTAMP:20260422T002753
CREATED:20230320T172135Z
LAST-MODIFIED:20230811T185841Z
UID:6024-1692954000-1692986400@treerush.com
SUMMARY:OPEN 10am-6pm
DESCRIPTION:The Park is open from 9 AM – 6 PM! \nLast Ticket Start Time 3 PM \nClick HERE to see pricing\, details\, and availability!
URL:https://treerush.com/calendar/open-10am-6pm-41/
CATEGORIES:OPEN HOURS
ATTACH;FMTTYPE=image/jpeg:https://treerush.com/wp-content/uploads/2023/03/Drone-Image-scaled.jpg
END:VEVENT
BEGIN:VEVENT
DTSTART;TZID=America/Los_Angeles:20230826T090000
DTEND;TZID=America/Los_Angeles:20230826T220000
DTSTAMP:20260422T002753
CREATED:20230320T172135Z
LAST-MODIFIED:20230811T191112Z
UID:6063-1693040400-1693087200@treerush.com
SUMMARY:OPEN 9am-10pm
DESCRIPTION:The Park is open from 9 AM – 10 PM! \nClick HERE to see pricing\, details\, and availability!
URL:https://treerush.com/calendar/open-9am-10pm-73/
CATEGORIES:OPEN HOURS
ATTACH;FMTTYPE=image/jpeg:https://treerush.com/wp-content/uploads/2023/03/Drone-Image-scaled.jpg
END:VEVENT
BEGIN:VEVENT
DTSTART;TZID=America/Los_Angeles:20230826T180000
DTEND;TZID=America/Los_Angeles:20230826T220000
DTSTAMP:20260422T002753
CREATED:20230402T222531Z
LAST-MODIFIED:20230704T194401Z
UID:5963-1693072800-1693087200@treerush.com
SUMMARY:GLOW NIGHT
DESCRIPTION:Zip & Climb Party in the Trees\nTickets Sold 6:00pm – 7:15pm \nDJ / FREE Glow Souvenirs / 2 to 3 Hour Experience / Ages 7 & UP \nClick HERE for pricing\, details\, & Availability!
URL:https://treerush.com/calendar/glow-night-22/
CATEGORIES:GLOW
ATTACH;FMTTYPE=image/jpeg:https://treerush.com/wp-content/uploads/2023/04/Copy-of-treerush7856-scaled.jpg
END:VEVENT
BEGIN:VEVENT
DTSTART;TZID=America/Los_Angeles:20230827T090000
DTEND;TZID=America/Los_Angeles:20230827T180000
DTSTAMP:20260422T002753
CREATED:20230320T172135Z
LAST-MODIFIED:20230811T185904Z
UID:6026-1693126800-1693159200@treerush.com
SUMMARY:OPEN 10am-6pm
DESCRIPTION:The Park is open from 9 AM – 6 PM! \nLast Ticket Start Time 3 PM \nClick HERE to see pricing\, details\, and availability!
URL:https://treerush.com/calendar/open-10am-6pm-42/
CATEGORIES:OPEN HOURS
ATTACH;FMTTYPE=image/jpeg:https://treerush.com/wp-content/uploads/2023/03/Drone-Image-scaled.jpg
END:VEVENT
BEGIN:VEVENT
DTSTART;TZID=America/Los_Angeles:20230831T080000
DTEND;TZID=America/Los_Angeles:20230831T170000
DTSTAMP:20260422T002753
CREATED:20230811T184630Z
LAST-MODIFIED:20230811T184913Z
UID:5995-1693468800-1693501200@treerush.com
SUMMARY:Try-It Tickets
DESCRIPTION:Try-It Tickets (Save Big $$$$) \nLast Climb Times on Thursdays / 2 Hour Climb Time / Lights turn ON At Dusk Each Night / Some High Courses Close prior to Our Posted Closing Time \nGreat Date Night! \nTry-It Tickets Sold 3:30pm-4:00pm \nClick HERE to see pricing\, details\, and availability!
URL:https://treerush.com/calendar/try-it-tickets-43/
CATEGORIES:Try-It Tickets
ATTACH;FMTTYPE=image/jpeg:https://treerush.com/wp-content/uploads/2023/04/treerush7738-scaled.jpg
END:VEVENT
BEGIN:VEVENT
DTSTART;TZID=America/Los_Angeles:20230831T090000
DTEND;TZID=America/Los_Angeles:20230831T180000
DTSTAMP:20260422T002753
CREATED:20230320T172135Z
LAST-MODIFIED:20230811T185923Z
UID:6028-1693472400-1693504800@treerush.com
SUMMARY:OPEN 10am-6pm
DESCRIPTION:The Park is open from 9 AM – 6 PM! \nLast Ticket Start Time 3 PM \nClick HERE to see pricing\, details\, and availability!
URL:https://treerush.com/calendar/open-10am-6pm-43/
CATEGORIES:OPEN HOURS
ATTACH;FMTTYPE=image/jpeg:https://treerush.com/wp-content/uploads/2023/03/Drone-Image-scaled.jpg
END:VEVENT
BEGIN:VEVENT
DTSTART;TZID=America/Los_Angeles:20230901T090000
DTEND;TZID=America/Los_Angeles:20230901T180000
DTSTAMP:20260422T002753
CREATED:20230320T172135Z
LAST-MODIFIED:20230811T190022Z
UID:6030-1693558800-1693591200@treerush.com
SUMMARY:OPEN 10am-6pm
DESCRIPTION:The Park is open from 9 AM – 6 PM! \nLast Ticket Start Time 3 PM \nClick HERE to see pricing\, details\, and availability!
URL:https://treerush.com/calendar/open-10am-6pm-44/
CATEGORIES:OPEN HOURS
ATTACH;FMTTYPE=image/jpeg:https://treerush.com/wp-content/uploads/2023/03/Drone-Image-scaled.jpg
END:VEVENT
BEGIN:VEVENT
DTSTART;TZID=America/Los_Angeles:20230902T090000
DTEND;TZID=America/Los_Angeles:20230902T220000
DTSTAMP:20260422T002753
CREATED:20230320T172135Z
LAST-MODIFIED:20230811T191135Z
UID:6065-1693645200-1693692000@treerush.com
SUMMARY:OPEN 9am-10pm
DESCRIPTION:The Park is open from 9 AM – 10 PM! \nClick HERE to see pricing\, details\, and availability!
URL:https://treerush.com/calendar/open-9am-10pm-74/
CATEGORIES:OPEN HOURS
ATTACH;FMTTYPE=image/jpeg:https://treerush.com/wp-content/uploads/2023/03/Drone-Image-scaled.jpg
END:VEVENT
BEGIN:VEVENT
DTSTART;TZID=America/Los_Angeles:20230902T180000
DTEND;TZID=America/Los_Angeles:20230902T220000
DTSTAMP:20260422T002753
CREATED:20230402T222531Z
LAST-MODIFIED:20230811T185203Z
UID:6005-1693677600-1693692000@treerush.com
SUMMARY:GLOW NIGHT
DESCRIPTION:Zip & Climb Party in the Trees\nTickets Sold 6:00pm – 7:15pm \nDJ / FREE Glow Souvenirs / 2 to 3 Hour Experience / Ages 7 & UP \nClick HERE for pricing\, details\, & Availability!
URL:https://treerush.com/calendar/glow-night-24/
CATEGORIES:GLOW
ATTACH;FMTTYPE=image/jpeg:https://treerush.com/wp-content/uploads/2023/04/Copy-of-treerush7856-scaled.jpg
END:VEVENT
BEGIN:VEVENT
DTSTART;TZID=America/Los_Angeles:20230903T090000
DTEND;TZID=America/Los_Angeles:20230903T180000
DTSTAMP:20260422T002753
CREATED:20230320T172135Z
LAST-MODIFIED:20230811T190044Z
UID:6032-1693731600-1693764000@treerush.com
SUMMARY:OPEN 10am-6pm
DESCRIPTION:The Park is open from 9 AM – 6 PM! \nLast Ticket Start Time 3 PM \nClick HERE to see pricing\, details\, and availability!
URL:https://treerush.com/calendar/open-10am-6pm-45/
CATEGORIES:OPEN HOURS
ATTACH;FMTTYPE=image/jpeg:https://treerush.com/wp-content/uploads/2023/03/Drone-Image-scaled.jpg
END:VEVENT
BEGIN:VEVENT
DTSTART;TZID=America/Los_Angeles:20230904T090000
DTEND;TZID=America/Los_Angeles:20230904T180000
DTSTAMP:20260422T002753
CREATED:20230320T172135Z
LAST-MODIFIED:20230811T190107Z
UID:6034-1693818000-1693850400@treerush.com
SUMMARY:OPEN 10am-6pm
DESCRIPTION:The Park is open from 9 AM – 6 PM! \nLast Ticket Start Time 3 PM \nClick HERE to see pricing\, details\, and availability!
URL:https://treerush.com/calendar/open-10am-6pm-46/
CATEGORIES:OPEN HOURS
ATTACH;FMTTYPE=image/jpeg:https://treerush.com/wp-content/uploads/2023/03/Drone-Image-scaled.jpg
END:VEVENT
BEGIN:VEVENT
DTSTART;TZID=America/Los_Angeles:20230907T080000
DTEND;TZID=America/Los_Angeles:20230907T170000
DTSTAMP:20260422T002753
CREATED:20230811T184630Z
LAST-MODIFIED:20230811T184932Z
UID:5997-1694073600-1694106000@treerush.com
SUMMARY:Try-It Tickets
DESCRIPTION:Try-It Tickets (Save Big $$$$) \nLast Climb Times on Thursdays / 2 Hour Climb Time / Lights turn ON At Dusk Each Night / Some High Courses Close prior to Our Posted Closing Time \nGreat Date Night! \nTry-It Tickets Sold 3:30pm-4:00pm \nClick HERE to see pricing\, details\, and availability!
URL:https://treerush.com/calendar/try-it-tickets-44/
CATEGORIES:Try-It Tickets
ATTACH;FMTTYPE=image/jpeg:https://treerush.com/wp-content/uploads/2023/04/treerush7738-scaled.jpg
END:VEVENT
END:VCALENDAR