
BEGIN:VCALENDAR
VERSION:2.0
PRODID:-//TreeRush Adventures - ECPv6.6.0.1//NONSGML v1.0//EN
CALSCALE:GREGORIAN
METHOD:PUBLISH
X-WR-CALNAME:TreeRush Adventures
X-ORIGINAL-URL:https://treerush.com
X-WR-CALDESC:Events for TreeRush Adventures
REFRESH-INTERVAL;VALUE=DURATION:PT1H
X-Robots-Tag:noindex
X-PUBLISHED-TTL:PT1H
BEGIN:VTIMEZONE
TZID:America/Los_Angeles
BEGIN:DAYLIGHT
TZOFFSETFROM:-0800
TZOFFSETTO:-0700
TZNAME:PDT
DTSTART:20230312T100000
END:DAYLIGHT
BEGIN:STANDARD
TZOFFSETFROM:-0700
TZOFFSETTO:-0800
TZNAME:PST
DTSTART:20231105T090000
END:STANDARD
END:VTIMEZONE
BEGIN:VEVENT
DTSTART;TZID=America/Los_Angeles:20230928T090000
DTEND;TZID=America/Los_Angeles:20230928T180000
DTSTAMP:20260424T064205
CREATED:20230320T172135Z
LAST-MODIFIED:20230811T190503Z
UID:6050-1695891600-1695924000@treerush.com
SUMMARY:OPEN 10am-6pm
DESCRIPTION:The Park is open from 9 AM – 6 PM! \nLast Ticket Start Time 3 PM \nClick HERE to see pricing\, details\, and availability!
URL:https://treerush.com/calendar/open-10am-6pm-54/
CATEGORIES:OPEN HOURS
ATTACH;FMTTYPE=image/jpeg:https://treerush.com/wp-content/uploads/2023/03/Drone-Image-scaled.jpg
END:VEVENT
BEGIN:VEVENT
DTSTART;TZID=America/Los_Angeles:20230929T090000
DTEND;TZID=America/Los_Angeles:20230929T180000
DTSTAMP:20260424T064205
CREATED:20230320T172135Z
LAST-MODIFIED:20230811T190524Z
UID:6052-1695978000-1696010400@treerush.com
SUMMARY:OPEN 10am-6pm
DESCRIPTION:The Park is open from 9 AM – 6 PM! \nLast Ticket Start Time 3 PM \nClick HERE to see pricing\, details\, and availability!
URL:https://treerush.com/calendar/open-10am-6pm-55/
CATEGORIES:OPEN HOURS
ATTACH;FMTTYPE=image/jpeg:https://treerush.com/wp-content/uploads/2023/03/Drone-Image-scaled.jpg
END:VEVENT
BEGIN:VEVENT
DTSTART;TZID=America/Los_Angeles:20230930T090000
DTEND;TZID=America/Los_Angeles:20230930T220000
DTSTAMP:20260424T064205
CREATED:20230320T172135Z
LAST-MODIFIED:20230811T191256Z
UID:6073-1696064400-1696111200@treerush.com
SUMMARY:OPEN 9am-10pm
DESCRIPTION:The Park is open from 9 AM – 10 PM! \nClick HERE to see pricing\, details\, and availability!
URL:https://treerush.com/calendar/open-9am-10pm-78/
CATEGORIES:OPEN HOURS
ATTACH;FMTTYPE=image/jpeg:https://treerush.com/wp-content/uploads/2023/03/Drone-Image-scaled.jpg
END:VEVENT
BEGIN:VEVENT
DTSTART;TZID=America/Los_Angeles:20230930T180000
DTEND;TZID=America/Los_Angeles:20230930T220000
DTSTAMP:20260424T064205
CREATED:20230402T222531Z
LAST-MODIFIED:20230811T185323Z
UID:6013-1696096800-1696111200@treerush.com
SUMMARY:GLOW NIGHT
DESCRIPTION:Zip & Climb Party in the Trees\nTickets Sold 6:00pm – 7:15pm \nDJ / FREE Glow Souvenirs / 2 to 3 Hour Experience / Ages 7 & UP \nClick HERE for pricing\, details\, & Availability!
URL:https://treerush.com/calendar/glow-night-28/
CATEGORIES:GLOW
ATTACH;FMTTYPE=image/jpeg:https://treerush.com/wp-content/uploads/2023/04/Copy-of-treerush7856-scaled.jpg
END:VEVENT
BEGIN:VEVENT
DTSTART;TZID=America/Los_Angeles:20231001T100000
DTEND;TZID=America/Los_Angeles:20231001T180000
DTSTAMP:20260424T064205
CREATED:20231001T183914Z
LAST-MODIFIED:20231001T190528Z
UID:6120-1696154400-1696183200@treerush.com
SUMMARY:OPEN 10am-6pm
DESCRIPTION:The Park is open from 10 AM – 6 PM! \nLast Ticket Start Time 3 PM \nClick HERE to see pricing\, details\, and availability!
URL:https://treerush.com/calendar/open-10am-6pm-59/
CATEGORIES:OPEN HOURS
ATTACH;FMTTYPE=image/jpeg:https://treerush.com/wp-content/uploads/2023/03/Drone-Image-scaled.jpg
END:VEVENT
BEGIN:VEVENT
DTSTART;TZID=America/Los_Angeles:20231005T100000
DTEND;TZID=America/Los_Angeles:20231005T180000
DTSTAMP:20260424T064205
CREATED:20231001T183914Z
LAST-MODIFIED:20231001T184621Z
UID:6122-1696500000-1696528800@treerush.com
SUMMARY:OPEN 10am-6pm
DESCRIPTION:The Park is open from 10 AM – 6 PM! \nLast Ticket Start Time 3 PM \nClick HERE to see pricing\, details\, and availability!
URL:https://treerush.com/calendar/open-10am-6pm-60/
CATEGORIES:OPEN HOURS
ATTACH;FMTTYPE=image/jpeg:https://treerush.com/wp-content/uploads/2023/03/Drone-Image-scaled.jpg
END:VEVENT
BEGIN:VEVENT
DTSTART;TZID=America/Los_Angeles:20231006T100000
DTEND;TZID=America/Los_Angeles:20231006T150000
DTSTAMP:20260424T064205
CREATED:20231001T183914Z
LAST-MODIFIED:20231001T185124Z
UID:6124-1696586400-1696604400@treerush.com
SUMMARY:OPEN 10am-3pm
DESCRIPTION:The Park is open from 10 AM – 3 PM! \nLast Ticket Start Time 12 PM \nClosing Early due to Fontenelle Forest EVENT! \nClick HERE to see pricing\, details\, and availability!
URL:https://treerush.com/calendar/open-10am-6pm-61/
CATEGORIES:OPEN HOURS
ATTACH;FMTTYPE=image/jpeg:https://treerush.com/wp-content/uploads/2023/03/Drone-Image-scaled.jpg
END:VEVENT
BEGIN:VEVENT
DTSTART;TZID=America/Los_Angeles:20231007T100000
DTEND;TZID=America/Los_Angeles:20231007T220000
DTSTAMP:20260424T064205
CREATED:20230320T172135Z
LAST-MODIFIED:20231001T185442Z
UID:6143-1696672800-1696716000@treerush.com
SUMMARY:OPEN 10am-10pm
DESCRIPTION:The Park is open from 10 AM – 10 PM! \nClick HERE to see pricing\, details\, and availability!
URL:https://treerush.com/calendar/open-10am-10pm/
CATEGORIES:OPEN HOURS
ATTACH;FMTTYPE=image/jpeg:https://treerush.com/wp-content/uploads/2023/03/Drone-Image-scaled.jpg
END:VEVENT
BEGIN:VEVENT
DTSTART;TZID=America/Los_Angeles:20231007T180000
DTEND;TZID=America/Los_Angeles:20231007T220000
DTSTAMP:20260424T064205
CREATED:20230402T222531Z
LAST-MODIFIED:20231001T190151Z
UID:6176-1696701600-1696716000@treerush.com
SUMMARY:GLOW NIGHT
DESCRIPTION:Zip & Climb Party in the Trees\nTickets Sold 6:00pm – 7:15pm \nDJ / FREE Glow Souvenirs / 2 to 3 Hour Experience / Ages 7 & UP \nClick HERE for pricing\, details\, & Availability!
URL:https://treerush.com/calendar/glow-night-29/
CATEGORIES:GLOW
ATTACH;FMTTYPE=image/jpeg:https://treerush.com/wp-content/uploads/2023/04/Copy-of-treerush7856-scaled.jpg
END:VEVENT
BEGIN:VEVENT
DTSTART;TZID=America/Los_Angeles:20231008T100000
DTEND;TZID=America/Los_Angeles:20231008T180000
DTSTAMP:20260424T064205
CREATED:20231001T183914Z
LAST-MODIFIED:20231001T184742Z
UID:6135-1696759200-1696788000@treerush.com
SUMMARY:OPEN 10am-6pm
DESCRIPTION:The Park is open from 10 AM – 6 PM! \nLast Ticket Start Time 3 PM \nClick HERE to see pricing\, details\, and availability!
URL:https://treerush.com/calendar/open-10am-6pm-65/
CATEGORIES:OPEN HOURS
ATTACH;FMTTYPE=image/jpeg:https://treerush.com/wp-content/uploads/2023/03/Drone-Image-scaled.jpg
END:VEVENT
BEGIN:VEVENT
DTSTART;TZID=America/Los_Angeles:20231012T100000
DTEND;TZID=America/Los_Angeles:20231012T180000
DTSTAMP:20260424T064205
CREATED:20231001T183914Z
LAST-MODIFIED:20231001T184642Z
UID:6129-1697104800-1697133600@treerush.com
SUMMARY:OPEN 10am-6pm
DESCRIPTION:The Park is open from 10 AM – 6 PM! \nLast Ticket Start Time 3 PM \nClick HERE to see pricing\, details\, and availability!
URL:https://treerush.com/calendar/open-10am-6pm-62/
CATEGORIES:OPEN HOURS
ATTACH;FMTTYPE=image/jpeg:https://treerush.com/wp-content/uploads/2023/03/Drone-Image-scaled.jpg
END:VEVENT
BEGIN:VEVENT
DTSTART;TZID=America/Los_Angeles:20231013T100000
DTEND;TZID=America/Los_Angeles:20231013T220000
DTSTAMP:20260424T064205
CREATED:20230320T172135Z
LAST-MODIFIED:20231001T185502Z
UID:6145-1697191200-1697234400@treerush.com
SUMMARY:OPEN 10am-10pm
DESCRIPTION:The Park is open from 10 AM – 10 PM! \nClick HERE to see pricing\, details\, and availability!
URL:https://treerush.com/calendar/open-10am-10pm-2/
CATEGORIES:OPEN HOURS
ATTACH;FMTTYPE=image/jpeg:https://treerush.com/wp-content/uploads/2023/03/Drone-Image-scaled.jpg
END:VEVENT
BEGIN:VEVENT
DTSTART;TZID=America/Los_Angeles:20231013T180000
DTEND;TZID=America/Los_Angeles:20231013T220000
DTSTAMP:20260424T064205
CREATED:20230402T222531Z
LAST-MODIFIED:20231001T190211Z
UID:6178-1697220000-1697234400@treerush.com
SUMMARY:GLOW NIGHT
DESCRIPTION:Zip & Climb Party in the Trees\nTickets Sold 6:00pm – 7:15pm \nDJ / FREE Glow Souvenirs / 2 to 3 Hour Experience / Ages 7 & UP \nClick HERE for pricing\, details\, & Availability!
URL:https://treerush.com/calendar/glow-night-30/
CATEGORIES:GLOW
ATTACH;FMTTYPE=image/jpeg:https://treerush.com/wp-content/uploads/2023/04/Copy-of-treerush7856-scaled.jpg
END:VEVENT
BEGIN:VEVENT
DTSTART;TZID=America/Los_Angeles:20231014T100000
DTEND;TZID=America/Los_Angeles:20231014T220000
DTSTAMP:20260424T064205
CREATED:20230320T172135Z
LAST-MODIFIED:20231001T185522Z
UID:6147-1697277600-1697320800@treerush.com
SUMMARY:OPEN 10am-10pm
DESCRIPTION:The Park is open from 10 AM – 10 PM! \nClick HERE to see pricing\, details\, and availability!
URL:https://treerush.com/calendar/open-10am-10pm-3/
CATEGORIES:OPEN HOURS
ATTACH;FMTTYPE=image/jpeg:https://treerush.com/wp-content/uploads/2023/03/Drone-Image-scaled.jpg
END:VEVENT
BEGIN:VEVENT
DTSTART;TZID=America/Los_Angeles:20231014T180000
DTEND;TZID=America/Los_Angeles:20231014T220000
DTSTAMP:20260424T064205
CREATED:20230402T222531Z
LAST-MODIFIED:20231001T190236Z
UID:6180-1697306400-1697320800@treerush.com
SUMMARY:GLOW NIGHT
DESCRIPTION:Zip & Climb Party in the Trees\nTickets Sold 6:00pm – 7:15pm \nDJ / FREE Glow Souvenirs / 2 to 3 Hour Experience / Ages 7 & UP \nClick HERE for pricing\, details\, & Availability!
URL:https://treerush.com/calendar/glow-night-31/
CATEGORIES:GLOW
ATTACH;FMTTYPE=image/jpeg:https://treerush.com/wp-content/uploads/2023/04/Copy-of-treerush7856-scaled.jpg
END:VEVENT
BEGIN:VEVENT
DTSTART;TZID=America/Los_Angeles:20231015T100000
DTEND;TZID=America/Los_Angeles:20231015T180000
DTSTAMP:20260424T064205
CREATED:20231001T183914Z
LAST-MODIFIED:20231001T184804Z
UID:6137-1697364000-1697392800@treerush.com
SUMMARY:OPEN 10am-6pm
DESCRIPTION:The Park is open from 10 AM – 6 PM! \nLast Ticket Start Time 3 PM \nClick HERE to see pricing\, details\, and availability!
URL:https://treerush.com/calendar/open-10am-6pm-66/
CATEGORIES:OPEN HOURS
ATTACH;FMTTYPE=image/jpeg:https://treerush.com/wp-content/uploads/2023/03/Drone-Image-scaled.jpg
END:VEVENT
BEGIN:VEVENT
DTSTART;TZID=America/Los_Angeles:20231019T100000
DTEND;TZID=America/Los_Angeles:20231019T180000
DTSTAMP:20260424T064205
CREATED:20231001T183914Z
LAST-MODIFIED:20231001T184700Z
UID:6131-1697709600-1697738400@treerush.com
SUMMARY:OPEN 10am-6pm
DESCRIPTION:The Park is open from 10 AM – 6 PM! \nLast Ticket Start Time 3 PM \nClick HERE to see pricing\, details\, and availability!
URL:https://treerush.com/calendar/open-10am-6pm-63/
CATEGORIES:OPEN HOURS
ATTACH;FMTTYPE=image/jpeg:https://treerush.com/wp-content/uploads/2023/03/Drone-Image-scaled.jpg
END:VEVENT
BEGIN:VEVENT
DTSTART;TZID=America/Los_Angeles:20231020T100000
DTEND;TZID=America/Los_Angeles:20231020T220000
DTSTAMP:20260424T064205
CREATED:20230320T172135Z
LAST-MODIFIED:20231001T185541Z
UID:6149-1697796000-1697839200@treerush.com
SUMMARY:OPEN 10am-10pm
DESCRIPTION:The Park is open from 10 AM – 10 PM! \nClick HERE to see pricing\, details\, and availability!
URL:https://treerush.com/calendar/open-10am-10pm-4/
CATEGORIES:OPEN HOURS
ATTACH;FMTTYPE=image/jpeg:https://treerush.com/wp-content/uploads/2023/03/Drone-Image-scaled.jpg
END:VEVENT
BEGIN:VEVENT
DTSTART;TZID=America/Los_Angeles:20231020T180000
DTEND;TZID=America/Los_Angeles:20231020T220000
DTSTAMP:20260424T064205
CREATED:20230402T222531Z
LAST-MODIFIED:20231001T190303Z
UID:6182-1697824800-1697839200@treerush.com
SUMMARY:GLOW NIGHT
DESCRIPTION:Zip & Climb Party in the Trees\nTickets Sold 6:00pm – 7:15pm \nDJ / FREE Glow Souvenirs / 2 to 3 Hour Experience / Ages 7 & UP \nClick HERE for pricing\, details\, & Availability!
URL:https://treerush.com/calendar/glow-night-32/
CATEGORIES:GLOW
ATTACH;FMTTYPE=image/jpeg:https://treerush.com/wp-content/uploads/2023/04/Copy-of-treerush7856-scaled.jpg
END:VEVENT
BEGIN:VEVENT
DTSTART;TZID=America/Los_Angeles:20231021T100000
DTEND;TZID=America/Los_Angeles:20231021T220000
DTSTAMP:20260424T064205
CREATED:20230320T172135Z
LAST-MODIFIED:20231001T185600Z
UID:6151-1697882400-1697925600@treerush.com
SUMMARY:OPEN 10am-10pm
DESCRIPTION:The Park is open from 10 AM – 10 PM! \nClick HERE to see pricing\, details\, and availability!
URL:https://treerush.com/calendar/open-10am-10pm-5/
CATEGORIES:OPEN HOURS
ATTACH;FMTTYPE=image/jpeg:https://treerush.com/wp-content/uploads/2023/03/Drone-Image-scaled.jpg
END:VEVENT
BEGIN:VEVENT
DTSTART;TZID=America/Los_Angeles:20231021T180000
DTEND;TZID=America/Los_Angeles:20231021T220000
DTSTAMP:20260424T064205
CREATED:20230402T222531Z
LAST-MODIFIED:20231001T190322Z
UID:6184-1697911200-1697925600@treerush.com
SUMMARY:GLOW NIGHT
DESCRIPTION:Zip & Climb Party in the Trees\nTickets Sold 6:00pm – 7:15pm \nDJ / FREE Glow Souvenirs / 2 to 3 Hour Experience / Ages 7 & UP \nClick HERE for pricing\, details\, & Availability!
URL:https://treerush.com/calendar/glow-night-33/
CATEGORIES:GLOW
ATTACH;FMTTYPE=image/jpeg:https://treerush.com/wp-content/uploads/2023/04/Copy-of-treerush7856-scaled.jpg
END:VEVENT
BEGIN:VEVENT
DTSTART;TZID=America/Los_Angeles:20231022T100000
DTEND;TZID=America/Los_Angeles:20231022T180000
DTSTAMP:20260424T064205
CREATED:20231001T183914Z
LAST-MODIFIED:20231001T184823Z
UID:6139-1697968800-1697997600@treerush.com
SUMMARY:OPEN 10am-6pm
DESCRIPTION:The Park is open from 10 AM – 6 PM! \nLast Ticket Start Time 3 PM \nClick HERE to see pricing\, details\, and availability!
URL:https://treerush.com/calendar/open-10am-6pm-67/
CATEGORIES:OPEN HOURS
ATTACH;FMTTYPE=image/jpeg:https://treerush.com/wp-content/uploads/2023/03/Drone-Image-scaled.jpg
END:VEVENT
BEGIN:VEVENT
DTSTART;TZID=America/Los_Angeles:20231026T100000
DTEND;TZID=America/Los_Angeles:20231026T180000
DTSTAMP:20260424T064205
CREATED:20231001T183914Z
LAST-MODIFIED:20231001T184719Z
UID:6133-1698314400-1698343200@treerush.com
SUMMARY:OPEN 10am-6pm
DESCRIPTION:The Park is open from 10 AM – 6 PM! \nLast Ticket Start Time 3 PM \nClick HERE to see pricing\, details\, and availability!
URL:https://treerush.com/calendar/open-10am-6pm-64/
CATEGORIES:OPEN HOURS
ATTACH;FMTTYPE=image/jpeg:https://treerush.com/wp-content/uploads/2023/03/Drone-Image-scaled.jpg
END:VEVENT
BEGIN:VEVENT
DTSTART;TZID=America/Los_Angeles:20231027T100000
DTEND;TZID=America/Los_Angeles:20231027T220000
DTSTAMP:20260424T064205
CREATED:20230320T172135Z
LAST-MODIFIED:20231001T185617Z
UID:6153-1698400800-1698444000@treerush.com
SUMMARY:OPEN 10am-10pm
DESCRIPTION:The Park is open from 10 AM – 10 PM! \nClick HERE to see pricing\, details\, and availability!
URL:https://treerush.com/calendar/open-10am-10pm-6/
CATEGORIES:OPEN HOURS
ATTACH;FMTTYPE=image/jpeg:https://treerush.com/wp-content/uploads/2023/03/Drone-Image-scaled.jpg
END:VEVENT
BEGIN:VEVENT
DTSTART;TZID=America/Los_Angeles:20231027T180000
DTEND;TZID=America/Los_Angeles:20231027T220000
DTSTAMP:20260424T064205
CREATED:20230402T222531Z
LAST-MODIFIED:20231001T190338Z
UID:6186-1698429600-1698444000@treerush.com
SUMMARY:GLOW NIGHT
DESCRIPTION:Zip & Climb Party in the Trees\nTickets Sold 6:00pm – 7:15pm \nDJ / FREE Glow Souvenirs / 2 to 3 Hour Experience / Ages 7 & UP \nClick HERE for pricing\, details\, & Availability!
URL:https://treerush.com/calendar/glow-night-34/
CATEGORIES:GLOW
ATTACH;FMTTYPE=image/jpeg:https://treerush.com/wp-content/uploads/2023/04/Copy-of-treerush7856-scaled.jpg
END:VEVENT
BEGIN:VEVENT
DTSTART;TZID=America/Los_Angeles:20231028T100000
DTEND;TZID=America/Los_Angeles:20231028T220000
DTSTAMP:20260424T064205
CREATED:20230320T172135Z
LAST-MODIFIED:20231001T185634Z
UID:6155-1698487200-1698530400@treerush.com
SUMMARY:OPEN 10am-10pm
DESCRIPTION:The Park is open from 10 AM – 10 PM! \nClick HERE to see pricing\, details\, and availability!
URL:https://treerush.com/calendar/open-10am-10pm-7/
CATEGORIES:OPEN HOURS
ATTACH;FMTTYPE=image/jpeg:https://treerush.com/wp-content/uploads/2023/03/Drone-Image-scaled.jpg
END:VEVENT
BEGIN:VEVENT
DTSTART;TZID=America/Los_Angeles:20231028T180000
DTEND;TZID=America/Los_Angeles:20231028T220000
DTSTAMP:20260424T064205
CREATED:20230402T222531Z
LAST-MODIFIED:20231001T190354Z
UID:6188-1698516000-1698530400@treerush.com
SUMMARY:GLOW NIGHT
DESCRIPTION:Zip & Climb Party in the Trees\nTickets Sold 6:00pm – 7:15pm \nDJ / FREE Glow Souvenirs / 2 to 3 Hour Experience / Ages 7 & UP \nClick HERE for pricing\, details\, & Availability!
URL:https://treerush.com/calendar/glow-night-35/
CATEGORIES:GLOW
ATTACH;FMTTYPE=image/jpeg:https://treerush.com/wp-content/uploads/2023/04/Copy-of-treerush7856-scaled.jpg
END:VEVENT
BEGIN:VEVENT
DTSTART;TZID=America/Los_Angeles:20231029T100000
DTEND;TZID=America/Los_Angeles:20231029T180000
DTSTAMP:20260424T064205
CREATED:20231001T183914Z
LAST-MODIFIED:20231001T184841Z
UID:6141-1698573600-1698602400@treerush.com
SUMMARY:OPEN 10am-6pm
DESCRIPTION:The Park is open from 10 AM – 6 PM! \nLast Ticket Start Time 3 PM \nClick HERE to see pricing\, details\, and availability!
URL:https://treerush.com/calendar/open-10am-6pm-68/
CATEGORIES:OPEN HOURS
ATTACH;FMTTYPE=image/jpeg:https://treerush.com/wp-content/uploads/2023/03/Drone-Image-scaled.jpg
END:VEVENT
BEGIN:VEVENT
DTSTART;TZID=America/Los_Angeles:20231104T100000
DTEND;TZID=America/Los_Angeles:20231104T180000
DTSTAMP:20260424T064205
CREATED:20231001T183914Z
LAST-MODIFIED:20231001T185748Z
UID:6158-1699092000-1699120800@treerush.com
SUMMARY:OPEN 10am-6pm
DESCRIPTION:The Park is open from 10 AM – 6 PM! \nLast Ticket Start Time 3 PM \nClick HERE to see pricing\, details\, and availability!
URL:https://treerush.com/calendar/open-10am-6pm-69/
CATEGORIES:OPEN HOURS
ATTACH;FMTTYPE=image/jpeg:https://treerush.com/wp-content/uploads/2023/03/Drone-Image-scaled.jpg
END:VEVENT
BEGIN:VEVENT
DTSTART;TZID=America/Los_Angeles:20231105T100000
DTEND;TZID=America/Los_Angeles:20231105T180000
DTSTAMP:20260424T064205
CREATED:20231001T183914Z
LAST-MODIFIED:20231001T185809Z
UID:6160-1699178400-1699207200@treerush.com
SUMMARY:OPEN 10am-6pm
DESCRIPTION:The Park is open from 10 AM – 6 PM! \nLast Ticket Start Time 3 PM \nClick HERE to see pricing\, details\, and availability!
URL:https://treerush.com/calendar/open-10am-6pm-70/
CATEGORIES:OPEN HOURS
ATTACH;FMTTYPE=image/jpeg:https://treerush.com/wp-content/uploads/2023/03/Drone-Image-scaled.jpg
END:VEVENT
END:VCALENDAR