
BEGIN:VCALENDAR
VERSION:2.0
PRODID:-//TreeRush Adventures - ECPv6.6.0.1//NONSGML v1.0//EN
CALSCALE:GREGORIAN
METHOD:PUBLISH
X-WR-CALNAME:TreeRush Adventures
X-ORIGINAL-URL:https://treerush.com
X-WR-CALDESC:Events for TreeRush Adventures
REFRESH-INTERVAL;VALUE=DURATION:PT1H
X-Robots-Tag:noindex
X-PUBLISHED-TTL:PT1H
BEGIN:VTIMEZONE
TZID:America/Los_Angeles
BEGIN:DAYLIGHT
TZOFFSETFROM:-0800
TZOFFSETTO:-0700
TZNAME:PDT
DTSTART:20240310T100000
END:DAYLIGHT
BEGIN:STANDARD
TZOFFSETFROM:-0700
TZOFFSETTO:-0800
TZNAME:PST
DTSTART:20241103T090000
END:STANDARD
END:VTIMEZONE
BEGIN:VEVENT
DTSTART;TZID=America/Los_Angeles:20240530T140000
DTEND;TZID=America/Los_Angeles:20240530T180000
DTSTAMP:20260424T200258
CREATED:20230811T184630Z
LAST-MODIFIED:20240413T190103Z
UID:6534-1717077600-1717092000@treerush.com
SUMMARY:Try-It Tickets
DESCRIPTION:Try-It Tickets (Save Big $$$$) \n 2 Hour Climb Time / Some High Courses Close prior to Our Posted Closing Time \nTry-It Tickets Sold 2:00pm-6:00pm \nClick HERE to see pricing\, details\, and availability!
URL:https://treerush.com/calendar/try-it-tickets-67/
CATEGORIES:Try-It Tickets
ATTACH;FMTTYPE=image/jpeg:https://treerush.com/wp-content/uploads/2023/08/Copy-of-TreeRush-Adventures-37-scaled.jpg
END:VEVENT
BEGIN:VEVENT
DTSTART;TZID=America/Los_Angeles:20240531T090000
DTEND;TZID=America/Los_Angeles:20240531T220000
DTSTAMP:20260424T200258
CREATED:20231001T183914Z
LAST-MODIFIED:20240413T194137Z
UID:6564-1717146000-1717192800@treerush.com
SUMMARY:OPEN 9am-10pm
DESCRIPTION:  \nThe Park is open from 9 AM – 10 PM! \nLast Ticket Start Time 7:15 PM \nClick HERE to see pricing\, details\, and availability!
URL:https://treerush.com/calendar/open-9am-8pm-23/
CATEGORIES:OPEN HOURS
ATTACH;FMTTYPE=image/jpeg:https://treerush.com/wp-content/uploads/2023/10/ginger-man-red-gloves-scaled.jpg
END:VEVENT
BEGIN:VEVENT
DTSTART;TZID=America/Los_Angeles:20240531T180000
DTEND;TZID=America/Los_Angeles:20240531T220000
DTSTAMP:20260424T200258
CREATED:20230402T222531Z
LAST-MODIFIED:20240413T190808Z
UID:6540-1717178400-1717192800@treerush.com
SUMMARY:GLOW NIGHT
DESCRIPTION:Zip & Climb Party in the Trees\nTickets Sold 6:00pm – 7:15pm \nDJ / FREE Glow Souvenirs / 2 to 3 Hour Experience / Ages 7 & UP \nClick HERE for pricing\, details\, & Availability!
URL:https://treerush.com/calendar/glow-night-38/
CATEGORIES:GLOW
ATTACH;FMTTYPE=image/jpeg:https://treerush.com/wp-content/uploads/2023/04/Copy-of-treerush7856-scaled.jpg
END:VEVENT
BEGIN:VEVENT
DTSTART;TZID=America/Los_Angeles:20240601T090000
DTEND;TZID=America/Los_Angeles:20240601T220000
DTSTAMP:20260424T200258
CREATED:20231001T183914Z
LAST-MODIFIED:20240413T195356Z
UID:6575-1717232400-1717279200@treerush.com
SUMMARY:OPEN 9am-10pm
DESCRIPTION:  \nThe Park is open from 9 AM – 10 PM! \nLast Ticket Start Time 7:15 PM \nClick HERE to see pricing\, details\, and availability!
URL:https://treerush.com/calendar/open-9am-10pm-79/
CATEGORIES:OPEN HOURS
ATTACH;FMTTYPE=image/jpeg:https://treerush.com/wp-content/uploads/2023/10/ginger-man-red-gloves-scaled.jpg
END:VEVENT
BEGIN:VEVENT
DTSTART;TZID=America/Los_Angeles:20240601T180000
DTEND;TZID=America/Los_Angeles:20240601T220000
DTSTAMP:20260424T200258
CREATED:20230402T222531Z
LAST-MODIFIED:20240413T190909Z
UID:6542-1717264800-1717279200@treerush.com
SUMMARY:GLOW NIGHT
DESCRIPTION:Zip & Climb Party in the Trees\nTickets Sold 6:00pm – 7:15pm \nDJ / FREE Glow Souvenirs / 2 to 3 Hour Experience / Ages 7 & UP \nClick HERE for pricing\, details\, & Availability!
URL:https://treerush.com/calendar/glow-night-39/
CATEGORIES:GLOW
ATTACH;FMTTYPE=image/jpeg:https://treerush.com/wp-content/uploads/2023/04/Copy-of-treerush7856-scaled.jpg
END:VEVENT
BEGIN:VEVENT
DTSTART;TZID=America/Los_Angeles:20240602T090000
DTEND;TZID=America/Los_Angeles:20240602T220000
DTSTAMP:20260424T200258
CREATED:20231001T183914Z
LAST-MODIFIED:20240413T200151Z
UID:6593-1717318800-1717365600@treerush.com
SUMMARY:OPEN 9am-10pm
DESCRIPTION:  \nThe Park is open from 9 AM – 10 PM! \nLast Ticket Start Time 7:00 PM \nClick HERE to see pricing\, details\, and availability!
URL:https://treerush.com/calendar/open-9am-10pm-88/
CATEGORIES:OPEN HOURS
ATTACH;FMTTYPE=image/jpeg:https://treerush.com/wp-content/uploads/2023/10/ginger-man-red-gloves-scaled.jpg
END:VEVENT
BEGIN:VEVENT
DTSTART;TZID=America/Los_Angeles:20240603T090000
DTEND;TZID=America/Los_Angeles:20240603T200000
DTSTAMP:20260424T200258
CREATED:20231001T183914Z
LAST-MODIFIED:20240319T170529Z
UID:6460-1717405200-1717444800@treerush.com
SUMMARY:OPEN 9am-8pm
DESCRIPTION:  \nThe Park is open from 9 AM – 8 PM! \nLast Ticket Start Time 5 PM \nClick HERE to see pricing\, details\, and availability!
URL:https://treerush.com/calendar/open-9am-8pm-5/
CATEGORIES:OPEN HOURS
ATTACH;FMTTYPE=image/jpeg:https://treerush.com/wp-content/uploads/2023/10/ginger-man-red-gloves-scaled.jpg
END:VEVENT
BEGIN:VEVENT
DTSTART;TZID=America/Los_Angeles:20240603T140000
DTEND;TZID=America/Los_Angeles:20240603T180000
DTSTAMP:20260424T200258
CREATED:20230811T184630Z
LAST-MODIFIED:20240413T200803Z
UID:6603-1717423200-1717437600@treerush.com
SUMMARY:Try-It Tickets
DESCRIPTION:Try-It Tickets (Save Big $$$$) \n 2 Hour Climb Time / Some High Courses Close prior to Our Posted Closing Time \nTry-It Tickets Sold 2:00pm-6:00pm \nClick HERE to see pricing\, details\, and availability!
URL:https://treerush.com/calendar/try-it-tickets-68/
CATEGORIES:Try-It Tickets
ATTACH;FMTTYPE=image/jpeg:https://treerush.com/wp-content/uploads/2023/08/Copy-of-TreeRush-Adventures-37-scaled.jpg
END:VEVENT
BEGIN:VEVENT
DTSTART;TZID=America/Los_Angeles:20240604T090000
DTEND;TZID=America/Los_Angeles:20240604T200000
DTSTAMP:20260424T200258
CREATED:20231001T183914Z
LAST-MODIFIED:20240319T170623Z
UID:6463-1717491600-1717531200@treerush.com
SUMMARY:OPEN 9am-8pm
DESCRIPTION:  \nThe Park is open from 9 AM – 8 PM! \nLast Ticket Start Time 5 PM \nClick HERE to see pricing\, details\, and availability!
URL:https://treerush.com/calendar/open-9am-8pm-6/
CATEGORIES:OPEN HOURS
ATTACH;FMTTYPE=image/jpeg:https://treerush.com/wp-content/uploads/2023/10/ginger-man-red-gloves-scaled.jpg
END:VEVENT
BEGIN:VEVENT
DTSTART;TZID=America/Los_Angeles:20240604T140000
DTEND;TZID=America/Los_Angeles:20240604T180000
DTSTAMP:20260424T200258
CREATED:20230811T184630Z
LAST-MODIFIED:20240413T200847Z
UID:6605-1717509600-1717524000@treerush.com
SUMMARY:Try-It Tickets
DESCRIPTION:Try-It Tickets (Save Big $$$$) \n 2 Hour Climb Time / Some High Courses Close prior to Our Posted Closing Time \nTry-It Tickets Sold 2:00pm-6:00pm \nClick HERE to see pricing\, details\, and availability!
URL:https://treerush.com/calendar/try-it-tickets-69/
CATEGORIES:Try-It Tickets
ATTACH;FMTTYPE=image/jpeg:https://treerush.com/wp-content/uploads/2023/08/Copy-of-TreeRush-Adventures-37-scaled.jpg
END:VEVENT
BEGIN:VEVENT
DTSTART;TZID=America/Los_Angeles:20240605T090000
DTEND;TZID=America/Los_Angeles:20240605T200000
DTSTAMP:20260424T200258
CREATED:20231001T183914Z
LAST-MODIFIED:20240319T170700Z
UID:6465-1717578000-1717617600@treerush.com
SUMMARY:OPEN 9am-8pm
DESCRIPTION:  \nThe Park is open from 9 AM – 8 PM! \nLast Ticket Start Time 5 PM \nClick HERE to see pricing\, details\, and availability!
URL:https://treerush.com/calendar/open-9am-8pm-7/
CATEGORIES:OPEN HOURS
ATTACH;FMTTYPE=image/jpeg:https://treerush.com/wp-content/uploads/2023/10/ginger-man-red-gloves-scaled.jpg
END:VEVENT
BEGIN:VEVENT
DTSTART;TZID=America/Los_Angeles:20240605T140000
DTEND;TZID=America/Los_Angeles:20240605T180000
DTSTAMP:20260424T200258
CREATED:20230811T184630Z
LAST-MODIFIED:20240413T200921Z
UID:6607-1717596000-1717610400@treerush.com
SUMMARY:Try-It Tickets
DESCRIPTION:Try-It Tickets (Save Big $$$$) \n 2 Hour Climb Time / Some High Courses Close prior to Our Posted Closing Time \nTry-It Tickets Sold 2:00pm-6:00pm \nClick HERE to see pricing\, details\, and availability!
URL:https://treerush.com/calendar/try-it-tickets-70/
CATEGORIES:Try-It Tickets
ATTACH;FMTTYPE=image/jpeg:https://treerush.com/wp-content/uploads/2023/08/Copy-of-TreeRush-Adventures-37-scaled.jpg
END:VEVENT
BEGIN:VEVENT
DTSTART;TZID=America/Los_Angeles:20240606T090000
DTEND;TZID=America/Los_Angeles:20240606T200000
DTSTAMP:20260424T200258
CREATED:20231001T183914Z
LAST-MODIFIED:20240319T170731Z
UID:6467-1717664400-1717704000@treerush.com
SUMMARY:OPEN 9am-8pm
DESCRIPTION:  \nThe Park is open from 9 AM – 8 PM! \nLast Ticket Start Time 5 PM \nClick HERE to see pricing\, details\, and availability!
URL:https://treerush.com/calendar/open-9am-8pm-8/
CATEGORIES:OPEN HOURS
ATTACH;FMTTYPE=image/jpeg:https://treerush.com/wp-content/uploads/2023/10/ginger-man-red-gloves-scaled.jpg
END:VEVENT
BEGIN:VEVENT
DTSTART;TZID=America/Los_Angeles:20240606T140000
DTEND;TZID=America/Los_Angeles:20240606T180000
DTSTAMP:20260424T200258
CREATED:20230811T184630Z
LAST-MODIFIED:20240413T200953Z
UID:6609-1717682400-1717696800@treerush.com
SUMMARY:Try-It Tickets
DESCRIPTION:Try-It Tickets (Save Big $$$$) \n 2 Hour Climb Time / Some High Courses Close prior to Our Posted Closing Time \nTry-It Tickets Sold 2:00pm-6:00pm \nClick HERE to see pricing\, details\, and availability!
URL:https://treerush.com/calendar/try-it-tickets-71/
CATEGORIES:Try-It Tickets
ATTACH;FMTTYPE=image/jpeg:https://treerush.com/wp-content/uploads/2023/08/Copy-of-TreeRush-Adventures-37-scaled.jpg
END:VEVENT
BEGIN:VEVENT
DTSTART;TZID=America/Los_Angeles:20240607T090000
DTEND;TZID=America/Los_Angeles:20240607T220000
DTSTAMP:20260424T200258
CREATED:20231001T183914Z
LAST-MODIFIED:20240413T195454Z
UID:6577-1717750800-1717797600@treerush.com
SUMMARY:OPEN 9am-10pm
DESCRIPTION:  \nThe Park is open from 9 AM – 10 PM! \nLast Ticket Start Time 7:15 PM \nClick HERE to see pricing\, details\, and availability!
URL:https://treerush.com/calendar/open-9am-10pm-80/
CATEGORIES:OPEN HOURS
ATTACH;FMTTYPE=image/jpeg:https://treerush.com/wp-content/uploads/2023/10/ginger-man-red-gloves-scaled.jpg
END:VEVENT
BEGIN:VEVENT
DTSTART;TZID=America/Los_Angeles:20240607T180000
DTEND;TZID=America/Los_Angeles:20240607T220000
DTSTAMP:20260424T200258
CREATED:20230402T222531Z
LAST-MODIFIED:20240413T191018Z
UID:6544-1717783200-1717797600@treerush.com
SUMMARY:GLOW NIGHT
DESCRIPTION:Zip & Climb Party in the Trees\nTickets Sold 6:00pm – 7:15pm \nDJ / FREE Glow Souvenirs / 2 to 3 Hour Experience / Ages 7 & UP \nClick HERE for pricing\, details\, & Availability!
URL:https://treerush.com/calendar/glow-night-40/
CATEGORIES:GLOW
ATTACH;FMTTYPE=image/jpeg:https://treerush.com/wp-content/uploads/2023/04/Copy-of-treerush7856-scaled.jpg
END:VEVENT
BEGIN:VEVENT
DTSTART;TZID=America/Los_Angeles:20240608T090000
DTEND;TZID=America/Los_Angeles:20240608T220000
DTSTAMP:20260424T200258
CREATED:20231001T183914Z
LAST-MODIFIED:20240413T195525Z
UID:6579-1717837200-1717884000@treerush.com
SUMMARY:OPEN 9am-10pm
DESCRIPTION:  \nThe Park is open from 9 AM – 10 PM! \nLast Ticket Start Time 7:15 PM \nClick HERE to see pricing\, details\, and availability!
URL:https://treerush.com/calendar/open-9am-10pm-81/
CATEGORIES:OPEN HOURS
ATTACH;FMTTYPE=image/jpeg:https://treerush.com/wp-content/uploads/2023/10/ginger-man-red-gloves-scaled.jpg
END:VEVENT
BEGIN:VEVENT
DTSTART;TZID=America/Los_Angeles:20240608T180000
DTEND;TZID=America/Los_Angeles:20240608T220000
DTSTAMP:20260424T200258
CREATED:20230402T222531Z
LAST-MODIFIED:20240413T191054Z
UID:6546-1717869600-1717884000@treerush.com
SUMMARY:GLOW NIGHT
DESCRIPTION:Zip & Climb Party in the Trees\nTickets Sold 6:00pm – 7:15pm \nDJ / FREE Glow Souvenirs / 2 to 3 Hour Experience / Ages 7 & UP \nClick HERE for pricing\, details\, & Availability!
URL:https://treerush.com/calendar/glow-night-41/
CATEGORIES:GLOW
ATTACH;FMTTYPE=image/jpeg:https://treerush.com/wp-content/uploads/2023/04/Copy-of-treerush7856-scaled.jpg
END:VEVENT
BEGIN:VEVENT
DTSTART;TZID=America/Los_Angeles:20240609T090000
DTEND;TZID=America/Los_Angeles:20240609T220000
DTSTAMP:20260424T200258
CREATED:20231001T183914Z
LAST-MODIFIED:20240413T200228Z
UID:6595-1717923600-1717970400@treerush.com
SUMMARY:OPEN 9am-10pm
DESCRIPTION:  \nThe Park is open from 9 AM – 10 PM! \nLast Ticket Start Time 7:00 PM \nClick HERE to see pricing\, details\, and availability!
URL:https://treerush.com/calendar/open-9am-10pm-89/
CATEGORIES:OPEN HOURS
ATTACH;FMTTYPE=image/jpeg:https://treerush.com/wp-content/uploads/2023/10/ginger-man-red-gloves-scaled.jpg
END:VEVENT
BEGIN:VEVENT
DTSTART;TZID=America/Los_Angeles:20240610T090000
DTEND;TZID=America/Los_Angeles:20240610T200000
DTSTAMP:20260424T200258
CREATED:20231001T183914Z
LAST-MODIFIED:20240319T170812Z
UID:6469-1718010000-1718049600@treerush.com
SUMMARY:OPEN 9am-8pm
DESCRIPTION:  \nThe Park is open from 9 AM – 8 PM! \nLast Ticket Start Time 5 PM \nClick HERE to see pricing\, details\, and availability!
URL:https://treerush.com/calendar/open-9am-8pm-9/
CATEGORIES:OPEN HOURS
ATTACH;FMTTYPE=image/jpeg:https://treerush.com/wp-content/uploads/2023/10/ginger-man-red-gloves-scaled.jpg
END:VEVENT
BEGIN:VEVENT
DTSTART;TZID=America/Los_Angeles:20240610T140000
DTEND;TZID=America/Los_Angeles:20240610T180000
DTSTAMP:20260424T200258
CREATED:20230811T184630Z
LAST-MODIFIED:20240413T201032Z
UID:6611-1718028000-1718042400@treerush.com
SUMMARY:Try-It Tickets
DESCRIPTION:Try-It Tickets (Save Big $$$$) \n 2 Hour Climb Time / Some High Courses Close prior to Our Posted Closing Time \nTry-It Tickets Sold 2:00pm-6:00pm \nClick HERE to see pricing\, details\, and availability!
URL:https://treerush.com/calendar/try-it-tickets-72/
CATEGORIES:Try-It Tickets
ATTACH;FMTTYPE=image/jpeg:https://treerush.com/wp-content/uploads/2023/08/Copy-of-TreeRush-Adventures-37-scaled.jpg
END:VEVENT
BEGIN:VEVENT
DTSTART;TZID=America/Los_Angeles:20240611T090000
DTEND;TZID=America/Los_Angeles:20240611T200000
DTSTAMP:20260424T200258
CREATED:20231001T183914Z
LAST-MODIFIED:20240319T170846Z
UID:6471-1718096400-1718136000@treerush.com
SUMMARY:OPEN 9am-8pm
DESCRIPTION:  \nThe Park is open from 9 AM – 8 PM! \nLast Ticket Start Time 5 PM \nClick HERE to see pricing\, details\, and availability!
URL:https://treerush.com/calendar/open-9am-8pm-10/
CATEGORIES:OPEN HOURS
ATTACH;FMTTYPE=image/jpeg:https://treerush.com/wp-content/uploads/2023/10/ginger-man-red-gloves-scaled.jpg
END:VEVENT
BEGIN:VEVENT
DTSTART;TZID=America/Los_Angeles:20240611T140000
DTEND;TZID=America/Los_Angeles:20240611T180000
DTSTAMP:20260424T200258
CREATED:20230811T184630Z
LAST-MODIFIED:20240413T201104Z
UID:6613-1718114400-1718128800@treerush.com
SUMMARY:Try-It Tickets
DESCRIPTION:Try-It Tickets (Save Big $$$$) \n 2 Hour Climb Time / Some High Courses Close prior to Our Posted Closing Time \nTry-It Tickets Sold 2:00pm-6:00pm \nClick HERE to see pricing\, details\, and availability!
URL:https://treerush.com/calendar/try-it-tickets-73/
CATEGORIES:Try-It Tickets
ATTACH;FMTTYPE=image/jpeg:https://treerush.com/wp-content/uploads/2023/08/Copy-of-TreeRush-Adventures-37-scaled.jpg
END:VEVENT
BEGIN:VEVENT
DTSTART;TZID=America/Los_Angeles:20240612T090000
DTEND;TZID=America/Los_Angeles:20240612T200000
DTSTAMP:20260424T200258
CREATED:20231001T183914Z
LAST-MODIFIED:20240319T170924Z
UID:6473-1718182800-1718222400@treerush.com
SUMMARY:OPEN 9am-8pm
DESCRIPTION:  \nThe Park is open from 9 AM – 8 PM! \nLast Ticket Start Time 5 PM \nClick HERE to see pricing\, details\, and availability!
URL:https://treerush.com/calendar/open-9am-8pm-11/
CATEGORIES:OPEN HOURS
ATTACH;FMTTYPE=image/jpeg:https://treerush.com/wp-content/uploads/2023/10/ginger-man-red-gloves-scaled.jpg
END:VEVENT
BEGIN:VEVENT
DTSTART;TZID=America/Los_Angeles:20240612T140000
DTEND;TZID=America/Los_Angeles:20240612T180000
DTSTAMP:20260424T200258
CREATED:20230811T184630Z
LAST-MODIFIED:20240413T201136Z
UID:6615-1718200800-1718215200@treerush.com
SUMMARY:Try-It Tickets
DESCRIPTION:Try-It Tickets (Save Big $$$$) \n 2 Hour Climb Time / Some High Courses Close prior to Our Posted Closing Time \nTry-It Tickets Sold 2:00pm-6:00pm \nClick HERE to see pricing\, details\, and availability!
URL:https://treerush.com/calendar/try-it-tickets-74/
CATEGORIES:Try-It Tickets
ATTACH;FMTTYPE=image/jpeg:https://treerush.com/wp-content/uploads/2023/08/Copy-of-TreeRush-Adventures-37-scaled.jpg
END:VEVENT
BEGIN:VEVENT
DTSTART;TZID=America/Los_Angeles:20240613T090000
DTEND;TZID=America/Los_Angeles:20240613T200000
DTSTAMP:20260424T200258
CREATED:20231001T183914Z
LAST-MODIFIED:20240319T170955Z
UID:6475-1718269200-1718308800@treerush.com
SUMMARY:OPEN 9am-8pm
DESCRIPTION:  \nThe Park is open from 9 AM – 8 PM! \nLast Ticket Start Time 5 PM \nClick HERE to see pricing\, details\, and availability!
URL:https://treerush.com/calendar/open-9am-8pm-12/
CATEGORIES:OPEN HOURS
ATTACH;FMTTYPE=image/jpeg:https://treerush.com/wp-content/uploads/2023/10/ginger-man-red-gloves-scaled.jpg
END:VEVENT
BEGIN:VEVENT
DTSTART;TZID=America/Los_Angeles:20240613T140000
DTEND;TZID=America/Los_Angeles:20240613T180000
DTSTAMP:20260424T200258
CREATED:20230811T184630Z
LAST-MODIFIED:20240413T201208Z
UID:6617-1718287200-1718301600@treerush.com
SUMMARY:Try-It Tickets
DESCRIPTION:Try-It Tickets (Save Big $$$$) \n 2 Hour Climb Time / Some High Courses Close prior to Our Posted Closing Time \nTry-It Tickets Sold 2:00pm-6:00pm \nClick HERE to see pricing\, details\, and availability!
URL:https://treerush.com/calendar/try-it-tickets-75/
CATEGORIES:Try-It Tickets
ATTACH;FMTTYPE=image/jpeg:https://treerush.com/wp-content/uploads/2023/08/Copy-of-TreeRush-Adventures-37-scaled.jpg
END:VEVENT
BEGIN:VEVENT
DTSTART;TZID=America/Los_Angeles:20240614T090000
DTEND;TZID=America/Los_Angeles:20240614T220000
DTSTAMP:20260424T200258
CREATED:20231001T183914Z
LAST-MODIFIED:20240413T195603Z
UID:6581-1718355600-1718402400@treerush.com
SUMMARY:OPEN 9am-10pm
DESCRIPTION:  \nThe Park is open from 9 AM – 10 PM! \nLast Ticket Start Time 7:15 PM \nClick HERE to see pricing\, details\, and availability!
URL:https://treerush.com/calendar/open-9am-10pm-82/
CATEGORIES:OPEN HOURS
ATTACH;FMTTYPE=image/jpeg:https://treerush.com/wp-content/uploads/2023/10/ginger-man-red-gloves-scaled.jpg
END:VEVENT
BEGIN:VEVENT
DTSTART;TZID=America/Los_Angeles:20240614T180000
DTEND;TZID=America/Los_Angeles:20240614T220000
DTSTAMP:20260424T200258
CREATED:20230402T222531Z
LAST-MODIFIED:20240413T191141Z
UID:6548-1718388000-1718402400@treerush.com
SUMMARY:GLOW NIGHT
DESCRIPTION:Zip & Climb Party in the Trees\nTickets Sold 6:00pm – 7:15pm \nDJ / FREE Glow Souvenirs / 2 to 3 Hour Experience / Ages 7 & UP \nClick HERE for pricing\, details\, & Availability!
URL:https://treerush.com/calendar/glow-night-42/
CATEGORIES:GLOW
ATTACH;FMTTYPE=image/jpeg:https://treerush.com/wp-content/uploads/2023/04/Copy-of-treerush7856-scaled.jpg
END:VEVENT
BEGIN:VEVENT
DTSTART;TZID=America/Los_Angeles:20240615T090000
DTEND;TZID=America/Los_Angeles:20240615T220000
DTSTAMP:20260424T200258
CREATED:20231001T183914Z
LAST-MODIFIED:20240413T195645Z
UID:6583-1718442000-1718488800@treerush.com
SUMMARY:OPEN 9am-10pm
DESCRIPTION:  \nThe Park is open from 9 AM – 10 PM! \nLast Ticket Start Time 7:15 PM \nClick HERE to see pricing\, details\, and availability!
URL:https://treerush.com/calendar/open-9am-10pm-83/
CATEGORIES:OPEN HOURS
ATTACH;FMTTYPE=image/jpeg:https://treerush.com/wp-content/uploads/2023/10/ginger-man-red-gloves-scaled.jpg
END:VEVENT
END:VCALENDAR