
BEGIN:VCALENDAR
VERSION:2.0
PRODID:-//TreeRush Adventures - ECPv6.6.0.1//NONSGML v1.0//EN
CALSCALE:GREGORIAN
METHOD:PUBLISH
X-WR-CALNAME:TreeRush Adventures
X-ORIGINAL-URL:https://treerush.com
X-WR-CALDESC:Events for TreeRush Adventures
REFRESH-INTERVAL;VALUE=DURATION:PT1H
X-Robots-Tag:noindex
X-PUBLISHED-TTL:PT1H
BEGIN:VTIMEZONE
TZID:America/Los_Angeles
BEGIN:DAYLIGHT
TZOFFSETFROM:-0800
TZOFFSETTO:-0700
TZNAME:PDT
DTSTART:20240310T100000
END:DAYLIGHT
BEGIN:STANDARD
TZOFFSETFROM:-0700
TZOFFSETTO:-0800
TZNAME:PST
DTSTART:20241103T090000
END:STANDARD
END:VTIMEZONE
BEGIN:VEVENT
DTSTART;TZID=America/Los_Angeles:20240709T090000
DTEND;TZID=America/Los_Angeles:20240709T200000
DTSTAMP:20260425T051736
CREATED:20231001T183914Z
LAST-MODIFIED:20240522T183332Z
UID:6658-1720515600-1720555200@treerush.com
SUMMARY:OPEN 9am-8pm
DESCRIPTION:  \nThe Park is open from 9 AM – 8 PM! \nLast Ticket Start Time 5 PM \nClick HERE to see pricing\, details\, and availability!
URL:https://treerush.com/calendar/open-9am-8pm-30/
CATEGORIES:OPEN HOURS
ATTACH;FMTTYPE=image/jpeg:https://treerush.com/wp-content/uploads/2023/10/ginger-man-red-gloves-scaled.jpg
END:VEVENT
BEGIN:VEVENT
DTSTART;TZID=America/Los_Angeles:20240709T140000
DTEND;TZID=America/Los_Angeles:20240709T180000
DTSTAMP:20260425T051736
CREATED:20230811T184630Z
LAST-MODIFIED:20240522T192319Z
UID:6737-1720533600-1720548000@treerush.com
SUMMARY:Try-It Tickets
DESCRIPTION:Try-It Tickets (Save Big $$$$) \n 2 Hour Climb Time / Some High Courses Close prior to Our Posted Closing Time \nTry-It Tickets Sold 2:00pm-6:00pm \nClick HERE to see pricing\, details\, and availability!
URL:https://treerush.com/calendar/try-it-tickets-88/
CATEGORIES:Try-It Tickets
ATTACH;FMTTYPE=image/jpeg:https://treerush.com/wp-content/uploads/2023/08/Copy-of-TreeRush-Adventures-37-scaled.jpg
END:VEVENT
BEGIN:VEVENT
DTSTART;TZID=America/Los_Angeles:20240710T090000
DTEND;TZID=America/Los_Angeles:20240710T200000
DTSTAMP:20260425T051736
CREATED:20231001T183914Z
LAST-MODIFIED:20240522T183458Z
UID:6661-1720602000-1720641600@treerush.com
SUMMARY:OPEN 9am-8pm
DESCRIPTION:  \nThe Park is open from 9 AM – 8 PM! \nLast Ticket Start Time 5 PM \nClick HERE to see pricing\, details\, and availability!
URL:https://treerush.com/calendar/open-9am-8pm-31/
CATEGORIES:OPEN HOURS
ATTACH;FMTTYPE=image/jpeg:https://treerush.com/wp-content/uploads/2023/10/ginger-man-red-gloves-scaled.jpg
END:VEVENT
BEGIN:VEVENT
DTSTART;TZID=America/Los_Angeles:20240710T140000
DTEND;TZID=America/Los_Angeles:20240710T180000
DTSTAMP:20260425T051736
CREATED:20230811T184630Z
LAST-MODIFIED:20240522T192335Z
UID:6739-1720620000-1720634400@treerush.com
SUMMARY:Try-It Tickets
DESCRIPTION:Try-It Tickets (Save Big $$$$) \n 2 Hour Climb Time / Some High Courses Close prior to Our Posted Closing Time \nTry-It Tickets Sold 2:00pm-6:00pm \nClick HERE to see pricing\, details\, and availability!
URL:https://treerush.com/calendar/try-it-tickets-89/
CATEGORIES:Try-It Tickets
ATTACH;FMTTYPE=image/jpeg:https://treerush.com/wp-content/uploads/2023/08/Copy-of-TreeRush-Adventures-37-scaled.jpg
END:VEVENT
BEGIN:VEVENT
DTSTART;TZID=America/Los_Angeles:20240711T090000
DTEND;TZID=America/Los_Angeles:20240711T200000
DTSTAMP:20260425T051736
CREATED:20231001T183914Z
LAST-MODIFIED:20240522T183556Z
UID:6663-1720688400-1720728000@treerush.com
SUMMARY:OPEN 9am-8pm
DESCRIPTION:  \nThe Park is open from 9 AM – 8 PM! \nLast Ticket Start Time 5 PM \nClick HERE to see pricing\, details\, and availability!
URL:https://treerush.com/calendar/open-9am-8pm-32/
CATEGORIES:OPEN HOURS
ATTACH;FMTTYPE=image/jpeg:https://treerush.com/wp-content/uploads/2023/10/ginger-man-red-gloves-scaled.jpg
END:VEVENT
BEGIN:VEVENT
DTSTART;TZID=America/Los_Angeles:20240711T140000
DTEND;TZID=America/Los_Angeles:20240711T180000
DTSTAMP:20260425T051736
CREATED:20230811T184630Z
LAST-MODIFIED:20240522T192352Z
UID:6741-1720706400-1720720800@treerush.com
SUMMARY:Try-It Tickets
DESCRIPTION:Try-It Tickets (Save Big $$$$) \n 2 Hour Climb Time / Some High Courses Close prior to Our Posted Closing Time \nTry-It Tickets Sold 2:00pm-6:00pm \nClick HERE to see pricing\, details\, and availability!
URL:https://treerush.com/calendar/try-it-tickets-90/
CATEGORIES:Try-It Tickets
ATTACH;FMTTYPE=image/jpeg:https://treerush.com/wp-content/uploads/2023/08/Copy-of-TreeRush-Adventures-37-scaled.jpg
END:VEVENT
BEGIN:VEVENT
DTSTART;TZID=America/Los_Angeles:20240712T090000
DTEND;TZID=America/Los_Angeles:20240712T220000
DTSTAMP:20260425T051736
CREATED:20231001T183914Z
LAST-MODIFIED:20240522T190513Z
UID:6692-1720774800-1720821600@treerush.com
SUMMARY:OPEN 9am-10pm
DESCRIPTION:  \nThe Park is open from 9 AM – 10 PM! \nLast Ticket Start Time 7:15 PM \nClick HERE to see pricing\, details\, and availability!
URL:https://treerush.com/calendar/open-9am-10pm-95/
CATEGORIES:OPEN HOURS
ATTACH;FMTTYPE=image/jpeg:https://treerush.com/wp-content/uploads/2023/10/ginger-man-red-gloves-scaled.jpg
END:VEVENT
BEGIN:VEVENT
DTSTART;TZID=America/Los_Angeles:20240712T180000
DTEND;TZID=America/Los_Angeles:20240712T220000
DTSTAMP:20260425T051736
CREATED:20230402T222531Z
LAST-MODIFIED:20240522T191819Z
UID:6719-1720807200-1720821600@treerush.com
SUMMARY:GLOW NIGHT
DESCRIPTION:Zip & Climb Party in the Trees\nTickets Sold 6:00pm – 7:15pm \nDJ / FREE Glow Souvenirs / 2 to 3 Hour Experience / Ages 7 & UP \nClick HERE for pricing\, details\, & Availability!
URL:https://treerush.com/calendar/glow-night-50/
CATEGORIES:GLOW
ATTACH;FMTTYPE=image/jpeg:https://treerush.com/wp-content/uploads/2023/04/Copy-of-treerush7856-scaled.jpg
END:VEVENT
BEGIN:VEVENT
DTSTART;TZID=America/Los_Angeles:20240713T090000
DTEND;TZID=America/Los_Angeles:20240713T220000
DTSTAMP:20260425T051736
CREATED:20231001T183914Z
LAST-MODIFIED:20240522T190537Z
UID:6694-1720861200-1720908000@treerush.com
SUMMARY:OPEN 9am-10pm
DESCRIPTION:  \nThe Park is open from 9 AM – 10 PM! \nLast Ticket Start Time 7:15 PM \nClick HERE to see pricing\, details\, and availability!
URL:https://treerush.com/calendar/open-9am-10pm-96/
CATEGORIES:OPEN HOURS
ATTACH;FMTTYPE=image/jpeg:https://treerush.com/wp-content/uploads/2023/10/ginger-man-red-gloves-scaled.jpg
END:VEVENT
BEGIN:VEVENT
DTSTART;TZID=America/Los_Angeles:20240713T180000
DTEND;TZID=America/Los_Angeles:20240713T220000
DTSTAMP:20260425T051736
CREATED:20230402T222531Z
LAST-MODIFIED:20240522T191839Z
UID:6721-1720893600-1720908000@treerush.com
SUMMARY:GLOW NIGHT
DESCRIPTION:Zip & Climb Party in the Trees\nTickets Sold 6:00pm – 7:15pm \nDJ / FREE Glow Souvenirs / 2 to 3 Hour Experience / Ages 7 & UP \nClick HERE for pricing\, details\, & Availability!
URL:https://treerush.com/calendar/glow-night-51/
CATEGORIES:GLOW
ATTACH;FMTTYPE=image/jpeg:https://treerush.com/wp-content/uploads/2023/04/Copy-of-treerush7856-scaled.jpg
END:VEVENT
BEGIN:VEVENT
DTSTART;TZID=America/Los_Angeles:20240714T090000
DTEND;TZID=America/Los_Angeles:20240714T220000
DTSTAMP:20260425T051736
CREATED:20231001T183914Z
LAST-MODIFIED:20240522T191036Z
UID:6704-1720947600-1720994400@treerush.com
SUMMARY:OPEN 9am-10pm
DESCRIPTION:  \nThe Park is open from 9 AM – 10 PM! \nLast Ticket Start Time 7:00 PM \nClick HERE to see pricing\, details\, and availability!
URL:https://treerush.com/calendar/open-9am-10pm-101/
CATEGORIES:OPEN HOURS
ATTACH;FMTTYPE=image/jpeg:https://treerush.com/wp-content/uploads/2023/10/ginger-man-red-gloves-scaled.jpg
END:VEVENT
BEGIN:VEVENT
DTSTART;TZID=America/Los_Angeles:20240715T090000
DTEND;TZID=America/Los_Angeles:20240715T200000
DTSTAMP:20260425T051736
CREATED:20231001T183914Z
LAST-MODIFIED:20240522T183701Z
UID:6665-1721034000-1721073600@treerush.com
SUMMARY:OPEN 9am-8pm
DESCRIPTION:  \nThe Park is open from 9 AM – 8 PM! \nLast Ticket Start Time 5 PM \nClick HERE to see pricing\, details\, and availability!
URL:https://treerush.com/calendar/open-9am-8pm-33/
CATEGORIES:OPEN HOURS
ATTACH;FMTTYPE=image/jpeg:https://treerush.com/wp-content/uploads/2023/10/ginger-man-red-gloves-scaled.jpg
END:VEVENT
BEGIN:VEVENT
DTSTART;TZID=America/Los_Angeles:20240715T140000
DTEND;TZID=America/Los_Angeles:20240715T180000
DTSTAMP:20260425T051736
CREATED:20230811T184630Z
LAST-MODIFIED:20240522T192423Z
UID:6743-1721052000-1721066400@treerush.com
SUMMARY:Try-It Tickets
DESCRIPTION:Try-It Tickets (Save Big $$$$) \n 2 Hour Climb Time / Some High Courses Close prior to Our Posted Closing Time \nTry-It Tickets Sold 2:00pm-6:00pm \nClick HERE to see pricing\, details\, and availability!
URL:https://treerush.com/calendar/try-it-tickets-91/
CATEGORIES:Try-It Tickets
ATTACH;FMTTYPE=image/jpeg:https://treerush.com/wp-content/uploads/2023/08/Copy-of-TreeRush-Adventures-37-scaled.jpg
END:VEVENT
BEGIN:VEVENT
DTSTART;TZID=America/Los_Angeles:20240716T090000
DTEND;TZID=America/Los_Angeles:20240716T200000
DTSTAMP:20260425T051736
CREATED:20231001T183914Z
LAST-MODIFIED:20240522T183803Z
UID:6667-1721120400-1721160000@treerush.com
SUMMARY:OPEN 9am-8pm
DESCRIPTION:  \nThe Park is open from 9 AM – 8 PM! \nLast Ticket Start Time 5 PM \nClick HERE to see pricing\, details\, and availability!
URL:https://treerush.com/calendar/open-9am-8pm-34/
CATEGORIES:OPEN HOURS
ATTACH;FMTTYPE=image/jpeg:https://treerush.com/wp-content/uploads/2023/10/ginger-man-red-gloves-scaled.jpg
END:VEVENT
BEGIN:VEVENT
DTSTART;TZID=America/Los_Angeles:20240716T140000
DTEND;TZID=America/Los_Angeles:20240716T180000
DTSTAMP:20260425T051736
CREATED:20230811T184630Z
LAST-MODIFIED:20240522T192439Z
UID:6745-1721138400-1721152800@treerush.com
SUMMARY:Try-It Tickets
DESCRIPTION:Try-It Tickets (Save Big $$$$) \n 2 Hour Climb Time / Some High Courses Close prior to Our Posted Closing Time \nTry-It Tickets Sold 2:00pm-6:00pm \nClick HERE to see pricing\, details\, and availability!
URL:https://treerush.com/calendar/try-it-tickets-92/
CATEGORIES:Try-It Tickets
ATTACH;FMTTYPE=image/jpeg:https://treerush.com/wp-content/uploads/2023/08/Copy-of-TreeRush-Adventures-37-scaled.jpg
END:VEVENT
BEGIN:VEVENT
DTSTART;TZID=America/Los_Angeles:20240717T090000
DTEND;TZID=America/Los_Angeles:20240717T200000
DTSTAMP:20260425T051736
CREATED:20231001T183914Z
LAST-MODIFIED:20240522T184140Z
UID:6669-1721206800-1721246400@treerush.com
SUMMARY:OPEN 9am-8pm
DESCRIPTION:  \nThe Park is open from 9 AM – 8 PM! \nLast Ticket Start Time 5 PM \nClick HERE to see pricing\, details\, and availability!
URL:https://treerush.com/calendar/open-9am-8pm-35/
CATEGORIES:OPEN HOURS
ATTACH;FMTTYPE=image/jpeg:https://treerush.com/wp-content/uploads/2023/10/ginger-man-red-gloves-scaled.jpg
END:VEVENT
BEGIN:VEVENT
DTSTART;TZID=America/Los_Angeles:20240717T140000
DTEND;TZID=America/Los_Angeles:20240717T180000
DTSTAMP:20260425T051736
CREATED:20230811T184630Z
LAST-MODIFIED:20240522T192456Z
UID:6747-1721224800-1721239200@treerush.com
SUMMARY:Try-It Tickets
DESCRIPTION:Try-It Tickets (Save Big $$$$) \n 2 Hour Climb Time / Some High Courses Close prior to Our Posted Closing Time \nTry-It Tickets Sold 2:00pm-6:00pm \nClick HERE to see pricing\, details\, and availability!
URL:https://treerush.com/calendar/try-it-tickets-93/
CATEGORIES:Try-It Tickets
ATTACH;FMTTYPE=image/jpeg:https://treerush.com/wp-content/uploads/2023/08/Copy-of-TreeRush-Adventures-37-scaled.jpg
END:VEVENT
BEGIN:VEVENT
DTSTART;TZID=America/Los_Angeles:20240718T090000
DTEND;TZID=America/Los_Angeles:20240718T200000
DTSTAMP:20260425T051736
CREATED:20231001T183914Z
LAST-MODIFIED:20240522T184158Z
UID:6671-1721293200-1721332800@treerush.com
SUMMARY:OPEN 9am-8pm
DESCRIPTION:  \nThe Park is open from 9 AM – 8 PM! \nLast Ticket Start Time 5 PM \nClick HERE to see pricing\, details\, and availability!
URL:https://treerush.com/calendar/open-9am-8pm-36/
CATEGORIES:OPEN HOURS
ATTACH;FMTTYPE=image/jpeg:https://treerush.com/wp-content/uploads/2023/10/ginger-man-red-gloves-scaled.jpg
END:VEVENT
BEGIN:VEVENT
DTSTART;TZID=America/Los_Angeles:20240718T140000
DTEND;TZID=America/Los_Angeles:20240718T180000
DTSTAMP:20260425T051736
CREATED:20230811T184630Z
LAST-MODIFIED:20240522T192512Z
UID:6749-1721311200-1721325600@treerush.com
SUMMARY:Try-It Tickets
DESCRIPTION:Try-It Tickets (Save Big $$$$) \n 2 Hour Climb Time / Some High Courses Close prior to Our Posted Closing Time \nTry-It Tickets Sold 2:00pm-6:00pm \nClick HERE to see pricing\, details\, and availability!
URL:https://treerush.com/calendar/try-it-tickets-94/
CATEGORIES:Try-It Tickets
ATTACH;FMTTYPE=image/jpeg:https://treerush.com/wp-content/uploads/2023/08/Copy-of-TreeRush-Adventures-37-scaled.jpg
END:VEVENT
BEGIN:VEVENT
DTSTART;TZID=America/Los_Angeles:20240719T090000
DTEND;TZID=America/Los_Angeles:20240719T220000
DTSTAMP:20260425T051736
CREATED:20231001T183914Z
LAST-MODIFIED:20240522T190612Z
UID:6696-1721379600-1721426400@treerush.com
SUMMARY:OPEN 9am-10pm
DESCRIPTION:  \nThe Park is open from 9 AM – 10 PM! \nLast Ticket Start Time 7:15 PM \nClick HERE to see pricing\, details\, and availability!
URL:https://treerush.com/calendar/open-9am-10pm-97/
CATEGORIES:OPEN HOURS
ATTACH;FMTTYPE=image/jpeg:https://treerush.com/wp-content/uploads/2023/10/ginger-man-red-gloves-scaled.jpg
END:VEVENT
BEGIN:VEVENT
DTSTART;TZID=America/Los_Angeles:20240719T180000
DTEND;TZID=America/Los_Angeles:20240719T220000
DTSTAMP:20260425T051736
CREATED:20230402T222531Z
LAST-MODIFIED:20240522T191914Z
UID:6723-1721412000-1721426400@treerush.com
SUMMARY:GLOW NIGHT
DESCRIPTION:Zip & Climb Party in the Trees\nTickets Sold 6:00pm – 7:15pm \nDJ / FREE Glow Souvenirs / 2 to 3 Hour Experience / Ages 7 & UP \nClick HERE for pricing\, details\, & Availability!
URL:https://treerush.com/calendar/glow-night-52/
CATEGORIES:GLOW
ATTACH;FMTTYPE=image/jpeg:https://treerush.com/wp-content/uploads/2023/04/Copy-of-treerush7856-scaled.jpg
END:VEVENT
BEGIN:VEVENT
DTSTART;TZID=America/Los_Angeles:20240720T090000
DTEND;TZID=America/Los_Angeles:20240720T220000
DTSTAMP:20260425T051736
CREATED:20231001T183914Z
LAST-MODIFIED:20240522T190632Z
UID:6698-1721466000-1721512800@treerush.com
SUMMARY:OPEN 9am-10pm
DESCRIPTION:  \nThe Park is open from 9 AM – 10 PM! \nLast Ticket Start Time 7:15 PM \nClick HERE to see pricing\, details\, and availability!
URL:https://treerush.com/calendar/open-9am-10pm-98/
CATEGORIES:OPEN HOURS
ATTACH;FMTTYPE=image/jpeg:https://treerush.com/wp-content/uploads/2023/10/ginger-man-red-gloves-scaled.jpg
END:VEVENT
BEGIN:VEVENT
DTSTART;TZID=America/Los_Angeles:20240720T180000
DTEND;TZID=America/Los_Angeles:20240720T220000
DTSTAMP:20260425T051736
CREATED:20230402T222531Z
LAST-MODIFIED:20240522T191938Z
UID:6725-1721498400-1721512800@treerush.com
SUMMARY:GLOW NIGHT
DESCRIPTION:Zip & Climb Party in the Trees\nTickets Sold 6:00pm – 7:15pm \nDJ / FREE Glow Souvenirs / 2 to 3 Hour Experience / Ages 7 & UP \nClick HERE for pricing\, details\, & Availability!
URL:https://treerush.com/calendar/glow-night-53/
CATEGORIES:GLOW
ATTACH;FMTTYPE=image/jpeg:https://treerush.com/wp-content/uploads/2023/04/Copy-of-treerush7856-scaled.jpg
END:VEVENT
BEGIN:VEVENT
DTSTART;TZID=America/Los_Angeles:20240721T090000
DTEND;TZID=America/Los_Angeles:20240721T220000
DTSTAMP:20260425T051736
CREATED:20231001T183914Z
LAST-MODIFIED:20240522T191105Z
UID:6706-1721552400-1721599200@treerush.com
SUMMARY:OPEN 9am-10pm
DESCRIPTION:  \nThe Park is open from 9 AM – 10 PM! \nLast Ticket Start Time 7:00 PM \nClick HERE to see pricing\, details\, and availability!
URL:https://treerush.com/calendar/open-9am-10pm-102/
CATEGORIES:OPEN HOURS
ATTACH;FMTTYPE=image/jpeg:https://treerush.com/wp-content/uploads/2023/10/ginger-man-red-gloves-scaled.jpg
END:VEVENT
BEGIN:VEVENT
DTSTART;TZID=America/Los_Angeles:20240722T090000
DTEND;TZID=America/Los_Angeles:20240722T200000
DTSTAMP:20260425T051736
CREATED:20231001T183914Z
LAST-MODIFIED:20240522T184219Z
UID:6673-1721638800-1721678400@treerush.com
SUMMARY:OPEN 9am-8pm
DESCRIPTION:  \nThe Park is open from 9 AM – 8 PM! \nLast Ticket Start Time 5 PM \nClick HERE to see pricing\, details\, and availability!
URL:https://treerush.com/calendar/open-9am-8pm-37/
CATEGORIES:OPEN HOURS
ATTACH;FMTTYPE=image/jpeg:https://treerush.com/wp-content/uploads/2023/10/ginger-man-red-gloves-scaled.jpg
END:VEVENT
BEGIN:VEVENT
DTSTART;TZID=America/Los_Angeles:20240722T140000
DTEND;TZID=America/Los_Angeles:20240722T180000
DTSTAMP:20260425T051736
CREATED:20230811T184630Z
LAST-MODIFIED:20240522T192601Z
UID:6751-1721656800-1721671200@treerush.com
SUMMARY:Try-It Tickets
DESCRIPTION:Try-It Tickets (Save Big $$$$) \n 2 Hour Climb Time / Some High Courses Close prior to Our Posted Closing Time \nTry-It Tickets Sold 2:00pm-6:00pm \nClick HERE to see pricing\, details\, and availability!
URL:https://treerush.com/calendar/try-it-tickets-95/
CATEGORIES:Try-It Tickets
ATTACH;FMTTYPE=image/jpeg:https://treerush.com/wp-content/uploads/2023/08/Copy-of-TreeRush-Adventures-37-scaled.jpg
END:VEVENT
BEGIN:VEVENT
DTSTART;TZID=America/Los_Angeles:20240723T090000
DTEND;TZID=America/Los_Angeles:20240723T200000
DTSTAMP:20260425T051736
CREATED:20231001T183914Z
LAST-MODIFIED:20240522T184249Z
UID:6675-1721725200-1721764800@treerush.com
SUMMARY:OPEN 9am-8pm
DESCRIPTION:  \nThe Park is open from 9 AM – 8 PM! \nLast Ticket Start Time 5 PM \nClick HERE to see pricing\, details\, and availability!
URL:https://treerush.com/calendar/open-9am-8pm-38/
CATEGORIES:OPEN HOURS
ATTACH;FMTTYPE=image/jpeg:https://treerush.com/wp-content/uploads/2023/10/ginger-man-red-gloves-scaled.jpg
END:VEVENT
BEGIN:VEVENT
DTSTART;TZID=America/Los_Angeles:20240723T140000
DTEND;TZID=America/Los_Angeles:20240723T180000
DTSTAMP:20260425T051736
CREATED:20230811T184630Z
LAST-MODIFIED:20240522T192619Z
UID:6753-1721743200-1721757600@treerush.com
SUMMARY:Try-It Tickets
DESCRIPTION:Try-It Tickets (Save Big $$$$) \n 2 Hour Climb Time / Some High Courses Close prior to Our Posted Closing Time \nTry-It Tickets Sold 2:00pm-6:00pm \nClick HERE to see pricing\, details\, and availability!
URL:https://treerush.com/calendar/try-it-tickets-96/
CATEGORIES:Try-It Tickets
ATTACH;FMTTYPE=image/jpeg:https://treerush.com/wp-content/uploads/2023/08/Copy-of-TreeRush-Adventures-37-scaled.jpg
END:VEVENT
BEGIN:VEVENT
DTSTART;TZID=America/Los_Angeles:20240724T090000
DTEND;TZID=America/Los_Angeles:20240724T200000
DTSTAMP:20260425T051736
CREATED:20231001T183914Z
LAST-MODIFIED:20240522T184311Z
UID:6677-1721811600-1721851200@treerush.com
SUMMARY:OPEN 9am-8pm
DESCRIPTION:  \nThe Park is open from 9 AM – 8 PM! \nLast Ticket Start Time 5 PM \nClick HERE to see pricing\, details\, and availability!
URL:https://treerush.com/calendar/open-9am-8pm-39/
CATEGORIES:OPEN HOURS
ATTACH;FMTTYPE=image/jpeg:https://treerush.com/wp-content/uploads/2023/10/ginger-man-red-gloves-scaled.jpg
END:VEVENT
BEGIN:VEVENT
DTSTART;TZID=America/Los_Angeles:20240724T140000
DTEND;TZID=America/Los_Angeles:20240724T180000
DTSTAMP:20260425T051736
CREATED:20230811T184630Z
LAST-MODIFIED:20240522T192643Z
UID:6755-1721829600-1721844000@treerush.com
SUMMARY:Try-It Tickets
DESCRIPTION:Try-It Tickets (Save Big $$$$) \n 2 Hour Climb Time / Some High Courses Close prior to Our Posted Closing Time \nTry-It Tickets Sold 2:00pm-6:00pm \nClick HERE to see pricing\, details\, and availability!
URL:https://treerush.com/calendar/try-it-tickets-97/
CATEGORIES:Try-It Tickets
ATTACH;FMTTYPE=image/jpeg:https://treerush.com/wp-content/uploads/2023/08/Copy-of-TreeRush-Adventures-37-scaled.jpg
END:VEVENT
END:VCALENDAR