
BEGIN:VCALENDAR
VERSION:2.0
PRODID:-//TreeRush Adventures - ECPv6.6.0.1//NONSGML v1.0//EN
CALSCALE:GREGORIAN
METHOD:PUBLISH
X-WR-CALNAME:TreeRush Adventures
X-ORIGINAL-URL:https://treerush.com
X-WR-CALDESC:Events for TreeRush Adventures
REFRESH-INTERVAL;VALUE=DURATION:PT1H
X-Robots-Tag:noindex
X-PUBLISHED-TTL:PT1H
BEGIN:VTIMEZONE
TZID:America/Los_Angeles
BEGIN:DAYLIGHT
TZOFFSETFROM:-0800
TZOFFSETTO:-0700
TZNAME:PDT
DTSTART:20240310T100000
END:DAYLIGHT
BEGIN:STANDARD
TZOFFSETFROM:-0700
TZOFFSETTO:-0800
TZNAME:PST
DTSTART:20241103T090000
END:STANDARD
END:VTIMEZONE
BEGIN:VEVENT
DTSTART;TZID=America/Los_Angeles:20240818T100000
DTEND;TZID=America/Los_Angeles:20240818T180000
DTSTAMP:20260425T135726
CREATED:20231001T183914Z
LAST-MODIFIED:20240522T195728Z
UID:6845-1723975200-1724004000@treerush.com
SUMMARY:OPEN 10am-6pm
DESCRIPTION:  \nThe Park is open from 10 AM – 6 PM! \nLast Ticket Start Time 3 PM \nClick HERE to see pricing\, details\, and availability!
URL:https://treerush.com/calendar/open-10am-6pm-107/
CATEGORIES:OPEN HOURS
ATTACH;FMTTYPE=image/jpeg:https://treerush.com/wp-content/uploads/2023/10/ginger-man-red-gloves-scaled.jpg
END:VEVENT
BEGIN:VEVENT
DTSTART;TZID=America/Los_Angeles:20240819T120000
DTEND;TZID=America/Los_Angeles:20240819T200000
DTSTAMP:20260425T135726
CREATED:20231001T183914Z
LAST-MODIFIED:20240522T195955Z
UID:6849-1724068800-1724097600@treerush.com
SUMMARY:OPEN 12 noon-8pm
DESCRIPTION:  \nThe Park is open from 12 noon – 8 PM! \nLast Ticket Start Time 5 PM \nClick HERE to see pricing\, details\, and availability!
URL:https://treerush.com/calendar/open-12-noon-8pm/
CATEGORIES:OPEN HOURS
ATTACH;FMTTYPE=image/jpeg:https://treerush.com/wp-content/uploads/2023/10/ginger-man-red-gloves-scaled.jpg
END:VEVENT
BEGIN:VEVENT
DTSTART;TZID=America/Los_Angeles:20240819T140000
DTEND;TZID=America/Los_Angeles:20240819T160000
DTSTAMP:20260425T135726
CREATED:20230811T184630Z
LAST-MODIFIED:20240522T193459Z
UID:6783-1724076000-1724083200@treerush.com
SUMMARY:Try-It Tickets
DESCRIPTION:Try-It Tickets (Save Big $$$$) \n 2 Hour Climb Time / Some High Courses Close prior to Our Posted Closing Time \nTry-It Tickets Sold 2:00pm-4:00pm \nClick HERE to see pricing\, details\, and availability!
URL:https://treerush.com/calendar/try-it-tickets-111/
CATEGORIES:Try-It Tickets
ATTACH;FMTTYPE=image/jpeg:https://treerush.com/wp-content/uploads/2023/08/Copy-of-TreeRush-Adventures-37-scaled.jpg
END:VEVENT
BEGIN:VEVENT
DTSTART;TZID=America/Los_Angeles:20240823T140000
DTEND;TZID=America/Los_Angeles:20240823T220000
DTSTAMP:20260425T135726
CREATED:20231001T183914Z
LAST-MODIFIED:20240522T195513Z
UID:6841-1724421600-1724450400@treerush.com
SUMMARY:OPEN 2pm-10pm
DESCRIPTION:  \nThe Park is open from 2 PM – 10 PM! \nLast Ticket Start Time 7 PM \nClick HERE to see pricing\, details\, and availability!
URL:https://treerush.com/calendar/open-2pm-10pm-2/
CATEGORIES:OPEN HOURS
ATTACH;FMTTYPE=image/jpeg:https://treerush.com/wp-content/uploads/2023/10/ginger-man-red-gloves-scaled.jpg
END:VEVENT
BEGIN:VEVENT
DTSTART;TZID=America/Los_Angeles:20240823T160000
DTEND;TZID=America/Los_Angeles:20240823T200000
DTSTAMP:20260425T135726
CREATED:20230811T184630Z
LAST-MODIFIED:20240522T193618Z
UID:6787-1724428800-1724443200@treerush.com
SUMMARY:Try-It Tickets
DESCRIPTION:Try-It Tickets (Save Big $$$$) \n 2 Hour Climb Time / Some High Courses Close prior to Our Posted Closing Time \nTry-It Tickets Sold 4:00pm-8:00pm \nClick HERE to see pricing\, details\, and availability!
URL:https://treerush.com/calendar/try-it-tickets-113/
CATEGORIES:Try-It Tickets
ATTACH;FMTTYPE=image/jpeg:https://treerush.com/wp-content/uploads/2023/08/Copy-of-TreeRush-Adventures-37-scaled.jpg
END:VEVENT
BEGIN:VEVENT
DTSTART;TZID=America/Los_Angeles:20240824T090000
DTEND;TZID=America/Los_Angeles:20240824T220000
DTSTAMP:20260425T135726
CREATED:20231001T183914Z
LAST-MODIFIED:20240522T195247Z
UID:6835-1724490000-1724536800@treerush.com
SUMMARY:OPEN 9am-10pm
DESCRIPTION:  \nThe Park is open from 9 AM – 10 PM! \nLast Ticket Start Time 7:15 PM \nClick HERE to see pricing\, details\, and availability!
URL:https://treerush.com/calendar/open-9am-10pm-111/
CATEGORIES:OPEN HOURS
ATTACH;FMTTYPE=image/jpeg:https://treerush.com/wp-content/uploads/2023/10/ginger-man-red-gloves-scaled.jpg
END:VEVENT
BEGIN:VEVENT
DTSTART;TZID=America/Los_Angeles:20240824T180000
DTEND;TZID=America/Los_Angeles:20240824T220000
DTSTAMP:20260425T135726
CREATED:20230402T222531Z
LAST-MODIFIED:20240522T194101Z
UID:6799-1724522400-1724536800@treerush.com
SUMMARY:GLOW NIGHT
DESCRIPTION:Zip & Climb Party in the Trees\nTickets Sold 6:00pm – 7:15pm \nDJ / FREE Glow Souvenirs / 2 to 3 Hour Experience / Ages 7 & UP \nClick HERE for pricing\, details\, & Availability!
URL:https://treerush.com/calendar/glow-night-59/
CATEGORIES:GLOW
ATTACH;FMTTYPE=image/jpeg:https://treerush.com/wp-content/uploads/2023/04/Copy-of-treerush7856-scaled.jpg
END:VEVENT
BEGIN:VEVENT
DTSTART;TZID=America/Los_Angeles:20240825T100000
DTEND;TZID=America/Los_Angeles:20240825T180000
DTSTAMP:20260425T135726
CREATED:20231001T183914Z
LAST-MODIFIED:20240522T195747Z
UID:6847-1724580000-1724608800@treerush.com
SUMMARY:OPEN 10am-6pm
DESCRIPTION:  \nThe Park is open from 10 AM – 6 PM! \nLast Ticket Start Time 3 PM \nClick HERE to see pricing\, details\, and availability!
URL:https://treerush.com/calendar/open-10am-6pm-108/
CATEGORIES:OPEN HOURS
ATTACH;FMTTYPE=image/jpeg:https://treerush.com/wp-content/uploads/2023/10/ginger-man-red-gloves-scaled.jpg
END:VEVENT
BEGIN:VEVENT
DTSTART;TZID=America/Los_Angeles:20240826T120000
DTEND;TZID=America/Los_Angeles:20240826T200000
DTSTAMP:20260425T135726
CREATED:20231001T183914Z
LAST-MODIFIED:20240522T200014Z
UID:6851-1724673600-1724702400@treerush.com
SUMMARY:OPEN 12 noon-8pm
DESCRIPTION:  \nThe Park is open from 12 noon – 8 PM! \nLast Ticket Start Time 5 PM \nClick HERE to see pricing\, details\, and availability!
URL:https://treerush.com/calendar/open-12-noon-8pm-2/
CATEGORIES:OPEN HOURS
ATTACH;FMTTYPE=image/jpeg:https://treerush.com/wp-content/uploads/2023/10/ginger-man-red-gloves-scaled.jpg
END:VEVENT
BEGIN:VEVENT
DTSTART;TZID=America/Los_Angeles:20240826T140000
DTEND;TZID=America/Los_Angeles:20240826T160000
DTSTAMP:20260425T135726
CREATED:20230811T184630Z
LAST-MODIFIED:20240522T193525Z
UID:6785-1724680800-1724688000@treerush.com
SUMMARY:Try-It Tickets
DESCRIPTION:Try-It Tickets (Save Big $$$$) \n 2 Hour Climb Time / Some High Courses Close prior to Our Posted Closing Time \nTry-It Tickets Sold 2:00pm-4:00pm \nClick HERE to see pricing\, details\, and availability!
URL:https://treerush.com/calendar/try-it-tickets-112/
CATEGORIES:Try-It Tickets
ATTACH;FMTTYPE=image/jpeg:https://treerush.com/wp-content/uploads/2023/08/Copy-of-TreeRush-Adventures-37-scaled.jpg
END:VEVENT
BEGIN:VEVENT
DTSTART;TZID=America/Los_Angeles:20240830T140000
DTEND;TZID=America/Los_Angeles:20240830T220000
DTSTAMP:20260425T135726
CREATED:20231001T183914Z
LAST-MODIFIED:20240522T195534Z
UID:6843-1725026400-1725055200@treerush.com
SUMMARY:OPEN 2pm-10pm
DESCRIPTION:  \nThe Park is open from 2 PM – 10 PM! \nLast Ticket Start Time 7 PM \nClick HERE to see pricing\, details\, and availability!
URL:https://treerush.com/calendar/open-2pm-10pm-3/
CATEGORIES:OPEN HOURS
ATTACH;FMTTYPE=image/jpeg:https://treerush.com/wp-content/uploads/2023/10/ginger-man-red-gloves-scaled.jpg
END:VEVENT
BEGIN:VEVENT
DTSTART;TZID=America/Los_Angeles:20240830T160000
DTEND;TZID=America/Los_Angeles:20240830T200000
DTSTAMP:20260425T135726
CREATED:20230811T184630Z
LAST-MODIFIED:20240522T193646Z
UID:6789-1725033600-1725048000@treerush.com
SUMMARY:Try-It Tickets
DESCRIPTION:Try-It Tickets (Save Big $$$$) \n 2 Hour Climb Time / Some High Courses Close prior to Our Posted Closing Time \nTry-It Tickets Sold 4:00pm-8:00pm \nClick HERE to see pricing\, details\, and availability!
URL:https://treerush.com/calendar/try-it-tickets-114/
CATEGORIES:Try-It Tickets
ATTACH;FMTTYPE=image/jpeg:https://treerush.com/wp-content/uploads/2023/08/Copy-of-TreeRush-Adventures-37-scaled.jpg
END:VEVENT
BEGIN:VEVENT
DTSTART;TZID=America/Los_Angeles:20240831T090000
DTEND;TZID=America/Los_Angeles:20240831T220000
DTSTAMP:20260425T135726
CREATED:20231001T183914Z
LAST-MODIFIED:20240522T195307Z
UID:6837-1725094800-1725141600@treerush.com
SUMMARY:OPEN 9am-10pm
DESCRIPTION:  \nThe Park is open from 9 AM – 10 PM! \nLast Ticket Start Time 7:15 PM \nClick HERE to see pricing\, details\, and availability!
URL:https://treerush.com/calendar/open-9am-10pm-112/
CATEGORIES:OPEN HOURS
ATTACH;FMTTYPE=image/jpeg:https://treerush.com/wp-content/uploads/2023/10/ginger-man-red-gloves-scaled.jpg
END:VEVENT
BEGIN:VEVENT
DTSTART;TZID=America/Los_Angeles:20240831T180000
DTEND;TZID=America/Los_Angeles:20240831T220000
DTSTAMP:20260425T135726
CREATED:20230402T222531Z
LAST-MODIFIED:20240522T194124Z
UID:6801-1725127200-1725141600@treerush.com
SUMMARY:GLOW NIGHT
DESCRIPTION:Zip & Climb Party in the Trees\nTickets Sold 6:00pm – 7:15pm \nDJ / FREE Glow Souvenirs / 2 to 3 Hour Experience / Ages 7 & UP \nClick HERE for pricing\, details\, & Availability!
URL:https://treerush.com/calendar/glow-night-60/
CATEGORIES:GLOW
ATTACH;FMTTYPE=image/jpeg:https://treerush.com/wp-content/uploads/2023/04/Copy-of-treerush7856-scaled.jpg
END:VEVENT
BEGIN:VEVENT
DTSTART;TZID=America/Los_Angeles:20240901T100000
DTEND;TZID=America/Los_Angeles:20240901T180000
DTSTAMP:20260425T135726
CREATED:20231001T183914Z
LAST-MODIFIED:20240816T165553Z
UID:6875-1725184800-1725213600@treerush.com
SUMMARY:OPEN 10 am-6 pm
DESCRIPTION:  \nThe Park is open from 10 AM – 6 PM! \nLast Ticket Start Time 3 PM \nClick HERE to see pricing\, details\, and availability!
URL:https://treerush.com/calendar/open-10-am-6-pm/
CATEGORIES:OPEN HOURS
ATTACH;FMTTYPE=image/jpeg:https://treerush.com/wp-content/uploads/2023/10/ginger-man-red-gloves-scaled.jpg
END:VEVENT
BEGIN:VEVENT
DTSTART;TZID=America/Los_Angeles:20240902T120000
DTEND;TZID=America/Los_Angeles:20240902T200000
DTSTAMP:20260425T135726
CREATED:20231001T183914Z
LAST-MODIFIED:20240816T170046Z
UID:6885-1725278400-1725307200@treerush.com
SUMMARY:OPEN 12 noon-8 pm
DESCRIPTION:  \nThe Park is open from 12 noon – 8 PM! \nLast Ticket Start Time 5 PM \nClick HERE to see pricing\, details\, and availability!
URL:https://treerush.com/calendar/open-12-noon-8-pm/
CATEGORIES:OPEN HOURS
ATTACH;FMTTYPE=image/jpeg:https://treerush.com/wp-content/uploads/2023/10/ginger-man-red-gloves-scaled.jpg
END:VEVENT
BEGIN:VEVENT
DTSTART;TZID=America/Los_Angeles:20240906T140000
DTEND;TZID=America/Los_Angeles:20240906T220000
DTSTAMP:20260425T135726
CREATED:20231001T183914Z
LAST-MODIFIED:20240816T170612Z
UID:6895-1725631200-1725660000@treerush.com
SUMMARY:OPEN 2 pm-10 pm
DESCRIPTION:  \nThe Park is open from 2 PM – 10 PM! \nLast Ticket Start Time 7 PM \nClick HERE to see pricing\, details\, and availability!
URL:https://treerush.com/calendar/open-2-pm-10-pm/
CATEGORIES:OPEN HOURS
ATTACH;FMTTYPE=image/jpeg:https://treerush.com/wp-content/uploads/2023/10/ginger-man-red-gloves-scaled.jpg
END:VEVENT
BEGIN:VEVENT
DTSTART;TZID=America/Los_Angeles:20240906T160000
DTEND;TZID=America/Los_Angeles:20240906T200000
DTSTAMP:20260425T135726
CREATED:20230811T184630Z
LAST-MODIFIED:20240816T171220Z
UID:6909-1725638400-1725652800@treerush.com
SUMMARY:Try-It Tickets
DESCRIPTION:Try-It Tickets (Save Big $$$$) \n 2 Hour Climb Time / Some High Courses Close prior to Our Posted Closing Time \nTry-It Tickets Sold 4:00pm-8:00pm \nClick HERE to see pricing\, details\, and availability!
URL:https://treerush.com/calendar/try-it-tickets-115/
CATEGORIES:Try-It Tickets
ATTACH;FMTTYPE=image/jpeg:https://treerush.com/wp-content/uploads/2023/08/Copy-of-TreeRush-Adventures-37-scaled.jpg
END:VEVENT
BEGIN:VEVENT
DTSTART;TZID=America/Los_Angeles:20240907T090000
DTEND;TZID=America/Los_Angeles:20240907T220000
DTSTAMP:20260425T135726
CREATED:20231001T183914Z
LAST-MODIFIED:20240816T171003Z
UID:6901-1725699600-1725746400@treerush.com
SUMMARY:OPEN 9 am-10 pm
DESCRIPTION:  \nThe Park is open from 9 AM – 10 PM! \nLast Ticket Start Time 7 PM \nClick HERE to see pricing\, details\, and availability!
URL:https://treerush.com/calendar/open-9-am-10-pm/
CATEGORIES:OPEN HOURS
ATTACH;FMTTYPE=image/jpeg:https://treerush.com/wp-content/uploads/2023/10/ginger-man-red-gloves-scaled.jpg
END:VEVENT
BEGIN:VEVENT
DTSTART;TZID=America/Los_Angeles:20240907T180000
DTEND;TZID=America/Los_Angeles:20240907T220000
DTSTAMP:20260425T135726
CREATED:20230402T222531Z
LAST-MODIFIED:20240816T171738Z
UID:6925-1725732000-1725746400@treerush.com
SUMMARY:GLOW NIGHT
DESCRIPTION:Zip & Climb Party in the Trees\nTickets Sold 6:00pm – 7:15pm \nDJ / FREE Glow Souvenirs / 2 to 3 Hour Experience / Ages 7 & UP \nClick HERE for pricing\, details\, & Availability!
URL:https://treerush.com/calendar/glow-night-61/
CATEGORIES:GLOW
ATTACH;FMTTYPE=image/jpeg:https://treerush.com/wp-content/uploads/2023/04/Copy-of-treerush7856-scaled.jpg
END:VEVENT
BEGIN:VEVENT
DTSTART;TZID=America/Los_Angeles:20240908T100000
DTEND;TZID=America/Los_Angeles:20240908T180000
DTSTAMP:20260425T135726
CREATED:20231001T183914Z
LAST-MODIFIED:20240816T165626Z
UID:6877-1725789600-1725818400@treerush.com
SUMMARY:OPEN 10 am-6 pm
DESCRIPTION:  \nThe Park is open from 10 AM – 6 PM! \nLast Ticket Start Time 3 PM \nClick HERE to see pricing\, details\, and availability!
URL:https://treerush.com/calendar/open-10-am-6-pm-2/
CATEGORIES:OPEN HOURS
ATTACH;FMTTYPE=image/jpeg:https://treerush.com/wp-content/uploads/2023/10/ginger-man-red-gloves-scaled.jpg
END:VEVENT
BEGIN:VEVENT
DTSTART;TZID=America/Los_Angeles:20240909T120000
DTEND;TZID=America/Los_Angeles:20240909T200000
DTSTAMP:20260425T135726
CREATED:20231001T183914Z
LAST-MODIFIED:20240816T170108Z
UID:6887-1725883200-1725912000@treerush.com
SUMMARY:OPEN 12 noon-8 pm
DESCRIPTION:  \nThe Park is open from 12 noon – 8 PM! \nLast Ticket Start Time 5 PM \nClick HERE to see pricing\, details\, and availability!
URL:https://treerush.com/calendar/open-12-noon-8-pm-2/
CATEGORIES:OPEN HOURS
ATTACH;FMTTYPE=image/jpeg:https://treerush.com/wp-content/uploads/2023/10/ginger-man-red-gloves-scaled.jpg
END:VEVENT
BEGIN:VEVENT
DTSTART;TZID=America/Los_Angeles:20240909T140000
DTEND;TZID=America/Los_Angeles:20240909T180000
DTSTAMP:20260425T135726
CREATED:20230811T184630Z
LAST-MODIFIED:20240816T171508Z
UID:6917-1725890400-1725904800@treerush.com
SUMMARY:Try-It Tickets
DESCRIPTION:Try-It Tickets (Save Big $$$$) \n 2 Hour Climb Time / Some High Courses Close prior to Our Posted Closing Time \nTry-It Tickets Sold 2:00pm-6:00pm \nClick HERE to see pricing\, details\, and availability!
URL:https://treerush.com/calendar/try-it-tickets-119/
CATEGORIES:Try-It Tickets
ATTACH;FMTTYPE=image/jpeg:https://treerush.com/wp-content/uploads/2023/08/Copy-of-TreeRush-Adventures-37-scaled.jpg
END:VEVENT
BEGIN:VEVENT
DTSTART;TZID=America/Los_Angeles:20240913T140000
DTEND;TZID=America/Los_Angeles:20240913T220000
DTSTAMP:20260425T135726
CREATED:20231001T183914Z
LAST-MODIFIED:20240816T170630Z
UID:6897-1726236000-1726264800@treerush.com
SUMMARY:OPEN 2 pm-10 pm
DESCRIPTION:  \nThe Park is open from 2 PM – 10 PM! \nLast Ticket Start Time 7 PM \nClick HERE to see pricing\, details\, and availability!
URL:https://treerush.com/calendar/open-2-pm-10-pm-2/
CATEGORIES:OPEN HOURS
ATTACH;FMTTYPE=image/jpeg:https://treerush.com/wp-content/uploads/2023/10/ginger-man-red-gloves-scaled.jpg
END:VEVENT
BEGIN:VEVENT
DTSTART;TZID=America/Los_Angeles:20240913T160000
DTEND;TZID=America/Los_Angeles:20240913T200000
DTSTAMP:20260425T135726
CREATED:20230811T184630Z
LAST-MODIFIED:20240816T171236Z
UID:6911-1726243200-1726257600@treerush.com
SUMMARY:Try-It Tickets
DESCRIPTION:Try-It Tickets (Save Big $$$$) \n 2 Hour Climb Time / Some High Courses Close prior to Our Posted Closing Time \nTry-It Tickets Sold 4:00pm-8:00pm \nClick HERE to see pricing\, details\, and availability!
URL:https://treerush.com/calendar/try-it-tickets-116/
CATEGORIES:Try-It Tickets
ATTACH;FMTTYPE=image/jpeg:https://treerush.com/wp-content/uploads/2023/08/Copy-of-TreeRush-Adventures-37-scaled.jpg
END:VEVENT
BEGIN:VEVENT
DTSTART;TZID=America/Los_Angeles:20240914T090000
DTEND;TZID=America/Los_Angeles:20240914T220000
DTSTAMP:20260425T135726
CREATED:20231001T183914Z
LAST-MODIFIED:20240816T171023Z
UID:6903-1726304400-1726351200@treerush.com
SUMMARY:OPEN 9 am-10 pm
DESCRIPTION:  \nThe Park is open from 9 AM – 10 PM! \nLast Ticket Start Time 7 PM \nClick HERE to see pricing\, details\, and availability!
URL:https://treerush.com/calendar/open-9-am-10-pm-2/
CATEGORIES:OPEN HOURS
ATTACH;FMTTYPE=image/jpeg:https://treerush.com/wp-content/uploads/2023/10/ginger-man-red-gloves-scaled.jpg
END:VEVENT
BEGIN:VEVENT
DTSTART;TZID=America/Los_Angeles:20240914T180000
DTEND;TZID=America/Los_Angeles:20240914T220000
DTSTAMP:20260425T135726
CREATED:20230402T222531Z
LAST-MODIFIED:20240816T171757Z
UID:6927-1726336800-1726351200@treerush.com
SUMMARY:GLOW NIGHT
DESCRIPTION:Zip & Climb Party in the Trees\nTickets Sold 6:00pm – 7:15pm \nDJ / FREE Glow Souvenirs / 2 to 3 Hour Experience / Ages 7 & UP \nClick HERE for pricing\, details\, & Availability!
URL:https://treerush.com/calendar/glow-night-62/
CATEGORIES:GLOW
ATTACH;FMTTYPE=image/jpeg:https://treerush.com/wp-content/uploads/2023/04/Copy-of-treerush7856-scaled.jpg
END:VEVENT
BEGIN:VEVENT
DTSTART;TZID=America/Los_Angeles:20240915T100000
DTEND;TZID=America/Los_Angeles:20240915T180000
DTSTAMP:20260425T135726
CREATED:20231001T183914Z
LAST-MODIFIED:20240816T165645Z
UID:6879-1726394400-1726423200@treerush.com
SUMMARY:OPEN 10 am-6 pm
DESCRIPTION:  \nThe Park is open from 10 AM – 6 PM! \nLast Ticket Start Time 3 PM \nClick HERE to see pricing\, details\, and availability!
URL:https://treerush.com/calendar/open-10-am-6-pm-3/
CATEGORIES:OPEN HOURS
ATTACH;FMTTYPE=image/jpeg:https://treerush.com/wp-content/uploads/2023/10/ginger-man-red-gloves-scaled.jpg
END:VEVENT
BEGIN:VEVENT
DTSTART;TZID=America/Los_Angeles:20240916T120000
DTEND;TZID=America/Los_Angeles:20240916T200000
DTSTAMP:20260425T135726
CREATED:20231001T183914Z
LAST-MODIFIED:20240816T170124Z
UID:6889-1726488000-1726516800@treerush.com
SUMMARY:OPEN 12 noon-8 pm
DESCRIPTION:  \nThe Park is open from 12 noon – 8 PM! \nLast Ticket Start Time 5 PM \nClick HERE to see pricing\, details\, and availability!
URL:https://treerush.com/calendar/open-12-noon-8-pm-3/
CATEGORIES:OPEN HOURS
ATTACH;FMTTYPE=image/jpeg:https://treerush.com/wp-content/uploads/2023/10/ginger-man-red-gloves-scaled.jpg
END:VEVENT
BEGIN:VEVENT
DTSTART;TZID=America/Los_Angeles:20240916T140000
DTEND;TZID=America/Los_Angeles:20240916T180000
DTSTAMP:20260425T135726
CREATED:20230811T184630Z
LAST-MODIFIED:20240816T171521Z
UID:6919-1726495200-1726509600@treerush.com
SUMMARY:Try-It Tickets
DESCRIPTION:Try-It Tickets (Save Big $$$$) \n 2 Hour Climb Time / Some High Courses Close prior to Our Posted Closing Time \nTry-It Tickets Sold 2:00pm-6:00pm \nClick HERE to see pricing\, details\, and availability!
URL:https://treerush.com/calendar/try-it-tickets-120/
CATEGORIES:Try-It Tickets
ATTACH;FMTTYPE=image/jpeg:https://treerush.com/wp-content/uploads/2023/08/Copy-of-TreeRush-Adventures-37-scaled.jpg
END:VEVENT
END:VCALENDAR