
BEGIN:VCALENDAR
VERSION:2.0
PRODID:-//TreeRush Adventures - ECPv6.6.0.1//NONSGML v1.0//EN
CALSCALE:GREGORIAN
METHOD:PUBLISH
X-ORIGINAL-URL:https://treerush.com
X-WR-CALDESC:Events for TreeRush Adventures
REFRESH-INTERVAL;VALUE=DURATION:PT1H
X-Robots-Tag:noindex
X-PUBLISHED-TTL:PT1H
BEGIN:VTIMEZONE
TZID:America/Los_Angeles
BEGIN:DAYLIGHT
TZOFFSETFROM:-0800
TZOFFSETTO:-0700
TZNAME:PDT
DTSTART:20240310T100000
END:DAYLIGHT
BEGIN:STANDARD
TZOFFSETFROM:-0700
TZOFFSETTO:-0800
TZNAME:PST
DTSTART:20241103T090000
END:STANDARD
END:VTIMEZONE
BEGIN:VEVENT
DTSTART;TZID=America/Los_Angeles:20240913T160000
DTEND;TZID=America/Los_Angeles:20240913T200000
DTSTAMP:20260425T164841
CREATED:20230811T184630Z
LAST-MODIFIED:20240816T171236Z
UID:6911-1726243200-1726257600@treerush.com
SUMMARY:Try-It Tickets
DESCRIPTION:Try-It Tickets (Save Big $$$$) \n 2 Hour Climb Time / Some High Courses Close prior to Our Posted Closing Time \nTry-It Tickets Sold 4:00pm-8:00pm \nClick HERE to see pricing\, details\, and availability!
URL:https://treerush.com/calendar/try-it-tickets-116/
CATEGORIES:Try-It Tickets
ATTACH;FMTTYPE=image/jpeg:https://treerush.com/wp-content/uploads/2023/08/Copy-of-TreeRush-Adventures-37-scaled.jpg
END:VEVENT
BEGIN:VEVENT
DTSTART;TZID=America/Los_Angeles:20240914T090000
DTEND;TZID=America/Los_Angeles:20240914T220000
DTSTAMP:20260425T164841
CREATED:20231001T183914Z
LAST-MODIFIED:20240816T171023Z
UID:6903-1726304400-1726351200@treerush.com
SUMMARY:OPEN 9 am-10 pm
DESCRIPTION:  \nThe Park is open from 9 AM – 10 PM! \nLast Ticket Start Time 7 PM \nClick HERE to see pricing\, details\, and availability!
URL:https://treerush.com/calendar/open-9-am-10-pm-2/
CATEGORIES:OPEN HOURS
ATTACH;FMTTYPE=image/jpeg:https://treerush.com/wp-content/uploads/2023/10/ginger-man-red-gloves-scaled.jpg
END:VEVENT
BEGIN:VEVENT
DTSTART;TZID=America/Los_Angeles:20240914T180000
DTEND;TZID=America/Los_Angeles:20240914T220000
DTSTAMP:20260425T164841
CREATED:20230402T222531Z
LAST-MODIFIED:20240816T171757Z
UID:6927-1726336800-1726351200@treerush.com
SUMMARY:GLOW NIGHT
DESCRIPTION:Zip & Climb Party in the Trees\nTickets Sold 6:00pm – 7:15pm \nDJ / FREE Glow Souvenirs / 2 to 3 Hour Experience / Ages 7 & UP \nClick HERE for pricing\, details\, & Availability!
URL:https://treerush.com/calendar/glow-night-62/
CATEGORIES:GLOW
ATTACH;FMTTYPE=image/jpeg:https://treerush.com/wp-content/uploads/2023/04/Copy-of-treerush7856-scaled.jpg
END:VEVENT
BEGIN:VEVENT
DTSTART;TZID=America/Los_Angeles:20240915T100000
DTEND;TZID=America/Los_Angeles:20240915T180000
DTSTAMP:20260425T164841
CREATED:20231001T183914Z
LAST-MODIFIED:20240816T165645Z
UID:6879-1726394400-1726423200@treerush.com
SUMMARY:OPEN 10 am-6 pm
DESCRIPTION:  \nThe Park is open from 10 AM – 6 PM! \nLast Ticket Start Time 3 PM \nClick HERE to see pricing\, details\, and availability!
URL:https://treerush.com/calendar/open-10-am-6-pm-3/
CATEGORIES:OPEN HOURS
ATTACH;FMTTYPE=image/jpeg:https://treerush.com/wp-content/uploads/2023/10/ginger-man-red-gloves-scaled.jpg
END:VEVENT
BEGIN:VEVENT
DTSTART;TZID=America/Los_Angeles:20240916T120000
DTEND;TZID=America/Los_Angeles:20240916T200000
DTSTAMP:20260425T164841
CREATED:20231001T183914Z
LAST-MODIFIED:20240816T170124Z
UID:6889-1726488000-1726516800@treerush.com
SUMMARY:OPEN 12 noon-8 pm
DESCRIPTION:  \nThe Park is open from 12 noon – 8 PM! \nLast Ticket Start Time 5 PM \nClick HERE to see pricing\, details\, and availability!
URL:https://treerush.com/calendar/open-12-noon-8-pm-3/
CATEGORIES:OPEN HOURS
ATTACH;FMTTYPE=image/jpeg:https://treerush.com/wp-content/uploads/2023/10/ginger-man-red-gloves-scaled.jpg
END:VEVENT
BEGIN:VEVENT
DTSTART;TZID=America/Los_Angeles:20240916T140000
DTEND;TZID=America/Los_Angeles:20240916T180000
DTSTAMP:20260425T164841
CREATED:20230811T184630Z
LAST-MODIFIED:20240816T171521Z
UID:6919-1726495200-1726509600@treerush.com
SUMMARY:Try-It Tickets
DESCRIPTION:Try-It Tickets (Save Big $$$$) \n 2 Hour Climb Time / Some High Courses Close prior to Our Posted Closing Time \nTry-It Tickets Sold 2:00pm-6:00pm \nClick HERE to see pricing\, details\, and availability!
URL:https://treerush.com/calendar/try-it-tickets-120/
CATEGORIES:Try-It Tickets
ATTACH;FMTTYPE=image/jpeg:https://treerush.com/wp-content/uploads/2023/08/Copy-of-TreeRush-Adventures-37-scaled.jpg
END:VEVENT
BEGIN:VEVENT
DTSTART;TZID=America/Los_Angeles:20240920T160000
DTEND;TZID=America/Los_Angeles:20240920T200000
DTSTAMP:20260425T164841
CREATED:20230811T184630Z
LAST-MODIFIED:20240816T171251Z
UID:6913-1726848000-1726862400@treerush.com
SUMMARY:Try-It Tickets
DESCRIPTION:Try-It Tickets (Save Big $$$$) \n 2 Hour Climb Time / Some High Courses Close prior to Our Posted Closing Time \nTry-It Tickets Sold 4:00pm-8:00pm \nClick HERE to see pricing\, details\, and availability!
URL:https://treerush.com/calendar/try-it-tickets-117/
CATEGORIES:Try-It Tickets
ATTACH;FMTTYPE=image/jpeg:https://treerush.com/wp-content/uploads/2023/08/Copy-of-TreeRush-Adventures-37-scaled.jpg
END:VEVENT
BEGIN:VEVENT
DTSTART;TZID=America/Los_Angeles:20240921T090000
DTEND;TZID=America/Los_Angeles:20240921T220000
DTSTAMP:20260425T164841
CREATED:20231001T183914Z
LAST-MODIFIED:20240816T171037Z
UID:6905-1726909200-1726956000@treerush.com
SUMMARY:OPEN 9 am-10 pm
DESCRIPTION:  \nThe Park is open from 9 AM – 10 PM! \nLast Ticket Start Time 7 PM \nClick HERE to see pricing\, details\, and availability!
URL:https://treerush.com/calendar/open-9-am-10-pm-3/
CATEGORIES:OPEN HOURS
ATTACH;FMTTYPE=image/jpeg:https://treerush.com/wp-content/uploads/2023/10/ginger-man-red-gloves-scaled.jpg
END:VEVENT
BEGIN:VEVENT
DTSTART;TZID=America/Los_Angeles:20240921T180000
DTEND;TZID=America/Los_Angeles:20240921T220000
DTSTAMP:20260425T164841
CREATED:20230402T222531Z
LAST-MODIFIED:20240816T171814Z
UID:6929-1726941600-1726956000@treerush.com
SUMMARY:GLOW NIGHT
DESCRIPTION:Zip & Climb Party in the Trees\nTickets Sold 6:00pm – 7:15pm \nDJ / FREE Glow Souvenirs / 2 to 3 Hour Experience / Ages 7 & UP \nClick HERE for pricing\, details\, & Availability!
URL:https://treerush.com/calendar/glow-night-63/
CATEGORIES:GLOW
ATTACH;FMTTYPE=image/jpeg:https://treerush.com/wp-content/uploads/2023/04/Copy-of-treerush7856-scaled.jpg
END:VEVENT
BEGIN:VEVENT
DTSTART;TZID=America/Los_Angeles:20240922T100000
DTEND;TZID=America/Los_Angeles:20240922T180000
DTSTAMP:20260425T164841
CREATED:20231001T183914Z
LAST-MODIFIED:20240816T165703Z
UID:6881-1726999200-1727028000@treerush.com
SUMMARY:OPEN 10 am-6 pm
DESCRIPTION:  \nThe Park is open from 10 AM – 6 PM! \nLast Ticket Start Time 3 PM \nClick HERE to see pricing\, details\, and availability!
URL:https://treerush.com/calendar/open-10-am-6-pm-4/
CATEGORIES:OPEN HOURS
ATTACH;FMTTYPE=image/jpeg:https://treerush.com/wp-content/uploads/2023/10/ginger-man-red-gloves-scaled.jpg
END:VEVENT
BEGIN:VEVENT
DTSTART;TZID=America/Los_Angeles:20240923T120000
DTEND;TZID=America/Los_Angeles:20240923T200000
DTSTAMP:20260425T164841
CREATED:20231001T183914Z
LAST-MODIFIED:20240816T170143Z
UID:6891-1727092800-1727121600@treerush.com
SUMMARY:OPEN 12 noon-8 pm
DESCRIPTION:  \nThe Park is open from 12 noon – 8 PM! \nLast Ticket Start Time 5 PM \nClick HERE to see pricing\, details\, and availability!
URL:https://treerush.com/calendar/open-12-noon-8-pm-4/
CATEGORIES:OPEN HOURS
ATTACH;FMTTYPE=image/jpeg:https://treerush.com/wp-content/uploads/2023/10/ginger-man-red-gloves-scaled.jpg
END:VEVENT
BEGIN:VEVENT
DTSTART;TZID=America/Los_Angeles:20240923T140000
DTEND;TZID=America/Los_Angeles:20240923T180000
DTSTAMP:20260425T164841
CREATED:20230811T184630Z
LAST-MODIFIED:20240816T171536Z
UID:6921-1727100000-1727114400@treerush.com
SUMMARY:Try-It Tickets
DESCRIPTION:Try-It Tickets (Save Big $$$$) \n 2 Hour Climb Time / Some High Courses Close prior to Our Posted Closing Time \nTry-It Tickets Sold 2:00pm-6:00pm \nClick HERE to see pricing\, details\, and availability!
URL:https://treerush.com/calendar/try-it-tickets-121/
CATEGORIES:Try-It Tickets
ATTACH;FMTTYPE=image/jpeg:https://treerush.com/wp-content/uploads/2023/08/Copy-of-TreeRush-Adventures-37-scaled.jpg
END:VEVENT
BEGIN:VEVENT
DTSTART;TZID=America/Los_Angeles:20240927T140000
DTEND;TZID=America/Los_Angeles:20240927T220000
DTSTAMP:20260425T164841
CREATED:20231001T183914Z
LAST-MODIFIED:20240816T170859Z
UID:6899-1727445600-1727474400@treerush.com
SUMMARY:OPEN 2 pm-10 pm
DESCRIPTION:  \nThe Park is open from 2 PM – 10 PM! \nLast Ticket Start Time 7 PM \nClick HERE to see pricing\, details\, and availability!
URL:https://treerush.com/calendar/open-2-pm-10-pm-3/
CATEGORIES:OPEN HOURS
ATTACH;FMTTYPE=image/jpeg:https://treerush.com/wp-content/uploads/2023/10/ginger-man-red-gloves-scaled.jpg
END:VEVENT
BEGIN:VEVENT
DTSTART;TZID=America/Los_Angeles:20240927T160000
DTEND;TZID=America/Los_Angeles:20240927T200000
DTSTAMP:20260425T164841
CREATED:20230811T184630Z
LAST-MODIFIED:20240816T171315Z
UID:6915-1727452800-1727467200@treerush.com
SUMMARY:Try-It Tickets
DESCRIPTION:Try-It Tickets (Save Big $$$$) \n 2 Hour Climb Time / Some High Courses Close prior to Our Posted Closing Time \nTry-It Tickets Sold 4:00pm-8:00pm \nClick HERE to see pricing\, details\, and availability!
URL:https://treerush.com/calendar/try-it-tickets-118/
CATEGORIES:Try-It Tickets
ATTACH;FMTTYPE=image/jpeg:https://treerush.com/wp-content/uploads/2023/08/Copy-of-TreeRush-Adventures-37-scaled.jpg
END:VEVENT
BEGIN:VEVENT
DTSTART;TZID=America/Los_Angeles:20240928T090000
DTEND;TZID=America/Los_Angeles:20240928T220000
DTSTAMP:20260425T164841
CREATED:20231001T183914Z
LAST-MODIFIED:20240816T171056Z
UID:6907-1727514000-1727560800@treerush.com
SUMMARY:OPEN 9 am-10 pm
DESCRIPTION:  \nThe Park is open from 9 AM – 10 PM! \nLast Ticket Start Time 7 PM \nClick HERE to see pricing\, details\, and availability!
URL:https://treerush.com/calendar/open-9-am-10-pm-4/
CATEGORIES:OPEN HOURS
ATTACH;FMTTYPE=image/jpeg:https://treerush.com/wp-content/uploads/2023/10/ginger-man-red-gloves-scaled.jpg
END:VEVENT
BEGIN:VEVENT
DTSTART;TZID=America/Los_Angeles:20240928T180000
DTEND;TZID=America/Los_Angeles:20240928T220000
DTSTAMP:20260425T164841
CREATED:20230402T222531Z
LAST-MODIFIED:20240816T171827Z
UID:6931-1727546400-1727560800@treerush.com
SUMMARY:GLOW NIGHT
DESCRIPTION:Zip & Climb Party in the Trees\nTickets Sold 6:00pm – 7:15pm \nDJ / FREE Glow Souvenirs / 2 to 3 Hour Experience / Ages 7 & UP \nClick HERE for pricing\, details\, & Availability!
URL:https://treerush.com/calendar/glow-night-64/
CATEGORIES:GLOW
ATTACH;FMTTYPE=image/jpeg:https://treerush.com/wp-content/uploads/2023/04/Copy-of-treerush7856-scaled.jpg
END:VEVENT
BEGIN:VEVENT
DTSTART;TZID=America/Los_Angeles:20240929T100000
DTEND;TZID=America/Los_Angeles:20240929T180000
DTSTAMP:20260425T164841
CREATED:20231001T183914Z
LAST-MODIFIED:20240816T165732Z
UID:6883-1727604000-1727632800@treerush.com
SUMMARY:OPEN 10 am-6 pm
DESCRIPTION:  \nThe Park is open from 10 AM – 6 PM! \nLast Ticket Start Time 3 PM \nClick HERE to see pricing\, details\, and availability!
URL:https://treerush.com/calendar/open-10-am-6-pm-5/
CATEGORIES:OPEN HOURS
ATTACH;FMTTYPE=image/jpeg:https://treerush.com/wp-content/uploads/2023/10/ginger-man-red-gloves-scaled.jpg
END:VEVENT
BEGIN:VEVENT
DTSTART;TZID=America/Los_Angeles:20240930T120000
DTEND;TZID=America/Los_Angeles:20240930T200000
DTSTAMP:20260425T164841
CREATED:20231001T183914Z
LAST-MODIFIED:20240816T170203Z
UID:6893-1727697600-1727726400@treerush.com
SUMMARY:OPEN 12 noon-8 pm
DESCRIPTION:  \nThe Park is open from 12 noon – 8 PM! \nLast Ticket Start Time 5 PM \nClick HERE to see pricing\, details\, and availability!
URL:https://treerush.com/calendar/open-12-noon-8-pm-5/
CATEGORIES:OPEN HOURS
ATTACH;FMTTYPE=image/jpeg:https://treerush.com/wp-content/uploads/2023/10/ginger-man-red-gloves-scaled.jpg
END:VEVENT
BEGIN:VEVENT
DTSTART;TZID=America/Los_Angeles:20240930T140000
DTEND;TZID=America/Los_Angeles:20240930T180000
DTSTAMP:20260425T164841
CREATED:20230811T184630Z
LAST-MODIFIED:20240816T171555Z
UID:6923-1727704800-1727719200@treerush.com
SUMMARY:Try-It Tickets
DESCRIPTION:Try-It Tickets (Save Big $$$$) \n 2 Hour Climb Time / Some High Courses Close prior to Our Posted Closing Time \nTry-It Tickets Sold 2:00pm-6:00pm \nClick HERE to see pricing\, details\, and availability!
URL:https://treerush.com/calendar/try-it-tickets-122/
CATEGORIES:Try-It Tickets
ATTACH;FMTTYPE=image/jpeg:https://treerush.com/wp-content/uploads/2023/08/Copy-of-TreeRush-Adventures-37-scaled.jpg
END:VEVENT
BEGIN:VEVENT
DTSTART;TZID=America/Los_Angeles:20241004T140000
DTEND;TZID=America/Los_Angeles:20241004T220000
DTSTAMP:20260425T164841
CREATED:20231001T183914Z
LAST-MODIFIED:20240816T173322Z
UID:6969-1728050400-1728079200@treerush.com
SUMMARY:OPEN 2 pm-10 pm
DESCRIPTION:  \nThe Park is open from 2 PM – 10 PM! \nLast Ticket Start Time 7 PM \nClick HERE to see pricing\, details\, and availability!
URL:https://treerush.com/calendar/open-2-pm-10-pm-4/
CATEGORIES:OPEN HOURS
ATTACH;FMTTYPE=image/jpeg:https://treerush.com/wp-content/uploads/2023/10/ginger-man-red-gloves-scaled.jpg
END:VEVENT
BEGIN:VEVENT
DTSTART;TZID=America/Los_Angeles:20241005T100000
DTEND;TZID=America/Los_Angeles:20241005T220000
DTSTAMP:20260425T164841
CREATED:20231001T183914Z
LAST-MODIFIED:20240816T173020Z
UID:6961-1728122400-1728165600@treerush.com
SUMMARY:OPEN 10 am-10 pm
DESCRIPTION:  \nThe Park is open from 10 AM – 10 PM! \nLast Ticket Start Time 7 PM \nClick HERE to see pricing\, details\, and availability!
URL:https://treerush.com/calendar/open-10-am-10-pm-5/
CATEGORIES:OPEN HOURS
ATTACH;FMTTYPE=image/jpeg:https://treerush.com/wp-content/uploads/2023/10/ginger-man-red-gloves-scaled.jpg
END:VEVENT
BEGIN:VEVENT
DTSTART;TZID=America/Los_Angeles:20241005T180000
DTEND;TZID=America/Los_Angeles:20241005T220000
DTSTAMP:20260425T164841
CREATED:20230402T222531Z
LAST-MODIFIED:20240816T172304Z
UID:6933-1728151200-1728165600@treerush.com
SUMMARY:GLOW NIGHT
DESCRIPTION:Zip & Climb Party in the Trees\nTickets Sold 6:00pm – 7:15pm \nDJ / FREE Glow Souvenirs / 2 to 3 Hour Experience / Ages 7 & UP \nClick HERE for pricing\, details\, & Availability!
URL:https://treerush.com/calendar/glow-night-65/
CATEGORIES:GLOW
ATTACH;FMTTYPE=image/jpeg:https://treerush.com/wp-content/uploads/2023/04/Copy-of-treerush7856-scaled.jpg
END:VEVENT
BEGIN:VEVENT
DTSTART;TZID=America/Los_Angeles:20241006T100000
DTEND;TZID=America/Los_Angeles:20241006T220000
DTSTAMP:20260425T164841
CREATED:20231001T183914Z
LAST-MODIFIED:20240816T172853Z
UID:6953-1728208800-1728252000@treerush.com
SUMMARY:OPEN 10 am-10 pm
DESCRIPTION:  \nThe Park is open from 10 AM – 10 PM! \nLast Ticket Start Time 7 PM \nClick HERE to see pricing\, details\, and availability!
URL:https://treerush.com/calendar/open-10-am-10-pm/
CATEGORIES:OPEN HOURS
ATTACH;FMTTYPE=image/jpeg:https://treerush.com/wp-content/uploads/2023/10/ginger-man-red-gloves-scaled.jpg
END:VEVENT
BEGIN:VEVENT
DTSTART;TZID=America/Los_Angeles:20241010T140000
DTEND;TZID=America/Los_Angeles:20241010T220000
DTSTAMP:20260425T164841
CREATED:20231001T183914Z
LAST-MODIFIED:20240816T173352Z
UID:6971-1728568800-1728597600@treerush.com
SUMMARY:OPEN 2 pm-10 pm
DESCRIPTION:  \nThe Park is open from 2 PM – 10 PM! \nLast Ticket Start Time 7 PM \nClick HERE to see pricing\, details\, and availability!
URL:https://treerush.com/calendar/open-2-pm-10-pm-5/
CATEGORIES:OPEN HOURS
ATTACH;FMTTYPE=image/jpeg:https://treerush.com/wp-content/uploads/2023/10/ginger-man-red-gloves-scaled.jpg
END:VEVENT
BEGIN:VEVENT
DTSTART;TZID=America/Los_Angeles:20241010T160000
DTEND;TZID=America/Los_Angeles:20241010T200000
DTSTAMP:20260425T164841
CREATED:20230811T184630Z
LAST-MODIFIED:20240816T172626Z
UID:6947-1728576000-1728590400@treerush.com
SUMMARY:Try-It Tickets
DESCRIPTION:Try-It Tickets (Save Big $$$$) \n 2 Hour Climb Time / Some High Courses Close prior to Our Posted Closing Time \nTry-It Tickets Sold 4:00pm-8:00pm \nClick HERE to see pricing\, details\, and availability!
URL:https://treerush.com/calendar/try-it-tickets-123/
CATEGORIES:Try-It Tickets
ATTACH;FMTTYPE=image/jpeg:https://treerush.com/wp-content/uploads/2023/08/Copy-of-TreeRush-Adventures-37-scaled.jpg
END:VEVENT
BEGIN:VEVENT
DTSTART;TZID=America/Los_Angeles:20241011T140000
DTEND;TZID=America/Los_Angeles:20241011T220000
DTSTAMP:20260425T164841
CREATED:20231001T183914Z
LAST-MODIFIED:20240816T173441Z
UID:6973-1728655200-1728684000@treerush.com
SUMMARY:OPEN 2 pm-10 pm
DESCRIPTION:  \nThe Park is open from 2 PM – 10 PM! \nLast Ticket Start Time 7 PM \nClick HERE to see pricing\, details\, and availability!
URL:https://treerush.com/calendar/open-2-pm-10-pm-6/
CATEGORIES:OPEN HOURS
ATTACH;FMTTYPE=image/jpeg:https://treerush.com/wp-content/uploads/2023/10/ginger-man-red-gloves-scaled.jpg
END:VEVENT
BEGIN:VEVENT
DTSTART;TZID=America/Los_Angeles:20241011T180000
DTEND;TZID=America/Los_Angeles:20241011T220000
DTSTAMP:20260425T164841
CREATED:20230402T222531Z
LAST-MODIFIED:20240816T172321Z
UID:6935-1728669600-1728684000@treerush.com
SUMMARY:GLOW NIGHT
DESCRIPTION:Zip & Climb Party in the Trees\nTickets Sold 6:00pm – 7:15pm \nDJ / FREE Glow Souvenirs / 2 to 3 Hour Experience / Ages 7 & UP \nClick HERE for pricing\, details\, & Availability!
URL:https://treerush.com/calendar/glow-night-66/
CATEGORIES:GLOW
ATTACH;FMTTYPE=image/jpeg:https://treerush.com/wp-content/uploads/2023/04/Copy-of-treerush7856-scaled.jpg
END:VEVENT
BEGIN:VEVENT
DTSTART;TZID=America/Los_Angeles:20241012T100000
DTEND;TZID=America/Los_Angeles:20241012T220000
DTSTAMP:20260425T164841
CREATED:20231001T183914Z
LAST-MODIFIED:20240816T173048Z
UID:6963-1728727200-1728770400@treerush.com
SUMMARY:OPEN 10 am-10 pm
DESCRIPTION:  \nThe Park is open from 10 AM – 10 PM! \nLast Ticket Start Time 7 PM \nClick HERE to see pricing\, details\, and availability!
URL:https://treerush.com/calendar/open-10-am-10-pm-6/
CATEGORIES:OPEN HOURS
ATTACH;FMTTYPE=image/jpeg:https://treerush.com/wp-content/uploads/2023/10/ginger-man-red-gloves-scaled.jpg
END:VEVENT
BEGIN:VEVENT
DTSTART;TZID=America/Los_Angeles:20241012T180000
DTEND;TZID=America/Los_Angeles:20241012T220000
DTSTAMP:20260425T164841
CREATED:20230402T222531Z
LAST-MODIFIED:20240816T172337Z
UID:6937-1728756000-1728770400@treerush.com
SUMMARY:GLOW NIGHT
DESCRIPTION:Zip & Climb Party in the Trees\nTickets Sold 6:00pm – 7:15pm \nDJ / FREE Glow Souvenirs / 2 to 3 Hour Experience / Ages 7 & UP \nClick HERE for pricing\, details\, & Availability!
URL:https://treerush.com/calendar/glow-night-67/
CATEGORIES:GLOW
ATTACH;FMTTYPE=image/jpeg:https://treerush.com/wp-content/uploads/2023/04/Copy-of-treerush7856-scaled.jpg
END:VEVENT
BEGIN:VEVENT
DTSTART;TZID=America/Los_Angeles:20241013T100000
DTEND;TZID=America/Los_Angeles:20241013T220000
DTSTAMP:20260425T164841
CREATED:20231001T183914Z
LAST-MODIFIED:20240816T172911Z
UID:6955-1728813600-1728856800@treerush.com
SUMMARY:OPEN 10 am-10 pm
DESCRIPTION:  \nThe Park is open from 10 AM – 10 PM! \nLast Ticket Start Time 7 PM \nClick HERE to see pricing\, details\, and availability!
URL:https://treerush.com/calendar/open-10-am-10-pm-2/
CATEGORIES:OPEN HOURS
ATTACH;FMTTYPE=image/jpeg:https://treerush.com/wp-content/uploads/2023/10/ginger-man-red-gloves-scaled.jpg
END:VEVENT
END:VCALENDAR