
BEGIN:VCALENDAR
VERSION:2.0
PRODID:-//TreeRush Adventures - ECPv6.6.0.1//NONSGML v1.0//EN
CALSCALE:GREGORIAN
METHOD:PUBLISH
X-ORIGINAL-URL:https://treerush.com
X-WR-CALDESC:Events for TreeRush Adventures
REFRESH-INTERVAL;VALUE=DURATION:PT1H
X-Robots-Tag:noindex
X-PUBLISHED-TTL:PT1H
BEGIN:VTIMEZONE
TZID:America/Los_Angeles
BEGIN:DAYLIGHT
TZOFFSETFROM:-0800
TZOFFSETTO:-0700
TZNAME:PDT
DTSTART:20240310T100000
END:DAYLIGHT
BEGIN:STANDARD
TZOFFSETFROM:-0700
TZOFFSETTO:-0800
TZNAME:PST
DTSTART:20241103T090000
END:STANDARD
END:VTIMEZONE
BEGIN:VEVENT
DTSTART;TZID=America/Los_Angeles:20241010T160000
DTEND;TZID=America/Los_Angeles:20241010T200000
DTSTAMP:20260425T191802
CREATED:20230811T184630Z
LAST-MODIFIED:20240816T172626Z
UID:6947-1728576000-1728590400@treerush.com
SUMMARY:Try-It Tickets
DESCRIPTION:Try-It Tickets (Save Big $$$$) \n 2 Hour Climb Time / Some High Courses Close prior to Our Posted Closing Time \nTry-It Tickets Sold 4:00pm-8:00pm \nClick HERE to see pricing\, details\, and availability!
URL:https://treerush.com/calendar/try-it-tickets-123/
CATEGORIES:Try-It Tickets
ATTACH;FMTTYPE=image/jpeg:https://treerush.com/wp-content/uploads/2023/08/Copy-of-TreeRush-Adventures-37-scaled.jpg
END:VEVENT
BEGIN:VEVENT
DTSTART;TZID=America/Los_Angeles:20241011T140000
DTEND;TZID=America/Los_Angeles:20241011T220000
DTSTAMP:20260425T191802
CREATED:20231001T183914Z
LAST-MODIFIED:20240816T173441Z
UID:6973-1728655200-1728684000@treerush.com
SUMMARY:OPEN 2 pm-10 pm
DESCRIPTION:  \nThe Park is open from 2 PM – 10 PM! \nLast Ticket Start Time 7 PM \nClick HERE to see pricing\, details\, and availability!
URL:https://treerush.com/calendar/open-2-pm-10-pm-6/
CATEGORIES:OPEN HOURS
ATTACH;FMTTYPE=image/jpeg:https://treerush.com/wp-content/uploads/2023/10/ginger-man-red-gloves-scaled.jpg
END:VEVENT
BEGIN:VEVENT
DTSTART;TZID=America/Los_Angeles:20241011T180000
DTEND;TZID=America/Los_Angeles:20241011T220000
DTSTAMP:20260425T191802
CREATED:20230402T222531Z
LAST-MODIFIED:20240816T172321Z
UID:6935-1728669600-1728684000@treerush.com
SUMMARY:GLOW NIGHT
DESCRIPTION:Zip & Climb Party in the Trees\nTickets Sold 6:00pm – 7:15pm \nDJ / FREE Glow Souvenirs / 2 to 3 Hour Experience / Ages 7 & UP \nClick HERE for pricing\, details\, & Availability!
URL:https://treerush.com/calendar/glow-night-66/
CATEGORIES:GLOW
ATTACH;FMTTYPE=image/jpeg:https://treerush.com/wp-content/uploads/2023/04/Copy-of-treerush7856-scaled.jpg
END:VEVENT
BEGIN:VEVENT
DTSTART;TZID=America/Los_Angeles:20241012T100000
DTEND;TZID=America/Los_Angeles:20241012T220000
DTSTAMP:20260425T191802
CREATED:20231001T183914Z
LAST-MODIFIED:20240816T173048Z
UID:6963-1728727200-1728770400@treerush.com
SUMMARY:OPEN 10 am-10 pm
DESCRIPTION:  \nThe Park is open from 10 AM – 10 PM! \nLast Ticket Start Time 7 PM \nClick HERE to see pricing\, details\, and availability!
URL:https://treerush.com/calendar/open-10-am-10-pm-6/
CATEGORIES:OPEN HOURS
ATTACH;FMTTYPE=image/jpeg:https://treerush.com/wp-content/uploads/2023/10/ginger-man-red-gloves-scaled.jpg
END:VEVENT
BEGIN:VEVENT
DTSTART;TZID=America/Los_Angeles:20241012T180000
DTEND;TZID=America/Los_Angeles:20241012T220000
DTSTAMP:20260425T191802
CREATED:20230402T222531Z
LAST-MODIFIED:20240816T172337Z
UID:6937-1728756000-1728770400@treerush.com
SUMMARY:GLOW NIGHT
DESCRIPTION:Zip & Climb Party in the Trees\nTickets Sold 6:00pm – 7:15pm \nDJ / FREE Glow Souvenirs / 2 to 3 Hour Experience / Ages 7 & UP \nClick HERE for pricing\, details\, & Availability!
URL:https://treerush.com/calendar/glow-night-67/
CATEGORIES:GLOW
ATTACH;FMTTYPE=image/jpeg:https://treerush.com/wp-content/uploads/2023/04/Copy-of-treerush7856-scaled.jpg
END:VEVENT
BEGIN:VEVENT
DTSTART;TZID=America/Los_Angeles:20241013T100000
DTEND;TZID=America/Los_Angeles:20241013T220000
DTSTAMP:20260425T191802
CREATED:20231001T183914Z
LAST-MODIFIED:20240816T172911Z
UID:6955-1728813600-1728856800@treerush.com
SUMMARY:OPEN 10 am-10 pm
DESCRIPTION:  \nThe Park is open from 10 AM – 10 PM! \nLast Ticket Start Time 7 PM \nClick HERE to see pricing\, details\, and availability!
URL:https://treerush.com/calendar/open-10-am-10-pm-2/
CATEGORIES:OPEN HOURS
ATTACH;FMTTYPE=image/jpeg:https://treerush.com/wp-content/uploads/2023/10/ginger-man-red-gloves-scaled.jpg
END:VEVENT
BEGIN:VEVENT
DTSTART;TZID=America/Los_Angeles:20241017T140000
DTEND;TZID=America/Los_Angeles:20241017T220000
DTSTAMP:20260425T191802
CREATED:20231001T183914Z
LAST-MODIFIED:20240816T173505Z
UID:6975-1729173600-1729202400@treerush.com
SUMMARY:OPEN 2 pm-10 pm
DESCRIPTION:  \nThe Park is open from 2 PM – 10 PM! \nLast Ticket Start Time 7 PM \nClick HERE to see pricing\, details\, and availability!
URL:https://treerush.com/calendar/open-2-pm-10-pm-7/
CATEGORIES:OPEN HOURS
ATTACH;FMTTYPE=image/jpeg:https://treerush.com/wp-content/uploads/2023/10/ginger-man-red-gloves-scaled.jpg
END:VEVENT
BEGIN:VEVENT
DTSTART;TZID=America/Los_Angeles:20241017T160000
DTEND;TZID=America/Los_Angeles:20241017T200000
DTSTAMP:20260425T191802
CREATED:20230811T184630Z
LAST-MODIFIED:20240816T172641Z
UID:6949-1729180800-1729195200@treerush.com
SUMMARY:Try-It Tickets
DESCRIPTION:Try-It Tickets (Save Big $$$$) \n 2 Hour Climb Time / Some High Courses Close prior to Our Posted Closing Time \nTry-It Tickets Sold 4:00pm-8:00pm \nClick HERE to see pricing\, details\, and availability!
URL:https://treerush.com/calendar/try-it-tickets-124/
CATEGORIES:Try-It Tickets
ATTACH;FMTTYPE=image/jpeg:https://treerush.com/wp-content/uploads/2023/08/Copy-of-TreeRush-Adventures-37-scaled.jpg
END:VEVENT
BEGIN:VEVENT
DTSTART;TZID=America/Los_Angeles:20241018T140000
DTEND;TZID=America/Los_Angeles:20241018T220000
DTSTAMP:20260425T191802
CREATED:20231001T183914Z
LAST-MODIFIED:20240816T173527Z
UID:6977-1729260000-1729288800@treerush.com
SUMMARY:OPEN 2 pm-10 pm
DESCRIPTION:  \nThe Park is open from 2 PM – 10 PM! \nLast Ticket Start Time 7 PM \nClick HERE to see pricing\, details\, and availability!
URL:https://treerush.com/calendar/open-2-pm-10-pm-8/
CATEGORIES:OPEN HOURS
ATTACH;FMTTYPE=image/jpeg:https://treerush.com/wp-content/uploads/2023/10/ginger-man-red-gloves-scaled.jpg
END:VEVENT
BEGIN:VEVENT
DTSTART;TZID=America/Los_Angeles:20241018T180000
DTEND;TZID=America/Los_Angeles:20241018T220000
DTSTAMP:20260425T191802
CREATED:20230402T222531Z
LAST-MODIFIED:20240816T172356Z
UID:6939-1729274400-1729288800@treerush.com
SUMMARY:GLOW NIGHT
DESCRIPTION:Zip & Climb Party in the Trees\nTickets Sold 6:00pm – 7:15pm \nDJ / FREE Glow Souvenirs / 2 to 3 Hour Experience / Ages 7 & UP \nClick HERE for pricing\, details\, & Availability!
URL:https://treerush.com/calendar/glow-night-68/
CATEGORIES:GLOW
ATTACH;FMTTYPE=image/jpeg:https://treerush.com/wp-content/uploads/2023/04/Copy-of-treerush7856-scaled.jpg
END:VEVENT
BEGIN:VEVENT
DTSTART;TZID=America/Los_Angeles:20241019T100000
DTEND;TZID=America/Los_Angeles:20241019T220000
DTSTAMP:20260425T191802
CREATED:20231001T183914Z
LAST-MODIFIED:20240816T173108Z
UID:6965-1729332000-1729375200@treerush.com
SUMMARY:OPEN 10 am-10 pm
DESCRIPTION:  \nThe Park is open from 10 AM – 10 PM! \nLast Ticket Start Time 7 PM \nClick HERE to see pricing\, details\, and availability!
URL:https://treerush.com/calendar/open-10-am-10-pm-7/
CATEGORIES:OPEN HOURS
ATTACH;FMTTYPE=image/jpeg:https://treerush.com/wp-content/uploads/2023/10/ginger-man-red-gloves-scaled.jpg
END:VEVENT
BEGIN:VEVENT
DTSTART;TZID=America/Los_Angeles:20241019T180000
DTEND;TZID=America/Los_Angeles:20241019T220000
DTSTAMP:20260425T191802
CREATED:20230402T222531Z
LAST-MODIFIED:20240816T172409Z
UID:6941-1729360800-1729375200@treerush.com
SUMMARY:GLOW NIGHT
DESCRIPTION:Zip & Climb Party in the Trees\nTickets Sold 6:00pm – 7:15pm \nDJ / FREE Glow Souvenirs / 2 to 3 Hour Experience / Ages 7 & UP \nClick HERE for pricing\, details\, & Availability!
URL:https://treerush.com/calendar/glow-night-69/
CATEGORIES:GLOW
ATTACH;FMTTYPE=image/jpeg:https://treerush.com/wp-content/uploads/2023/04/Copy-of-treerush7856-scaled.jpg
END:VEVENT
BEGIN:VEVENT
DTSTART;TZID=America/Los_Angeles:20241020T100000
DTEND;TZID=America/Los_Angeles:20241020T220000
DTSTAMP:20260425T191802
CREATED:20231001T183914Z
LAST-MODIFIED:20240816T172932Z
UID:6957-1729418400-1729461600@treerush.com
SUMMARY:OPEN 10 am-10 pm
DESCRIPTION:  \nThe Park is open from 10 AM – 10 PM! \nLast Ticket Start Time 7 PM \nClick HERE to see pricing\, details\, and availability!
URL:https://treerush.com/calendar/open-10-am-10-pm-3/
CATEGORIES:OPEN HOURS
ATTACH;FMTTYPE=image/jpeg:https://treerush.com/wp-content/uploads/2023/10/ginger-man-red-gloves-scaled.jpg
END:VEVENT
BEGIN:VEVENT
DTSTART;TZID=America/Los_Angeles:20241024T140000
DTEND;TZID=America/Los_Angeles:20241024T220000
DTSTAMP:20260425T191802
CREATED:20231001T183914Z
LAST-MODIFIED:20240816T173550Z
UID:6979-1729778400-1729807200@treerush.com
SUMMARY:OPEN 2 pm-10 pm
DESCRIPTION:  \nThe Park is open from 2 PM – 10 PM! \nLast Ticket Start Time 7 PM \nClick HERE to see pricing\, details\, and availability!
URL:https://treerush.com/calendar/open-2-pm-10-pm-9/
CATEGORIES:OPEN HOURS
ATTACH;FMTTYPE=image/jpeg:https://treerush.com/wp-content/uploads/2023/10/ginger-man-red-gloves-scaled.jpg
END:VEVENT
BEGIN:VEVENT
DTSTART;TZID=America/Los_Angeles:20241024T160000
DTEND;TZID=America/Los_Angeles:20241024T200000
DTSTAMP:20260425T191802
CREATED:20230811T184630Z
LAST-MODIFIED:20240816T172655Z
UID:6951-1729785600-1729800000@treerush.com
SUMMARY:Try-It Tickets
DESCRIPTION:Try-It Tickets (Save Big $$$$) \n 2 Hour Climb Time / Some High Courses Close prior to Our Posted Closing Time \nTry-It Tickets Sold 4:00pm-8:00pm \nClick HERE to see pricing\, details\, and availability!
URL:https://treerush.com/calendar/try-it-tickets-125/
CATEGORIES:Try-It Tickets
ATTACH;FMTTYPE=image/jpeg:https://treerush.com/wp-content/uploads/2023/08/Copy-of-TreeRush-Adventures-37-scaled.jpg
END:VEVENT
BEGIN:VEVENT
DTSTART;TZID=America/Los_Angeles:20241025T140000
DTEND;TZID=America/Los_Angeles:20241025T220000
DTSTAMP:20260425T191802
CREATED:20231001T183914Z
LAST-MODIFIED:20240816T173610Z
UID:6981-1729864800-1729893600@treerush.com
SUMMARY:OPEN 2 pm-10 pm
DESCRIPTION:  \nThe Park is open from 2 PM – 10 PM! \nLast Ticket Start Time 7 PM \nClick HERE to see pricing\, details\, and availability!
URL:https://treerush.com/calendar/open-2-pm-10-pm-10/
CATEGORIES:OPEN HOURS
ATTACH;FMTTYPE=image/jpeg:https://treerush.com/wp-content/uploads/2023/10/ginger-man-red-gloves-scaled.jpg
END:VEVENT
BEGIN:VEVENT
DTSTART;TZID=America/Los_Angeles:20241025T180000
DTEND;TZID=America/Los_Angeles:20241025T220000
DTSTAMP:20260425T191802
CREATED:20230402T222531Z
LAST-MODIFIED:20240816T172426Z
UID:6943-1729879200-1729893600@treerush.com
SUMMARY:GLOW NIGHT
DESCRIPTION:Zip & Climb Party in the Trees\nTickets Sold 6:00pm – 7:15pm \nDJ / FREE Glow Souvenirs / 2 to 3 Hour Experience / Ages 7 & UP \nClick HERE for pricing\, details\, & Availability!
URL:https://treerush.com/calendar/glow-night-70/
CATEGORIES:GLOW
ATTACH;FMTTYPE=image/jpeg:https://treerush.com/wp-content/uploads/2023/04/Copy-of-treerush7856-scaled.jpg
END:VEVENT
BEGIN:VEVENT
DTSTART;TZID=America/Los_Angeles:20241026T100000
DTEND;TZID=America/Los_Angeles:20241026T220000
DTSTAMP:20260425T191802
CREATED:20231001T183914Z
LAST-MODIFIED:20240816T173131Z
UID:6967-1729936800-1729980000@treerush.com
SUMMARY:OPEN 10 am-10 pm
DESCRIPTION:  \nThe Park is open from 10 AM – 10 PM! \nLast Ticket Start Time 7 PM \nClick HERE to see pricing\, details\, and availability!
URL:https://treerush.com/calendar/open-10-am-10-pm-8/
CATEGORIES:OPEN HOURS
ATTACH;FMTTYPE=image/jpeg:https://treerush.com/wp-content/uploads/2023/10/ginger-man-red-gloves-scaled.jpg
END:VEVENT
BEGIN:VEVENT
DTSTART;TZID=America/Los_Angeles:20241026T180000
DTEND;TZID=America/Los_Angeles:20241026T220000
DTSTAMP:20260425T191802
CREATED:20230402T222531Z
LAST-MODIFIED:20240816T172441Z
UID:6945-1729965600-1729980000@treerush.com
SUMMARY:GLOW NIGHT
DESCRIPTION:Zip & Climb Party in the Trees\nTickets Sold 6:00pm – 7:15pm \nDJ / FREE Glow Souvenirs / 2 to 3 Hour Experience / Ages 7 & UP \nClick HERE for pricing\, details\, & Availability!
URL:https://treerush.com/calendar/glow-night-71/
CATEGORIES:GLOW
ATTACH;FMTTYPE=image/jpeg:https://treerush.com/wp-content/uploads/2023/04/Copy-of-treerush7856-scaled.jpg
END:VEVENT
BEGIN:VEVENT
DTSTART;TZID=America/Los_Angeles:20241027T100000
DTEND;TZID=America/Los_Angeles:20241027T220000
DTSTAMP:20260425T191802
CREATED:20231001T183914Z
LAST-MODIFIED:20240816T172951Z
UID:6959-1730023200-1730066400@treerush.com
SUMMARY:OPEN 10 am-10 pm
DESCRIPTION:  \nThe Park is open from 10 AM – 10 PM! \nLast Ticket Start Time 7 PM \nClick HERE to see pricing\, details\, and availability!
URL:https://treerush.com/calendar/open-10-am-10-pm-4/
CATEGORIES:OPEN HOURS
ATTACH;FMTTYPE=image/jpeg:https://treerush.com/wp-content/uploads/2023/10/ginger-man-red-gloves-scaled.jpg
END:VEVENT
BEGIN:VEVENT
DTSTART;TZID=America/Los_Angeles:20241102T100000
DTEND;TZID=America/Los_Angeles:20241102T180000
DTSTAMP:20260425T191802
CREATED:20231001T183914Z
LAST-MODIFIED:20241011T194621Z
UID:7049-1730541600-1730570400@treerush.com
SUMMARY:OPEN 10 am-6 pm
DESCRIPTION:  \nThe Park is open from 10 AM – 6 PM! \nLast Ticket Start Time 3 PM \nClick HERE to see pricing\, details\, and availability!
URL:https://treerush.com/calendar/open-10-am-6-pm-6/
CATEGORIES:OPEN HOURS
ATTACH;FMTTYPE=image/jpeg:https://treerush.com/wp-content/uploads/2023/10/ginger-man-red-gloves-scaled.jpg
END:VEVENT
BEGIN:VEVENT
DTSTART;TZID=America/Los_Angeles:20241102T140000
DTEND;TZID=America/Los_Angeles:20241102T160000
DTSTAMP:20260425T191802
CREATED:20230811T184630Z
LAST-MODIFIED:20241011T195929Z
UID:7103-1730556000-1730563200@treerush.com
SUMMARY:Try-It Tickets
DESCRIPTION:Try-It Tickets (Save Big $$$$) \n 2 Hour Climb Time / Some High Courses Close prior to Our Posted Closing Time \nTry-It Tickets Sold 2:00pm-4:00pm \nClick HERE to see pricing\, details\, and availability!
URL:https://treerush.com/calendar/try-it-tickets-126/
CATEGORIES:Try-It Tickets
ATTACH;FMTTYPE=image/jpeg:https://treerush.com/wp-content/uploads/2023/08/Copy-of-TreeRush-Adventures-37-scaled.jpg
END:VEVENT
BEGIN:VEVENT
DTSTART;TZID=America/Los_Angeles:20241103T100000
DTEND;TZID=America/Los_Angeles:20241103T180000
DTSTAMP:20260425T191802
CREATED:20231001T183914Z
LAST-MODIFIED:20241011T194659Z
UID:7053-1730628000-1730656800@treerush.com
SUMMARY:OPEN 10 am-6 pm
DESCRIPTION:  \nThe Park is open from 10 AM – 6 PM! \nLast Ticket Start Time 3 PM \nClick HERE to see pricing\, details\, and availability!
URL:https://treerush.com/calendar/open-10-am-6-pm-7/
CATEGORIES:OPEN HOURS
ATTACH;FMTTYPE=image/jpeg:https://treerush.com/wp-content/uploads/2023/10/ginger-man-red-gloves-scaled.jpg
END:VEVENT
BEGIN:VEVENT
DTSTART;TZID=America/Los_Angeles:20241103T140000
DTEND;TZID=America/Los_Angeles:20241103T160000
DTSTAMP:20260425T191802
CREATED:20230811T184630Z
LAST-MODIFIED:20241011T200006Z
UID:7107-1730642400-1730649600@treerush.com
SUMMARY:Try-It Tickets
DESCRIPTION:Try-It Tickets (Save Big $$$$) \n 2 Hour Climb Time / Some High Courses Close prior to Our Posted Closing Time \nTry-It Tickets Sold 2:00pm-4:00pm \nClick HERE to see pricing\, details\, and availability!
URL:https://treerush.com/calendar/try-it-tickets-127/
CATEGORIES:Try-It Tickets
ATTACH;FMTTYPE=image/jpeg:https://treerush.com/wp-content/uploads/2023/08/Copy-of-TreeRush-Adventures-37-scaled.jpg
END:VEVENT
BEGIN:VEVENT
DTSTART;TZID=America/Los_Angeles:20241109T100000
DTEND;TZID=America/Los_Angeles:20241109T180000
DTSTAMP:20260425T191802
CREATED:20231001T183914Z
LAST-MODIFIED:20241011T194741Z
UID:7056-1731146400-1731175200@treerush.com
SUMMARY:OPEN 10 am-6 pm
DESCRIPTION:  \nThe Park is open from 10 AM – 6 PM! \nLast Ticket Start Time 3 PM \nClick HERE to see pricing\, details\, and availability!
URL:https://treerush.com/calendar/open-10-am-6-pm-8/
CATEGORIES:OPEN HOURS
ATTACH;FMTTYPE=image/jpeg:https://treerush.com/wp-content/uploads/2023/10/ginger-man-red-gloves-scaled.jpg
END:VEVENT
BEGIN:VEVENT
DTSTART;TZID=America/Los_Angeles:20241109T140000
DTEND;TZID=America/Los_Angeles:20241109T160000
DTSTAMP:20260425T191802
CREATED:20230811T184630Z
LAST-MODIFIED:20241011T200029Z
UID:7110-1731160800-1731168000@treerush.com
SUMMARY:Try-It Tickets
DESCRIPTION:Try-It Tickets (Save Big $$$$) \n 2 Hour Climb Time / Some High Courses Close prior to Our Posted Closing Time \nTry-It Tickets Sold 2:00pm-4:00pm \nClick HERE to see pricing\, details\, and availability!
URL:https://treerush.com/calendar/try-it-tickets-128/
CATEGORIES:Try-It Tickets
ATTACH;FMTTYPE=image/jpeg:https://treerush.com/wp-content/uploads/2023/08/Copy-of-TreeRush-Adventures-37-scaled.jpg
END:VEVENT
BEGIN:VEVENT
DTSTART;TZID=America/Los_Angeles:20241110T100000
DTEND;TZID=America/Los_Angeles:20241110T180000
DTSTAMP:20260425T191802
CREATED:20231001T183914Z
LAST-MODIFIED:20241011T194811Z
UID:7059-1731232800-1731261600@treerush.com
SUMMARY:OPEN 10 am-6 pm
DESCRIPTION:  \nThe Park is open from 10 AM – 6 PM! \nLast Ticket Start Time 3 PM \nClick HERE to see pricing\, details\, and availability!
URL:https://treerush.com/calendar/open-10-am-6-pm-9/
CATEGORIES:OPEN HOURS
ATTACH;FMTTYPE=image/jpeg:https://treerush.com/wp-content/uploads/2023/10/ginger-man-red-gloves-scaled.jpg
END:VEVENT
BEGIN:VEVENT
DTSTART;TZID=America/Los_Angeles:20241110T140000
DTEND;TZID=America/Los_Angeles:20241110T160000
DTSTAMP:20260425T191802
CREATED:20230811T184630Z
LAST-MODIFIED:20241011T200050Z
UID:7113-1731247200-1731254400@treerush.com
SUMMARY:Try-It Tickets
DESCRIPTION:Try-It Tickets (Save Big $$$$) \n 2 Hour Climb Time / Some High Courses Close prior to Our Posted Closing Time \nTry-It Tickets Sold 2:00pm-4:00pm \nClick HERE to see pricing\, details\, and availability!
URL:https://treerush.com/calendar/try-it-tickets-129/
CATEGORIES:Try-It Tickets
ATTACH;FMTTYPE=image/jpeg:https://treerush.com/wp-content/uploads/2023/08/Copy-of-TreeRush-Adventures-37-scaled.jpg
END:VEVENT
BEGIN:VEVENT
DTSTART;TZID=America/Los_Angeles:20241116T100000
DTEND;TZID=America/Los_Angeles:20241116T180000
DTSTAMP:20260425T191802
CREATED:20231001T183914Z
LAST-MODIFIED:20241011T194839Z
UID:7062-1731751200-1731780000@treerush.com
SUMMARY:OPEN 10 am-6 pm
DESCRIPTION:  \nThe Park is open from 10 AM – 6 PM! \nLast Ticket Start Time 3 PM \nClick HERE to see pricing\, details\, and availability!
URL:https://treerush.com/calendar/open-10-am-6-pm-10/
CATEGORIES:OPEN HOURS
ATTACH;FMTTYPE=image/jpeg:https://treerush.com/wp-content/uploads/2023/10/ginger-man-red-gloves-scaled.jpg
END:VEVENT
BEGIN:VEVENT
DTSTART;TZID=America/Los_Angeles:20241116T140000
DTEND;TZID=America/Los_Angeles:20241116T160000
DTSTAMP:20260425T191802
CREATED:20230811T184630Z
LAST-MODIFIED:20241011T200111Z
UID:7116-1731765600-1731772800@treerush.com
SUMMARY:Try-It Tickets
DESCRIPTION:Try-It Tickets (Save Big $$$$) \n 2 Hour Climb Time / Some High Courses Close prior to Our Posted Closing Time \nTry-It Tickets Sold 2:00pm-4:00pm \nClick HERE to see pricing\, details\, and availability!
URL:https://treerush.com/calendar/try-it-tickets-130/
CATEGORIES:Try-It Tickets
ATTACH;FMTTYPE=image/jpeg:https://treerush.com/wp-content/uploads/2023/08/Copy-of-TreeRush-Adventures-37-scaled.jpg
END:VEVENT
END:VCALENDAR