
BEGIN:VCALENDAR
VERSION:2.0
PRODID:-//TreeRush Adventures - ECPv6.6.0.1//NONSGML v1.0//EN
CALSCALE:GREGORIAN
METHOD:PUBLISH
X-ORIGINAL-URL:https://treerush.com
X-WR-CALDESC:Events for TreeRush Adventures
REFRESH-INTERVAL;VALUE=DURATION:PT1H
X-Robots-Tag:noindex
X-PUBLISHED-TTL:PT1H
BEGIN:VTIMEZONE
TZID:America/Los_Angeles
BEGIN:DAYLIGHT
TZOFFSETFROM:-0800
TZOFFSETTO:-0700
TZNAME:PDT
DTSTART:20230312T100000
END:DAYLIGHT
BEGIN:STANDARD
TZOFFSETFROM:-0700
TZOFFSETTO:-0800
TZNAME:PST
DTSTART:20231105T090000
END:STANDARD
END:VTIMEZONE
BEGIN:VEVENT
DTSTART;TZID=America/Los_Angeles:20231104T100000
DTEND;TZID=America/Los_Angeles:20231104T180000
DTSTAMP:20260425T091316
CREATED:20231001T183914Z
LAST-MODIFIED:20231001T185748Z
UID:6158-1699092000-1699120800@treerush.com
SUMMARY:OPEN 10am-6pm
DESCRIPTION:The Park is open from 10 AM – 6 PM! \nLast Ticket Start Time 3 PM \nClick HERE to see pricing\, details\, and availability!
URL:https://treerush.com/calendar/open-10am-6pm-69/
CATEGORIES:OPEN HOURS
ATTACH;FMTTYPE=image/jpeg:https://treerush.com/wp-content/uploads/2023/03/Drone-Image-scaled.jpg
END:VEVENT
BEGIN:VEVENT
DTSTART;TZID=America/Los_Angeles:20231105T100000
DTEND;TZID=America/Los_Angeles:20231105T180000
DTSTAMP:20260425T091316
CREATED:20231001T183914Z
LAST-MODIFIED:20231001T185809Z
UID:6160-1699178400-1699207200@treerush.com
SUMMARY:OPEN 10am-6pm
DESCRIPTION:The Park is open from 10 AM – 6 PM! \nLast Ticket Start Time 3 PM \nClick HERE to see pricing\, details\, and availability!
URL:https://treerush.com/calendar/open-10am-6pm-70/
CATEGORIES:OPEN HOURS
ATTACH;FMTTYPE=image/jpeg:https://treerush.com/wp-content/uploads/2023/03/Drone-Image-scaled.jpg
END:VEVENT
BEGIN:VEVENT
DTSTART;TZID=America/Los_Angeles:20231111T100000
DTEND;TZID=America/Los_Angeles:20231111T180000
DTSTAMP:20260425T091316
CREATED:20231001T183914Z
LAST-MODIFIED:20231001T185826Z
UID:6162-1699696800-1699725600@treerush.com
SUMMARY:OPEN 10am-6pm
DESCRIPTION:The Park is open from 10 AM – 6 PM! \nLast Ticket Start Time 3 PM \nClick HERE to see pricing\, details\, and availability!
URL:https://treerush.com/calendar/open-10am-6pm-71/
CATEGORIES:OPEN HOURS
ATTACH;FMTTYPE=image/jpeg:https://treerush.com/wp-content/uploads/2023/03/Drone-Image-scaled.jpg
END:VEVENT
BEGIN:VEVENT
DTSTART;TZID=America/Los_Angeles:20231112T100000
DTEND;TZID=America/Los_Angeles:20231112T180000
DTSTAMP:20260425T091316
CREATED:20231001T183914Z
LAST-MODIFIED:20231001T185847Z
UID:6164-1699783200-1699812000@treerush.com
SUMMARY:OPEN 10am-6pm
DESCRIPTION:The Park is open from 10 AM – 6 PM! \nLast Ticket Start Time 3 PM \nClick HERE to see pricing\, details\, and availability!
URL:https://treerush.com/calendar/open-10am-6pm-72/
CATEGORIES:OPEN HOURS
ATTACH;FMTTYPE=image/jpeg:https://treerush.com/wp-content/uploads/2023/03/Drone-Image-scaled.jpg
END:VEVENT
BEGIN:VEVENT
DTSTART;TZID=America/Los_Angeles:20231118T100000
DTEND;TZID=America/Los_Angeles:20231118T180000
DTSTAMP:20260425T091316
CREATED:20231001T183914Z
LAST-MODIFIED:20231001T185908Z
UID:6166-1700301600-1700330400@treerush.com
SUMMARY:OPEN 10am-6pm
DESCRIPTION:The Park is open from 10 AM – 6 PM! \nLast Ticket Start Time 3 PM \nClick HERE to see pricing\, details\, and availability!
URL:https://treerush.com/calendar/open-10am-6pm-73/
CATEGORIES:OPEN HOURS
ATTACH;FMTTYPE=image/jpeg:https://treerush.com/wp-content/uploads/2023/03/Drone-Image-scaled.jpg
END:VEVENT
BEGIN:VEVENT
DTSTART;TZID=America/Los_Angeles:20231119T100000
DTEND;TZID=America/Los_Angeles:20231119T180000
DTSTAMP:20260425T091316
CREATED:20231001T183914Z
LAST-MODIFIED:20231001T185924Z
UID:6168-1700388000-1700416800@treerush.com
SUMMARY:OPEN 10am-6pm
DESCRIPTION:The Park is open from 10 AM – 6 PM! \nLast Ticket Start Time 3 PM \nClick HERE to see pricing\, details\, and availability!
URL:https://treerush.com/calendar/open-10am-6pm-74/
CATEGORIES:OPEN HOURS
ATTACH;FMTTYPE=image/jpeg:https://treerush.com/wp-content/uploads/2023/03/Drone-Image-scaled.jpg
END:VEVENT
BEGIN:VEVENT
DTSTART;TZID=America/Los_Angeles:20231124T100000
DTEND;TZID=America/Los_Angeles:20231124T180000
DTSTAMP:20260425T091316
CREATED:20231001T183914Z
LAST-MODIFIED:20231001T185940Z
UID:6170-1700820000-1700848800@treerush.com
SUMMARY:OPEN 10am-6pm
DESCRIPTION:The Park is open from 10 AM – 6 PM! \nLast Ticket Start Time 3 PM \nClick HERE to see pricing\, details\, and availability!
URL:https://treerush.com/calendar/open-10am-6pm-75/
CATEGORIES:OPEN HOURS
ATTACH;FMTTYPE=image/jpeg:https://treerush.com/wp-content/uploads/2023/03/Drone-Image-scaled.jpg
END:VEVENT
BEGIN:VEVENT
DTSTART;TZID=America/Los_Angeles:20231125T100000
DTEND;TZID=America/Los_Angeles:20231125T180000
DTSTAMP:20260425T091316
CREATED:20231001T183914Z
LAST-MODIFIED:20231001T185957Z
UID:6172-1700906400-1700935200@treerush.com
SUMMARY:OPEN 10am-6pm
DESCRIPTION:The Park is open from 10 AM – 6 PM! \nLast Ticket Start Time 3 PM \nClick HERE to see pricing\, details\, and availability!
URL:https://treerush.com/calendar/open-10am-6pm-76/
CATEGORIES:OPEN HOURS
ATTACH;FMTTYPE=image/jpeg:https://treerush.com/wp-content/uploads/2023/03/Drone-Image-scaled.jpg
END:VEVENT
BEGIN:VEVENT
DTSTART;TZID=America/Los_Angeles:20231126T100000
DTEND;TZID=America/Los_Angeles:20231126T180000
DTSTAMP:20260425T091316
CREATED:20231001T183914Z
LAST-MODIFIED:20231001T190018Z
UID:6174-1700992800-1701021600@treerush.com
SUMMARY:OPEN 10am-6pm
DESCRIPTION:The Park is open from 10 AM – 6 PM! \nLast Ticket Start Time 3 PM \nClick HERE to see pricing\, details\, and availability!
URL:https://treerush.com/calendar/open-10am-6pm-77/
CATEGORIES:OPEN HOURS
ATTACH;FMTTYPE=image/jpeg:https://treerush.com/wp-content/uploads/2023/03/Drone-Image-scaled.jpg
END:VEVENT
END:VCALENDAR